Workbook
Name OLE_LINK1: 'Annex 3 Preserved charges'!#REF!

Sheet Overview
A2: Company and Licence name, charging year, effective from, status
B3: Company and Licence name | C3: Year | D3: Effective From | E3: Status
A4: Company and Licence name, charging year, effective from, status | B4: Aidien Limited - GSP_B | C4: 2025/26 | D4: 1 April 2025 | E4: Final
A6: List of data tables in this workbook
A7: Worksheet | B7: Information
A8: Annex 1 LV, HV and Unmetered Supplies charges | B8: Annex 1 contains the charges to LV and HV Designated Properties and Unmetered Supplies.
A9: Annex 2 Designated EHV charges | B9: ="Annex 2 contains the charges to Designated EHV Properties and charges applied to LDNOs with Designated EHV Properties/end-users embedded in networks within the " &B4 &" Licence area." -> Annex 2 contains the charges to Designated EHV Properties and charges applied to LDNOs with Designated EHV Properties/end-users embedded in networks within the Aidien Limited - GSP_B Licence area.
A10: Annex 3 Preserved charges | B10: Annex 3 contains details of any preserved and additional charges that are valid at this time.
A11: Annex 4 LDNO charges | B11: ="Annex 4 contains charges that are levied on the owner of an embedded network within the "&B4&" Licence area. "&"Electricity suppliers and consumers who have properties connected to an embedded network should contact the embedded network owner to determine their distribution charges."&" The charges listed in this table are not payable by domestic consumers, business consumers or electricity suppliers." -> Annex 4 contains charges that are levied on the owner of an embedded network within the Aidien Limited - GSP_B Licence area. Electricity suppliers and consumers who have properties connected to an embedded network should contact the embedded network owner to determine their distribution charges. The charges listed in this table are not payable by domestic consumers, business consumers or electricity suppliers.
A12: Annex 5 LLFs | B12: Annex 5 has been intentionally left blank as this charging statement is published a complete year before the LLFs have been audited. The line loss factors that are approved by the BSC Panel for the applicable year and consequently published on the Elexon website will take precedence and be used in Settlement. This annex will be re-published with these values once they are available.
A13: Annex 6 Charges for New or Amended Designated EHV Properties | B13: ="Annex 6 contains the charges for new or amended Designated EHV Properties and charges applied to LDNOs with new or amended Designated EHV Properties/end-users embedded in networks within the " &B4 &" Licence area." -> Annex 6 contains the charges for new or amended Designated EHV Properties and charges applied to LDNOs with new or amended Designated EHV Properties/end-users embedded in networks within the Aidien Limited - GSP_B Licence area.
A14: Annex 7 Fixed adders for Supplier of Last Resort and Eligible Bad Debt pass-through costs | B14: Annex 7 contains the fixed adders to recover Supplier of Last Resort and Eligible Bad Debt pass-through costs. The Excess Supplier of Last Resort fixed adder relates to an increase to previously published charges only.
A15: Nodal prices | B15: Contains the underlying [nodal/network group] costs used to calculate the current EDCM charges.
A16: SSC unit rate lookup | B16: Contains a mapping of Standard Settlement Configurations to common decodings
A17: Residual Charging Bandings | B17: Contains the four Residual charging band allocation for Customers
A18: TNUoS Mapping | B18: Contains a mapping of DUoS Tariffs to TNUoS Site Charging Bands
A19: Charge calculator | B19: Charge calculator is a tool to help you estimate your distribution charges using current consumption data and forecast consumption data.
A21: Notes to users of this spreadsheet
A23: Please use this spreadsheet with reference to the LC14 use of system charging statement.
A25: Notes to DNOs populating this spreadsheet
A27: DNOs must endeavour to maintain consistency in the structure of this spreadsheet. Any changes to the structure must be noted in the 'Notes to users of this spreadsheet'
A28: The drop down list on the charge calculator can be expanded by unprotecting the charge calculator sheet and selecting 'data', 'data validation...' and then expanding the 'source' data range. The sheet can then be protected.

Sheet Annex 1 LV, HV and UMS charges
A1: Back to Overview | B1: 'DNOs paste value cells A15:J47 from CDCM 3701 into cells A14:J46
A2: =Overview!B4& " - Effective from "&Overview!D4&" - "&Overview!E4&" LV and HV charges" -> Aidien Limited - GSP_B - Effective from 1 April 2025 - Final LV and HV charges
A4: Time Bands for LV and HV Designated Properties | G4: Time Bands for Unmetered Properties
A5: Time periods | B5: Red Time Band | C5: Amber Time Band | E5: Green Time Band | I5: Black Time Band | J5: Yellow Time Band | K5: Green Time Band
A6: Monday to Friday (Including Bank Holidays) All Year | B6: 16:00 - 19:00 | C6: 07:30 to 16:00 19:00 to 21:00 | E6: 00:00 to 07:30 21:00 to 24:00 | G6: Monday to Friday (Including Bank Holidays) Nov to Feb Inclusive | I6: 16:00 to 19:00 | J6: 07:30 to 16:00 19:00 to 21:00 | K6: 00:00 to 07:30 21:00 to 24:00
A7: Saturday and Sunday All Year | E7: 00:00 to 24:00 | G7: Monday to Friday (Including Bank Holidays) Mar to Oct Inclusive | J7: 07:30 to 21:00 | K7: 00:00 to 07:30 21:00 to 24:00
A8: Notes | B8: All the above times are in UK Clock time | G8: Saturday and Sunday All year | K8: 00:00 to 24:00
G9: Notes | I9: All the above times are in UK Clock time
A11: Tariff name | B11: Open LLFCs | C11: PCs | D11: Red/black unit charge p/kWh | E11: Amber/yellow unit charge p/kWh | F11: Green unit charge p/kWh | G11: Fixed charge p/MPAN/day | H11: Capacity charge p/kVA/day | I11: Exceeded capacity charge p/kVA/day | J11: Reactive power charge p/kVArh | K11: Closed LLFCs
A12: Domestic Aggregated or CT with Residual | B12: B01,B02,B03 | C12: 0, 1, 2 | D12: 10.271 | E12: 1.943 | F12: 0.142 | G12: 8.6 | H12: 0 | I12: 0 | J12: 0
A13: Domestic Aggregated (Related MPAN) | B13: B04,B05,B06 | C13: 2 | D13: 10.271 | E13: 1.943 | F13: 0.142 | G13: 0 | H13: 0 | I13: 0 | J13: 0
A14: Non-Domestic Aggregated or CT No Residual | B14: B07,B08,B09 | C14: 0, 3, 4, 5-8 | D14: 10.516 | E14: 1.989 | F14: 0.146 | G14: 11.63 | H14: 0 | I14: 0 | J14: 0
A15: Non-Domestic Aggregated or CT Band 1 | B15: B10,B11,B12 | C15: 0, 3, 4, 5-8 | D15: 10.516 | E15: 1.989 | F15: 0.146 | G15: 14.21 | H15: 0 | I15: 0 | J15: 0
A16: Non-Domestic Aggregated or CT Band 2 | B16: B13,B14,B15 | C16: 0, 3, 4, 5-8 | D16: 10.516 | E16: 1.989 | F16: 0.146 | G16: 15.91 | H16: 0 | I16: 0 | J16: 0
A17: Non-Domestic Aggregated or CT Band 3 | B17: B16,B17,B18 | C17: 0, 3, 4, 5-8 | D17: 10.516 | E17: 1.989 | F17: 0.146 | G17: 20.79 | H17: 0 | I17: 0 | J17: 0
A18: Non-Domestic Aggregated or CT Band 4 | B18: B19,B20,B21 | C18: 0, 3, 4, 5-8 | D18: 10.516 | E18: 1.989 | F18: 0.146 | G18: 36.93 | H18: 0 | I18: 0 | J18: 0
A19: Non-Domestic Aggregated (related MPAN) | B19: B22,B23,B24 | C19: 4 | D19: 10.516 | E19: 1.989 | F19: 0.146 | G19: 0 | H19: 0 | I19: 0 | J19: 0
A20: LV Site Specific No Residual | B20: B25,B26,B27 | C20: 0 | D20: 6.621 | E20: 1.214 | F20: 0.087 | G20: 14.21 | H20: 7.72 | I20: 7.72 | J20: 0.184
A21: LV Site Specific Band 1 | B21: B28,B29,B30 | C21: 0 | D21: 6.621 | E21: 1.214 | F21: 0.087 | G21: 61.19 | H21: 7.72 | I21: 7.72 | J21: 0.184
A22: LV Site Specific Band 2 | B22: B31,B32,B33 | C22: 0 | D22: 6.621 | E22: 1.214 | F22: 0.087 | G22: 92.33 | H22: 7.72 | I22: 7.72 | J22: 0.184
A23: LV Site Specific Band 3 | B23: B34,B35,B36 | C23: 0 | D23: 6.621 | E23: 1.214 | F23: 0.087 | G23: 137.64 | H23: 7.72 | I23: 7.72 | J23: 0.184
A24: LV Site Specific Band 4 | B24: B37,B38,B39 | C24: 0 | D24: 6.621 | E24: 1.214 | F24: 0.087 | G24: 270.96 | H24: 7.72 | I24: 7.72 | J24: 0.184
A25: LV Sub Site Specific No Residual | B25: B40,B41 | C25: 0 | D25: 4.224 | E25: 0.718 | F25: 0.048 | G25: 11.08 | H25: 7.55 | I25: 7.55 | J25: 0.116
A26: LV Sub Site Specific Band 1 | B26: B42,B43 | C26: 0 | D26: 4.224 | E26: 0.718 | F26: 0.048 | G26: 58.06 | H26: 7.55 | I26: 7.55 | J26: 0.116
A27: LV Sub Site Specific Band 2 | B27: B44,B45 | C27: 0 | D27: 4.224 | E27: 0.718 | F27: 0.048 | G27: 89.21 | H27: 7.55 | I27: 7.55 | J27: 0.116
A28: LV Sub Site Specific Band 3 | B28: B46,B47 | C28: 0 | D28: 4.224 | E28: 0.718 | F28: 0.048 | G28: 134.51 | H28: 7.55 | I28: 7.55 | J28: 0.116
A29: LV Sub Site Specific Band 4 | B29: B48,B49 | C29: 0 | D29: 4.224 | E29: 0.718 | F29: 0.048 | G29: 267.83 | H29: 7.55 | I29: 7.55 | J29: 0.116
A30: HV Site Specific No Residual | B30: B50,B51 | C30: 0 | D30: 2.431 | E30: 0.37 | F30: 0.022 | G30: 102.53 | H30: 8.76 | I30: 8.76 | J30: 0.058
A31: HV Site Specific Band 1 | B31: B52,B53 | C31: 0 | D31: 2.431 | E31: 0.37 | F31: 0.022 | G31: 340.7 | H31: 8.76 | I31: 8.76 | J31: 0.058
... A34: HV Site Specific Band 4 | B34: B58,B59 | C34: 0 | D34: 2.431 | E34: 0.37 | F34: 0.022 | G34: 4161.88 | H34: 8.76 | I34: 8.76 | J34: 0.058
A35: Unmetered Supplies | B35: B60,B61,B62 | C35: 0, 1 or 8 | D35: 25.526 | E35: 3.538 | F35: 1.349 | G35: 0 | H35: 0 | I35: 0 | J35: 0
A36: LV Generation Aggregated | B36: B63,B64,B65 | C36: 0 | D36: -6.744 | E36: -1.276 | F36: -0.094 | G36: 0 | H36: 0 | I36: 0 | J36: 0
A37: LV Sub Generation Aggregated | B37: B66,B67 | C37: 0 | D37: -5.591 | E37: -1.037 | F37: -0.075 | G37: 0 | H37: 0 | I37: 0 | J37: 0
A38: LV Generation Site Specific | B38: B68,B69,B70 | C38: 0 | D38: -6.744 | E38: -1.276 | F38: -0.094 | G38: 0 | H38: 0 | I38: 0 | J38: 0.216
A39: LV Generation Site Specific no RP charge | B39: B71,B72,B73 | C39: 0 | D39: -6.744 | E39: -1.276 | F39: -0.094 | G39: 0 | H39: 0 | I39: 0 | J39: 0
A40: LV Sub Generation Site Specific | B40: B74,B75 | C40: 0 | D40: -5.591 | E40: -1.037 | F40: -0.075 | G40: 0 | H40: 0 | I40: 0 | J40: 0.16
A41: LV Sub Generation Site Specific no RP charge | B41: B76,B77 | C41: 0 | D41: -5.591 | E41: -1.037 | F41: -0.075 | G41: 0 | H41: 0 | I41: 0 | J41: 0
A42: HV Generation Site Specific | B42: B78,B79 | C42: 0 | D42: -3.414 | E42: -0.58 | F42: -0.039 | G42: 64.19 | H42: 0 | I42: 0 | J42: 0.133
A43: HV Generation Site Specific no RP charge | B43: B80,B81 | C43: 0 | D43: -3.414 | E43: -0.58 | F43: -0.039 | G43: 64.19 | H43: 0 | I43: 0 | J43: 0

Sheet Annex 2 Designated EHV charges
A1: Back to Overview | C1: Copy EDCM table 5001 range starting B101 and paste into G11. Extend or reduce print area as required. | F1: Note: The list of MPANs / MSIDs provided may be incomplete; the DNO reserves the right to apply the listed charges to any other MPANs / MSIDs associated with the site.
A2: =Overview!B4& " - Effective from "&[1]Overview!D4&" - "&Overview!E4&" Designated EHV charges" -> Aidien Limited - GSP_B - Effective from 1 April 2025 - Final Designated EHV charges
A4: Time Periods for Designated EHV Properties
A5: Time periods | D5: Super Red Time Band
A6: Monday to Friday (Including Bank Holidays) November to February Inclusive | D6: 16:00 to 19:00
A7: Notes | D7: All the above times are in UK Clock time
A10: Import Unique Identifier | B10: LLFC | C10: Import MPANs/MSIDs | D10: Export Unique Identifier | E10: LLFC | F10: Export MPANs/MSIDs | G10: Name | H10: Residual Charging Band | I10: Import Super Red unit charge (p/kWh) | J10: Import fixed charge (p/day) | K10: Import capacity charge (p/kVA/day) | L10: Import exceeded capacity charge (p/kVA/day) | M10: Export Super Red unit charge (p/kWh) | N10: Export fixed charge (p/day) | O10: Export capacity charge (p/kVA/day) | P10: Export exceeded capacity charge (p/kVA/day)

Sheet Annex 2a Import
A1: Note: The list of MPANs / MSIDs provided may be incomplete; the DNO reserves the right to apply the listed charges to any other MPANs / MSIDs associated with the site. Note: This table is automatically populated based on the content of the tab entitled 'Annex 2 EHV Charges'. The timebands are as shown in Annex 2.
A2: =Overview!B4& " - Effective from "&[1]Overview!D4&" - "&Overview!E4&" Designated EHV import charges" -> Aidien Limited - GSP_B - Effective from 1 April 2025 - Final Designated EHV import charges
A4: Import Unique Identifier | B4: LLFC | C4: Import MPANs/MSIDs | D4: Name | E4: ='Annex 2 Designated EHV charges'!I10 -> Import Super Red unit charge (p/kWh) | F4: ='Annex 2 Designated EHV charges'!J10 -> Import fixed charge (p/day) | G4: ='Annex 2 Designated EHV charges'!K10 -> Import capacity charge (p/kVA/day) | H4: ='Annex 2 Designated EHV charges'!L10 -> Import exceeded capacity charge (p/kVA/day)
A5: {=IFERROR(INDEX('Annex 2 Designated EHV charges'!$A$11:$A$400, MATCH(0, IF(ISBLANK('Annex 2 Designated EHV charges'!$A$11:$A$400),1, COUNTIF(A$4:$A4, 'Annex 2 Designated EHV charges'!$A$11:$A$400)), 0)),"")} | B5: =IF($A5="","",VLOOKUP($A5,'Annex 2 Designated EHV charges'!$A:$O,2,0)) | C5: =IF($A5="","",VLOOKUP($A5,'Annex 2 Designated EHV charges'!$A:$O,3,0)) | D5: =IF($A5="","",VLOOKUP($A5,'Annex 2 Designated EHV charges'!$A:$O,7,0)) | E5: =IFERROR(IF(VLOOKUP($A5,'Annex 2 Designated EHV charges'!$A:$P,COLUMN(E5)+4,FALSE)=0,"",VLOOKUP($A5,'Annex 2 Designated EHV charges'!$A:$P,COLUMN(E5)+4,FALSE)),"") | F5: =IFERROR(IF(VLOOKUP($A5,'Annex 2 Designated EHV charges'!$A:$P,COLUMN(F5)+4,FALSE)=0,"",VLOOKUP($A5,'Annex 2 Designated EHV charges'!$A:$P,COLUMN(F5)+4,FALSE)),"") | G5: =IFERROR(IF(VLOOKUP($A5,'Annex 2 Designated EHV charges'!$A:$P,COLUMN(G5)+4,FALSE)=0,"",VLOOKUP($A5,'Annex 2 Designated EHV charges'!$A:$P,COLUMN(G5)+4,FALSE)),"") | H5: =IFERROR(IF(VLOOKUP($A5,'Annex 2 Designated EHV charges'!$A:$P,COLUMN(H5)+4,FALSE)=0,"",VLOOKUP($A5,'Annex 2 Designated EHV charges'!$A:$P,COLUMN(H5)+4,FALSE)),"")
A6: {=IFERROR(INDEX('Annex 2 Designated EHV charges'!$A$11:$A$400, MATCH(0, IF(ISBLANK('Annex 2 Designated EHV charges'!$A$11:$A$400),1, COUNTIF(A$4:$A5, 'Annex 2 Designated EHV charges'!$A$11:$A$400)), 0)),"")} | B6: =IF($A6="","",VLOOKUP($A6,'Annex 2 Designated EHV charges'!$A:$O,2,0)) | C6: =IF($A6="","",VLOOKUP($A6,'Annex 2 Designated EHV charges'!$A:$O,3,0)) | D6: =IF($A6="","",VLOOKUP($A6,'Annex 2 Designated EHV charges'!$A:$O,7,0)) | E6: =IFERROR(IF(VLOOKUP($A6,'Annex 2 Designated EHV charges'!$A:$P,COLUMN(E6)+4,FALSE)=0,"",VLOOKUP($A6,'Annex 2 Designated EHV charges'!$A:$P,COLUMN(E6)+4,FALSE)),"") | F6: =IFERROR(IF(VLOOKUP($A6,'Annex 2 Designated EHV charges'!$A:$P,COLUMN(F6)+4,FALSE)=0,"",VLOOKUP($A6,'Annex 2 Designated EHV charges'!$A:$P,COLUMN(F6)+4,FALSE)),"") | G6: =IFERROR(IF(VLOOKUP($A6,'Annex 2 Designated EHV charges'!$A:$P,COLUMN(G6)+4,FALSE)=0,"",VLOOKUP($A6,'Annex 2 Designated EHV charges'!$A:$P,COLUMN(G6)+4,FALSE)),"") | H6: =IFERROR(IF(VLOOKUP($A6,'Annex 2 Designated EHV charges'!$A:$P,COLUMN(H6)+4,FALSE)=0,"",VLOOKUP($A6,'Annex 2 Designated EHV charges'!$A:$P,COLUMN(H6)+4,FALSE)),"")
A7: {=IFERROR(INDEX('Annex 2 Designated EHV charges'!$A$11:$A$400, MATCH(0, IF(ISBLANK('Annex 2 Designated EHV charges'!$A$11:$A$400),1, COUNTIF(A$4:$A6, 'Annex 2 Designated EHV charges'!$A$11:$A$400)), 0)),"")} | B7: =IF($A7="","",VLOOKUP($A7,'Annex 2 Designated EHV charges'!$A:$O,2,0)) | C7: =IF($A7="","",VLOOKUP($A7,'Annex 2 Designated EHV charges'!$A:$O,3,0)) | D7: =IF($A7="","",VLOOKUP($A7,'Annex 2 Designated EHV charges'!$A:$O,7,0)) | E7: =IFERROR(IF(VLOOKUP($A7,'Annex 2 Designated EHV charges'!$A:$P,COLUMN(E7)+4,FALSE)=0,"",VLOOKUP($A7,'Annex 2 Designated EHV charges'!$A:$P,COLUMN(E7)+4,FALSE)),"") | F7: =IFERROR(IF(VLOOKUP($A7,'Annex 2 Designated EHV charges'!$A:$P,COLUMN(F7)+4,FALSE)=0,"",VLOOKUP($A7,'Annex 2 Designated EHV charges'!$A:$P,COLUMN(F7)+4,FALSE)),"") | G7: =IFERROR(IF(VLOOKUP($A7,'Annex 2 Designated EHV charges'!$A:$P,COLUMN(G7)+4,FALSE)=0,"",VLOOKUP($A7,'Annex 2 Designated EHV charges'!$A:$P,COLUMN(G7)+4,FALSE)),"") | H7: =IFERROR(IF(VLOOKUP($A7,'Annex 2 Designated EHV charges'!$A:$P,COLUMN(H7)+4,FALSE)=0,"",VLOOKUP($A7,'Annex 2 Designated EHV charges'!$A:$P,COLUMN(H7)+4,FALSE)),"")
A8: {=IFERROR(INDEX('Annex 2 Designated EHV charges'!$A$11:$A$400, MATCH(0, IF(ISBLANK('Annex 2 Designated EHV charges'!$A$11:$A$400),1, COUNTIF(A$4:$A7, 'Annex 2 Designated EHV charges'!$A$11:$A$400)), 0)),"")} | B8: =IF($A8="","",VLOOKUP($A8,'Annex 2 Designated EHV charges'!$A:$O,2,0)) | C8: =IF($A8="","",VLOOKUP($A8,'Annex 2 Designated EHV charges'!$A:$O,3,0)) | D8: =IF($A8="","",VLOOKUP($A8,'Annex 2 Designated EHV charges'!$A:$O,7,0)) | E8: =IFERROR(IF(VLOOKUP($A8,'Annex 2 Designated EHV charges'!$A:$P,COLUMN(E8)+4,FALSE)=0,"",VLOOKUP($A8,'Annex 2 Designated EHV charges'!$A:$P,COLUMN(E8)+4,FALSE)),"") | F8: =IFERROR(IF(VLOOKUP($A8,'Annex 2 Designated EHV charges'!$A:$P,COLUMN(F8)+4,FALSE)=0,"",VLOOKUP($A8,'Annex 2 Designated EHV charges'!$A:$P,COLUMN(F8)+4,FALSE)),"") | G8: =IFERROR(IF(VLOOKUP($A8,'Annex 2 Designated EHV charges'!$A:$P,COLUMN(G8)+4,FALSE)=0,"",VLOOKUP($A8,'Annex 2 Designated EHV charges'!$A:$P,COLUMN(G8)+4,FALSE)),"") | H8: =IFERROR(IF(VLOOKUP($A8,'Annex 2 Designated EHV charges'!$A:$P,COLUMN(H8)+4,FALSE)=0,"",VLOOKUP($A8,'Annex 2 Designated EHV charges'!$A:$P,COLUMN(H8)+4,FALSE)),"")
A9: {=IFERROR(INDEX('Annex 2 Designated EHV charges'!$A$11:$A$400, MATCH(0, IF(ISBLANK('Annex 2 Designated EHV charges'!$A$11:$A$400),1, COUNTIF(A$4:$A8, 'Annex 2 Designated EHV charges'!$A$11:$A$400)), 0)),"")} | B9: =IF($A9="","",VLOOKUP($A9,'Annex 2 Designated EHV charges'!$A:$O,2,0)) | C9: =IF($A9="","",VLOOKUP($A9,'Annex 2 Designated EHV charges'!$A:$O,3,0)) | D9: =IF($A9="","",VLOOKUP($A9,'Annex 2 Designated EHV charges'!$A:$O,7,0)) | E9: =IFERROR(IF(VLOOKUP($A9,'Annex 2 Designated EHV charges'!$A:$P,COLUMN(E9)+4,FALSE)=0,"",VLOOKUP($A9,'Annex 2 Designated EHV charges'!$A:$P,COLUMN(E9)+4,FALSE)),"") | F9: =IFERROR(IF(VLOOKUP($A9,'Annex 2 Designated EHV charges'!$A:$P,COLUMN(F9)+4,FALSE)=0,"",VLOOKUP($A9,'Annex 2 Designated EHV charges'!$A:$P,COLUMN(F9)+4,FALSE)),"") | G9: =IFERROR(IF(VLOOKUP($A9,'Annex 2 Designated EHV charges'!$A:$P,COLUMN(G9)+4,FALSE)=0,"",VLOOKUP($A9,'Annex 2 Designated EHV charges'!$A:$P,COLUMN(G9)+4,FALSE)),"") | H9: =IFERROR(IF(VLOOKUP($A9,'Annex 2 Designated EHV charges'!$A:$P,COLUMN(H9)+4,FALSE)=0,"",VLOOKUP($A9,'Annex 2 Designated EHV charges'!$A:$P,COLUMN(H9)+4,FALSE)),"")
A10: {=IFERROR(INDEX('Annex 2 Designated EHV charges'!$A$11:$A$400, MATCH(0, IF(ISBLANK('Annex 2 Designated EHV charges'!$A$11:$A$400),1, COUNTIF(A$4:$A9, 'Annex 2 Designated EHV charges'!$A$11:$A$400)), 0)),"")} | B10: =IF($A10="","",VLOOKUP($A10,'Annex 2 Designated EHV charges'!$A:$O,2,0)) | C10: =IF($A10="","",VLOOKUP($A10,'Annex 2 Designated EHV charges'!$A:$O,3,0)) | D10: =IF($A10="","",VLOOKUP($A10,'Annex 2 Designated EHV charges'!$A:$O,7,0)) | E10: =IFERROR(IF(VLOOKUP($A10,'Annex 2 Designated EHV charges'!$A:$P,COLUMN(E10)+4,FALSE)=0,"",VLOOKUP($A10,'Annex 2 Designated EHV charges'!$A:$P,COLUMN(E10)+4,FALSE)),"") | F10: =IFERROR(IF(VLOOKUP($A10,'Annex 2 Designated EHV charges'!$A:$P,COLUMN(F10)+4,FALSE)=0,"",VLOOKUP($A10,'Annex 2 Designated EHV charges'!$A:$P,COLUMN(F10)+4,FALSE)),"") | G10: =IFERROR(IF(VLOOKUP($A10,'Annex 2 Designated EHV charges'!$A:$P,COLUMN(G10)+4,FALSE)=0,"",VLOOKUP($A10,'Annex 2 Designated EHV charges'!$A:$P,COLUMN(G10)+4,FALSE)),"") | H10: =IFERROR(IF(VLOOKUP($A10,'Annex 2 Designated EHV charges'!$A:$P,COLUMN(H10)+4,FALSE)=0,"",VLOOKUP($A10,'Annex 2 Designated EHV charges'!$A:$P,COLUMN(H10)+4,FALSE)),"")
A11: {=IFERROR(INDEX('Annex 2 Designated EHV charges'!$A$11:$A$400, MATCH(0, IF(ISBLANK('Annex 2 Designated EHV charges'!$A$11:$A$400),1, COUNTIF(A$4:$A10, 'Annex 2 Designated EHV charges'!$A$11:$A$400)), 0)),"")} | B11: =IF($A11="","",VLOOKUP($A11,'Annex 2 Designated EHV charges'!$A:$O,2,0)) | C11: =IF($A11="","",VLOOKUP($A11,'Annex 2 Designated EHV charges'!$A:$O,3,0)) | D11: =IF($A11="","",VLOOKUP($A11,'Annex 2 Designated EHV charges'!$A:$O,7,0)) | E11: =IFERROR(IF(VLOOKUP($A11,'Annex 2 Designated EHV charges'!$A:$P,COLUMN(E11)+4,FALSE)=0,"",VLOOKUP($A11,'Annex 2 Designated EHV charges'!$A:$P,COLUMN(E11)+4,FALSE)),"") | F11: =IFERROR(IF(VLOOKUP($A11,'Annex 2 Designated EHV charges'!$A:$P,COLUMN(F11)+4,FALSE)=0,"",VLOOKUP($A11,'Annex 2 Designated EHV charges'!$A:$P,COLUMN(F11)+4,FALSE)),"") | G11: =IFERROR(IF(VLOOKUP($A11,'Annex 2 Designated EHV charges'!$A:$P,COLUMN(G11)+4,FALSE)=0,"",VLOOKUP($A11,'Annex 2 Designated EHV charges'!$A:$P,COLUMN(G11)+4,FALSE)),"") | H11: =IFERROR(IF(VLOOKUP($A11,'Annex 2 Designated EHV charges'!$A:$P,COLUMN(H11)+4,FALSE)=0,"",VLOOKUP($A11,'Annex 2 Designated EHV charges'!$A:$P,COLUMN(H11)+4,FALSE)),"")
A12: {=IFERROR(INDEX('Annex 2 Designated EHV charges'!$A$11:$A$400, MATCH(0, IF(ISBLANK('Annex 2 Designated EHV charges'!$A$11:$A$400),1, COUNTIF(A$4:$A11, 'Annex 2 Designated EHV charges'!$A$11:$A$400)), 0)),"")} | B12: =IF($A12="","",VLOOKUP($A12,'Annex 2 Designated EHV charges'!$A:$O,2,0)) | C12: =IF($A12="","",VLOOKUP($A12,'Annex 2 Designated EHV charges'!$A:$O,3,0)) | D12: =IF($A12="","",VLOOKUP($A12,'Annex 2 Designated EHV charges'!$A:$O,7,0)) | E12: =IFERROR(IF(VLOOKUP($A12,'Annex 2 Designated EHV charges'!$A:$P,COLUMN(E12)+4,FALSE)=0,"",VLOOKUP($A12,'Annex 2 Designated EHV charges'!$A:$P,COLUMN(E12)+4,FALSE)),"") | F12: =IFERROR(IF(VLOOKUP($A12,'Annex 2 Designated EHV charges'!$A:$P,COLUMN(F12)+4,FALSE)=0,"",VLOOKUP($A12,'Annex 2 Designated EHV charges'!$A:$P,COLUMN(F12)+4,FALSE)),"") | G12: =IFERROR(IF(VLOOKUP($A12,'Annex 2 Designated EHV charges'!$A:$P,COLUMN(G12)+4,FALSE)=0,"",VLOOKUP($A12,'Annex 2 Designated EHV charges'!$A:$P,COLUMN(G12)+4,FALSE)),"") | H12: =IFERROR(IF(VLOOKUP($A12,'Annex 2 Designated EHV charges'!$A:$P,COLUMN(H12)+4,FALSE)=0,"",VLOOKUP($A12,'Annex 2 Designated EHV charges'!$A:$P,COLUMN(H12)+4,FALSE)),"")
A13: {=IFERROR(INDEX('Annex 2 Designated EHV charges'!$A$11:$A$400, MATCH(0, IF(ISBLANK('Annex 2 Designated EHV charges'!$A$11:$A$400),1, COUNTIF(A$4:$A12, 'Annex 2 Designated EHV charges'!$A$11:$A$400)), 0)),"")} | B13: =IF($A13="","",VLOOKUP($A13,'Annex 2 Designated EHV charges'!$A:$O,2,0)) | C13: =IF($A13="","",VLOOKUP($A13,'Annex 2 Designated EHV charges'!$A:$O,3,0)) | D13: =IF($A13="","",VLOOKUP($A13,'Annex 2 Designated EHV charges'!$A:$O,7,0)) | E13: =IFERROR(IF(VLOOKUP($A13,'Annex 2 Designated EHV charges'!$A:$P,COLUMN(E13)+4,FALSE)=0,"",VLOOKUP($A13,'Annex 2 Designated EHV charges'!$A:$P,COLUMN(E13)+4,FALSE)),"") | F13: =IFERROR(IF(VLOOKUP($A13,'Annex 2 Designated EHV charges'!$A:$P,COLUMN(F13)+4,FALSE)=0,"",VLOOKUP($A13,'Annex 2 Designated EHV charges'!$A:$P,COLUMN(F13)+4,FALSE)),"") | G13: =IFERROR(IF(VLOOKUP($A13,'Annex 2 Designated EHV charges'!$A:$P,COLUMN(G13)+4,FALSE)=0,"",VLOOKUP($A13,'Annex 2 Designated EHV charges'!$A:$P,COLUMN(G13)+4,FALSE)),"") | H13: =IFERROR(IF(VLOOKUP($A13,'Annex 2 Designated EHV charges'!$A:$P,COLUMN(H13)+4,FALSE)=0,"",VLOOKUP($A13,'Annex 2 Designated EHV charges'!$A:$P,COLUMN(H13)+4,FALSE)),"")
A14: {=IFERROR(INDEX('Annex 2 Designated EHV charges'!$A$11:$A$400, MATCH(0, IF(ISBLANK('Annex 2 Designated EHV charges'!$A$11:$A$400),1, COUNTIF(A$4:$A13, 'Annex 2 Designated EHV charges'!$A$11:$A$400)), 0)),"")} | B14: =IF($A14="","",VLOOKUP($A14,'Annex 2 Designated EHV charges'!$A:$O,2,0)) | C14: =IF($A14="","",VLOOKUP($A14,'Annex 2 Designated EHV charges'!$A:$O,3,0)) | D14: =IF($A14="","",VLOOKUP($A14,'Annex 2 Designated EHV charges'!$A:$O,7,0)) | E14: =IFERROR(IF(VLOOKUP($A14,'Annex 2 Designated EHV charges'!$A:$P,COLUMN(E14)+4,FALSE)=0,"",VLOOKUP($A14,'Annex 2 Designated EHV charges'!$A:$P,COLUMN(E14)+4,FALSE)),"") | F14: =IFERROR(IF(VLOOKUP($A14,'Annex 2 Designated EHV charges'!$A:$P,COLUMN(F14)+4,FALSE)=0,"",VLOOKUP($A14,'Annex 2 Designated EHV charges'!$A:$P,COLUMN(F14)+4,FALSE)),"") | G14: =IFERROR(IF(VLOOKUP($A14,'Annex 2 Designated EHV charges'!$A:$P,COLUMN(G14)+4,FALSE)=0,"",VLOOKUP($A14,'Annex 2 Designated EHV charges'!$A:$P,COLUMN(G14)+4,FALSE)),"") | H14: =IFERROR(IF(VLOOKUP($A14,'Annex 2 Designated EHV charges'!$A:$P,COLUMN(H14)+4,FALSE)=0,"",VLOOKUP($A14,'Annex 2 Designated EHV charges'!$A:$P,COLUMN(H14)+4,FALSE)),"")
A15: {=IFERROR(INDEX('Annex 2 Designated EHV charges'!$A$11:$A$400, MATCH(0, IF(ISBLANK('Annex 2 Designated EHV charges'!$A$11:$A$400),1, COUNTIF(A$4:$A14, 'Annex 2 Designated EHV charges'!$A$11:$A$400)), 0)),"")} | B15: =IF($A15="","",VLOOKUP($A15,'Annex 2 Designated EHV charges'!$A:$O,2,0)) | C15: =IF($A15="","",VLOOKUP($A15,'Annex 2 Designated EHV charges'!$A:$O,3,0)) | D15: =IF($A15="","",VLOOKUP($A15,'Annex 2 Designated EHV charges'!$A:$O,7,0)) | E15: =IFERROR(IF(VLOOKUP($A15,'Annex 2 Designated EHV charges'!$A:$P,COLUMN(E15)+4,FALSE)=0,"",VLOOKUP($A15,'Annex 2 Designated EHV charges'!$A:$P,COLUMN(E15)+4,FALSE)),"") | F15: =IFERROR(IF(VLOOKUP($A15,'Annex 2 Designated EHV charges'!$A:$P,COLUMN(F15)+4,FALSE)=0,"",VLOOKUP($A15,'Annex 2 Designated EHV charges'!$A:$P,COLUMN(F15)+4,FALSE)),"") | G15: =IFERROR(IF(VLOOKUP($A15,'Annex 2 Designated EHV charges'!$A:$P,COLUMN(G15)+4,FALSE)=0,"",VLOOKUP($A15,'Annex 2 Designated EHV charges'!$A:$P,COLUMN(G15)+4,FALSE)),"") | H15: =IFERROR(IF(VLOOKUP($A15,'Annex 2 Designated EHV charges'!$A:$P,COLUMN(H15)+4,FALSE)=0,"",VLOOKUP($A15,'Annex 2 Designated EHV charges'!$A:$P,COLUMN(H15)+4,FALSE)),"")
A16: {=IFERROR(INDEX('Annex 2 Designated EHV charges'!$A$11:$A$400, MATCH(0, IF(ISBLANK('Annex 2 Designated EHV charges'!$A$11:$A$400),1, COUNTIF(A$4:$A15, 'Annex 2 Designated EHV charges'!$A$11:$A$400)), 0)),"")} | B16: =IF($A16="","",VLOOKUP($A16,'Annex 2 Designated EHV charges'!$A:$O,2,0)) | C16: =IF($A16="","",VLOOKUP($A16,'Annex 2 Designated EHV charges'!$A:$O,3,0)) | D16: =IF($A16="","",VLOOKUP($A16,'Annex 2 Designated EHV charges'!$A:$O,7,0)) | E16: =IFERROR(IF(VLOOKUP($A16,'Annex 2 Designated EHV charges'!$A:$P,COLUMN(E16)+4,FALSE)=0,"",VLOOKUP($A16,'Annex 2 Designated EHV charges'!$A:$P,COLUMN(E16)+4,FALSE)),"") | F16: =IFERROR(IF(VLOOKUP($A16,'Annex 2 Designated EHV charges'!$A:$P,COLUMN(F16)+4,FALSE)=0,"",VLOOKUP($A16,'Annex 2 Designated EHV charges'!$A:$P,COLUMN(F16)+4,FALSE)),"") | G16: =IFERROR(IF(VLOOKUP($A16,'Annex 2 Designated EHV charges'!$A:$P,COLUMN(G16)+4,FALSE)=0,"",VLOOKUP($A16,'Annex 2 Designated EHV charges'!$A:$P,COLUMN(G16)+4,FALSE)),"") | H16: =IFERROR(IF(VLOOKUP($A16,'Annex 2 Designated EHV charges'!$A:$P,COLUMN(H16)+4,FALSE)=0,"",VLOOKUP($A16,'Annex 2 Designated EHV charges'!$A:$P,COLUMN(H16)+4,FALSE)),"")
... A330: {=IFERROR(INDEX('Annex 2 Designated EHV charges'!$A$11:$A$400, MATCH(0, IF(ISBLANK('Annex 2 Designated EHV charges'!$A$11:$A$400),1, COUNTIF(A$4:$A329, 'Annex 2 Designated EHV charges'!$A$11:$A$400)), 0)),"")} | B330: =IF($A330="","",VLOOKUP($A330,'Annex 2 Designated EHV charges'!$A:$O,2,0)) | C330: =IF($A330="","",VLOOKUP($A330,'Annex 2 Designated EHV charges'!$A:$O,3,0)) | D330: =IF($A330="","",VLOOKUP($A330,'Annex 2 Designated EHV charges'!$A:$O,7,0)) | E330: =IFERROR(IF(VLOOKUP($A330,'Annex 2 Designated EHV charges'!$A:$P,COLUMN(E330)+4,FALSE)=0,"",VLOOKUP($A330,'Annex 2 Designated EHV charges'!$A:$P,COLUMN(E330)+4,FALSE)),"") | F330: =IFERROR(IF(VLOOKUP($A330,'Annex 2 Designated EHV charges'!$A:$P,COLUMN(F330)+4,FALSE)=0,"",VLOOKUP($A330,'Annex 2 Designated EHV charges'!$A:$P,COLUMN(F330)+4,FALSE)),"") | G330: =IFERROR(IF(VLOOKUP($A330,'Annex 2 Designated EHV charges'!$A:$P,COLUMN(G330)+4,FALSE)=0,"",VLOOKUP($A330,'Annex 2 Designated EHV charges'!$A:$P,COLUMN(G330)+4,FALSE)),"") | H330: =IFERROR(IF(VLOOKUP($A330,'Annex 2 Designated EHV charges'!$A:$P,COLUMN(H330)+4,FALSE)=0,"",VLOOKUP($A330,'Annex 2 Designated EHV charges'!$A:$P,COLUMN(H330)+4,FALSE)),"")

Sheet Annex 2b Export
A1: Note: The list of MPANs / MSIDs provided may be incomplete; the DNO reserves the right to apply the listed charges to any other MPANs / MSIDs associated with the site. Note: This table is automatically populated based on the content of the tab entitled 'Annex 2 EHV Charges'. The timebands are as shown in Annex 2.
A2: =Overview!B4& " - Effective from "&Overview!D4&" - "&[1]Overview!E4&" Designated EHV export charges" -> Aidien Limited - GSP_B - Effective from 1 April 2025 - Final Designated EHV export charges
A4: Export Unique Identifier | B4: LLFC | C4: Export MPANs/MSIDs | D4: Name | E4: ='Annex 2 Designated EHV charges'!M10 -> Export Super Red unit charge (p/kWh) | F4: ='Annex 2 Designated EHV charges'!N10 -> Export fixed charge (p/day) | G4: ='Annex 2 Designated EHV charges'!O10 -> Export capacity charge (p/kVA/day) | H4: ='Annex 2 Designated EHV charges'!P10 -> Export exceeded capacity charge (p/kVA/day)
A5: {=IFERROR(INDEX('Annex 2 Designated EHV charges'!$D$11:$D$400, MATCH(0, IF(ISBLANK('Annex 2 Designated EHV charges'!$D$11:$D$400),1, COUNTIF(A$4:$A4, 'Annex 2 Designated EHV charges'!$D$11:$D$400)), 0)),"")} | B5: =IF($A5="","",VLOOKUP($A5,'Annex 2 Designated EHV charges'!$D:$O,2,0)) | C5: =IF($A5="","",VLOOKUP($A5,'Annex 2 Designated EHV charges'!$D:$O,3,0)) | D5: =IF($A5="","",VLOOKUP($A5,'Annex 2 Designated EHV charges'!$D:$O,4,0)) | E5: =IFERROR(IF(VLOOKUP($A5,'Annex 2 Designated EHV charges'!$D:$P,COLUMN(E5)+5,FALSE)=0,"",VLOOKUP($A5,'Annex 2 Designated EHV charges'!$D:$P,COLUMN(E5)+5,FALSE)),"") | F5: =IFERROR(IF(VLOOKUP($A5,'Annex 2 Designated EHV charges'!$D:$P,COLUMN(F5)+5,FALSE)=0,"",VLOOKUP($A5,'Annex 2 Designated EHV charges'!$D:$P,COLUMN(F5)+5,FALSE)),"") | G5: =IFERROR(IF(VLOOKUP($A5,'Annex 2 Designated EHV charges'!$D:$P,COLUMN(G5)+5,FALSE)=0,"",VLOOKUP($A5,'Annex 2 Designated EHV charges'!$D:$P,COLUMN(G5)+5,FALSE)),"") | H5: =IFERROR(IF(VLOOKUP($A5,'Annex 2 Designated EHV charges'!$D:$P,COLUMN(H5)+5,FALSE)=0,"",VLOOKUP($A5,'Annex 2 Designated EHV charges'!$D:$P,COLUMN(H5)+5,FALSE)),"")
A6: {=IFERROR(INDEX('Annex 2 Designated EHV charges'!$D$11:$D$400, MATCH(0, IF(ISBLANK('Annex 2 Designated EHV charges'!$D$11:$D$400),1, COUNTIF(A$4:$A5, 'Annex 2 Designated EHV charges'!$D$11:$D$400)), 0)),"")} | B6: =IF($A6="","",VLOOKUP($A6,'Annex 2 Designated EHV charges'!$D:$O,2,0)) | C6: =IF($A6="","",VLOOKUP($A6,'Annex 2 Designated EHV charges'!$D:$O,3,0)) | D6: =IF($A6="","",VLOOKUP($A6,'Annex 2 Designated EHV charges'!$D:$O,4,0)) | E6: =IFERROR(IF(VLOOKUP($A6,'Annex 2 Designated EHV charges'!$D:$P,COLUMN(E6)+5,FALSE)=0,"",VLOOKUP($A6,'Annex 2 Designated EHV charges'!$D:$P,COLUMN(E6)+5,FALSE)),"") | F6: =IFERROR(IF(VLOOKUP($A6,'Annex 2 Designated EHV charges'!$D:$P,COLUMN(F6)+5,FALSE)=0,"",VLOOKUP($A6,'Annex 2 Designated EHV charges'!$D:$P,COLUMN(F6)+5,FALSE)),"") | G6: =IFERROR(IF(VLOOKUP($A6,'Annex 2 Designated EHV charges'!$D:$P,COLUMN(G6)+5,FALSE)=0,"",VLOOKUP($A6,'Annex 2 Designated EHV charges'!$D:$P,COLUMN(G6)+5,FALSE)),"") | H6: =IFERROR(IF(VLOOKUP($A6,'Annex 2 Designated EHV charges'!$D:$P,COLUMN(H6)+5,FALSE)=0,"",VLOOKUP($A6,'Annex 2 Designated EHV charges'!$D:$P,COLUMN(H6)+5,FALSE)),"")
A7: {=IFERROR(INDEX('Annex 2 Designated EHV charges'!$D$11:$D$400, MATCH(0, IF(ISBLANK('Annex 2 Designated EHV charges'!$D$11:$D$400),1, COUNTIF(A$4:$A6, 'Annex 2 Designated EHV charges'!$D$11:$D$400)), 0)),"")} | B7: =IF($A7="","",VLOOKUP($A7,'Annex 2 Designated EHV charges'!$D:$O,2,0)) | C7: =IF($A7="","",VLOOKUP($A7,'Annex 2 Designated EHV charges'!$D:$O,3,0)) | D7: =IF($A7="","",VLOOKUP($A7,'Annex 2 Designated EHV charges'!$D:$O,4,0)) | E7: =IFERROR(IF(VLOOKUP($A7,'Annex 2 Designated EHV charges'!$D:$P,COLUMN(E7)+5,FALSE)=0,"",VLOOKUP($A7,'Annex 2 Designated EHV charges'!$D:$P,COLUMN(E7)+5,FALSE)),"") | F7: =IFERROR(IF(VLOOKUP($A7,'Annex 2 Designated EHV charges'!$D:$P,COLUMN(F7)+5,FALSE)=0,"",VLOOKUP($A7,'Annex 2 Designated EHV charges'!$D:$P,COLUMN(F7)+5,FALSE)),"") | G7: =IFERROR(IF(VLOOKUP($A7,'Annex 2 Designated EHV charges'!$D:$P,COLUMN(G7)+5,FALSE)=0,"",VLOOKUP($A7,'Annex 2 Designated EHV charges'!$D:$P,COLUMN(G7)+5,FALSE)),"") | H7: =IFERROR(IF(VLOOKUP($A7,'Annex 2 Designated EHV charges'!$D:$P,COLUMN(H7)+5,FALSE)=0,"",VLOOKUP($A7,'Annex 2 Designated EHV charges'!$D:$P,COLUMN(H7)+5,FALSE)),"")
A8: {=IFERROR(INDEX('Annex 2 Designated EHV charges'!$D$11:$D$400, MATCH(0, IF(ISBLANK('Annex 2 Designated EHV charges'!$D$11:$D$400),1, COUNTIF(A$4:$A7, 'Annex 2 Designated EHV charges'!$D$11:$D$400)), 0)),"")} | B8: =IF($A8="","",VLOOKUP($A8,'Annex 2 Designated EHV charges'!$D:$O,2,0)) | C8: =IF($A8="","",VLOOKUP($A8,'Annex 2 Designated EHV charges'!$D:$O,3,0)) | D8: =IF($A8="","",VLOOKUP($A8,'Annex 2 Designated EHV charges'!$D:$O,4,0)) | E8: =IFERROR(IF(VLOOKUP($A8,'Annex 2 Designated EHV charges'!$D:$P,COLUMN(E8)+5,FALSE)=0,"",VLOOKUP($A8,'Annex 2 Designated EHV charges'!$D:$P,COLUMN(E8)+5,FALSE)),"") | F8: =IFERROR(IF(VLOOKUP($A8,'Annex 2 Designated EHV charges'!$D:$P,COLUMN(F8)+5,FALSE)=0,"",VLOOKUP($A8,'Annex 2 Designated EHV charges'!$D:$P,COLUMN(F8)+5,FALSE)),"") | G8: =IFERROR(IF(VLOOKUP($A8,'Annex 2 Designated EHV charges'!$D:$P,COLUMN(G8)+5,FALSE)=0,"",VLOOKUP($A8,'Annex 2 Designated EHV charges'!$D:$P,COLUMN(G8)+5,FALSE)),"") | H8: =IFERROR(IF(VLOOKUP($A8,'Annex 2 Designated EHV charges'!$D:$P,COLUMN(H8)+5,FALSE)=0,"",VLOOKUP($A8,'Annex 2 Designated EHV charges'!$D:$P,COLUMN(H8)+5,FALSE)),"")
A9: {=IFERROR(INDEX('Annex 2 Designated EHV charges'!$D$11:$D$400, MATCH(0, IF(ISBLANK('Annex 2 Designated EHV charges'!$D$11:$D$400),1, COUNTIF(A$4:$A8, 'Annex 2 Designated EHV charges'!$D$11:$D$400)), 0)),"")} | B9: =IF($A9="","",VLOOKUP($A9,'Annex 2 Designated EHV charges'!$D:$O,2,0)) | C9: =IF($A9="","",VLOOKUP($A9,'Annex 2 Designated EHV charges'!$D:$O,3,0)) | D9: =IF($A9="","",VLOOKUP($A9,'Annex 2 Designated EHV charges'!$D:$O,4,0)) | E9: =IFERROR(IF(VLOOKUP($A9,'Annex 2 Designated EHV charges'!$D:$P,COLUMN(E9)+5,FALSE)=0,"",VLOOKUP($A9,'Annex 2 Designated EHV charges'!$D:$P,COLUMN(E9)+5,FALSE)),"") | F9: =IFERROR(IF(VLOOKUP($A9,'Annex 2 Designated EHV charges'!$D:$P,COLUMN(F9)+5,FALSE)=0,"",VLOOKUP($A9,'Annex 2 Designated EHV charges'!$D:$P,COLUMN(F9)+5,FALSE)),"") | G9: =IFERROR(IF(VLOOKUP($A9,'Annex 2 Designated EHV charges'!$D:$P,COLUMN(G9)+5,FALSE)=0,"",VLOOKUP($A9,'Annex 2 Designated EHV charges'!$D:$P,COLUMN(G9)+5,FALSE)),"") | H9: =IFERROR(IF(VLOOKUP($A9,'Annex 2 Designated EHV charges'!$D:$P,COLUMN(H9)+5,FALSE)=0,"",VLOOKUP($A9,'Annex 2 Designated EHV charges'!$D:$P,COLUMN(H9)+5,FALSE)),"")
A10: {=IFERROR(INDEX('Annex 2 Designated EHV charges'!$D$11:$D$400, MATCH(0, IF(ISBLANK('Annex 2 Designated EHV charges'!$D$11:$D$400),1, COUNTIF(A$4:$A9, 'Annex 2 Designated EHV charges'!$D$11:$D$400)), 0)),"")} | B10: =IF($A10="","",VLOOKUP($A10,'Annex 2 Designated EHV charges'!$D:$O,2,0)) | C10: =IF($A10="","",VLOOKUP($A10,'Annex 2 Designated EHV charges'!$D:$O,3,0)) | D10: =IF($A10="","",VLOOKUP($A10,'Annex 2 Designated EHV charges'!$D:$O,4,0)) | E10: =IFERROR(IF(VLOOKUP($A10,'Annex 2 Designated EHV charges'!$D:$P,COLUMN(E10)+5,FALSE)=0,"",VLOOKUP($A10,'Annex 2 Designated EHV charges'!$D:$P,COLUMN(E10)+5,FALSE)),"") | F10: =IFERROR(IF(VLOOKUP($A10,'Annex 2 Designated EHV charges'!$D:$P,COLUMN(F10)+5,FALSE)=0,"",VLOOKUP($A10,'Annex 2 Designated EHV charges'!$D:$P,COLUMN(F10)+5,FALSE)),"") | G10: =IFERROR(IF(VLOOKUP($A10,'Annex 2 Designated EHV charges'!$D:$P,COLUMN(G10)+5,FALSE)=0,"",VLOOKUP($A10,'Annex 2 Designated EHV charges'!$D:$P,COLUMN(G10)+5,FALSE)),"") | H10: =IFERROR(IF(VLOOKUP($A10,'Annex 2 Designated EHV charges'!$D:$P,COLUMN(H10)+5,FALSE)=0,"",VLOOKUP($A10,'Annex 2 Designated EHV charges'!$D:$P,COLUMN(H10)+5,FALSE)),"")
A11: {=IFERROR(INDEX('Annex 2 Designated EHV charges'!$D$11:$D$400, MATCH(0, IF(ISBLANK('Annex 2 Designated EHV charges'!$D$11:$D$400),1, COUNTIF(A$4:$A10, 'Annex 2 Designated EHV charges'!$D$11:$D$400)), 0)),"")} | B11: =IF($A11="","",VLOOKUP($A11,'Annex 2 Designated EHV charges'!$D:$O,2,0)) | C11: =IF($A11="","",VLOOKUP($A11,'Annex 2 Designated EHV charges'!$D:$O,3,0)) | D11: =IF($A11="","",VLOOKUP($A11,'Annex 2 Designated EHV charges'!$D:$O,4,0)) | E11: =IFERROR(IF(VLOOKUP($A11,'Annex 2 Designated EHV charges'!$D:$P,COLUMN(E11)+5,FALSE)=0,"",VLOOKUP($A11,'Annex 2 Designated EHV charges'!$D:$P,COLUMN(E11)+5,FALSE)),"") | F11: =IFERROR(IF(VLOOKUP($A11,'Annex 2 Designated EHV charges'!$D:$P,COLUMN(F11)+5,FALSE)=0,"",VLOOKUP($A11,'Annex 2 Designated EHV charges'!$D:$P,COLUMN(F11)+5,FALSE)),"") | G11: =IFERROR(IF(VLOOKUP($A11,'Annex 2 Designated EHV charges'!$D:$P,COLUMN(G11)+5,FALSE)=0,"",VLOOKUP($A11,'Annex 2 Designated EHV charges'!$D:$P,COLUMN(G11)+5,FALSE)),"") | H11: =IFERROR(IF(VLOOKUP($A11,'Annex 2 Designated EHV charges'!$D:$P,COLUMN(H11)+5,FALSE)=0,"",VLOOKUP($A11,'Annex 2 Designated EHV charges'!$D:$P,COLUMN(H11)+5,FALSE)),"")
A12: {=IFERROR(INDEX('Annex 2 Designated EHV charges'!$D$11:$D$400, MATCH(0, IF(ISBLANK('Annex 2 Designated EHV charges'!$D$11:$D$400),1, COUNTIF(A$4:$A11, 'Annex 2 Designated EHV charges'!$D$11:$D$400)), 0)),"")} | B12: =IF($A12="","",VLOOKUP($A12,'Annex 2 Designated EHV charges'!$D:$O,2,0)) | C12: =IF($A12="","",VLOOKUP($A12,'Annex 2 Designated EHV charges'!$D:$O,3,0)) | D12: =IF($A12="","",VLOOKUP($A12,'Annex 2 Designated EHV charges'!$D:$O,4,0)) | E12: =IFERROR(IF(VLOOKUP($A12,'Annex 2 Designated EHV charges'!$D:$P,COLUMN(E12)+5,FALSE)=0,"",VLOOKUP($A12,'Annex 2 Designated EHV charges'!$D:$P,COLUMN(E12)+5,FALSE)),"") | F12: =IFERROR(IF(VLOOKUP($A12,'Annex 2 Designated EHV charges'!$D:$P,COLUMN(F12)+5,FALSE)=0,"",VLOOKUP($A12,'Annex 2 Designated EHV charges'!$D:$P,COLUMN(F12)+5,FALSE)),"") | G12: =IFERROR(IF(VLOOKUP($A12,'Annex 2 Designated EHV charges'!$D:$P,COLUMN(G12)+5,FALSE)=0,"",VLOOKUP($A12,'Annex 2 Designated EHV charges'!$D:$P,COLUMN(G12)+5,FALSE)),"") | H12: =IFERROR(IF(VLOOKUP($A12,'Annex 2 Designated EHV charges'!$D:$P,COLUMN(H12)+5,FALSE)=0,"",VLOOKUP($A12,'Annex 2 Designated EHV charges'!$D:$P,COLUMN(H12)+5,FALSE)),"")
A13: {=IFERROR(INDEX('Annex 2 Designated EHV charges'!$D$11:$D$400, MATCH(0, IF(ISBLANK('Annex 2 Designated EHV charges'!$D$11:$D$400),1, COUNTIF(A$4:$A12, 'Annex 2 Designated EHV charges'!$D$11:$D$400)), 0)),"")} | B13: =IF($A13="","",VLOOKUP($A13,'Annex 2 Designated EHV charges'!$D:$O,2,0)) | C13: =IF($A13="","",VLOOKUP($A13,'Annex 2 Designated EHV charges'!$D:$O,3,0)) | D13: =IF($A13="","",VLOOKUP($A13,'Annex 2 Designated EHV charges'!$D:$O,4,0)) | E13: =IFERROR(IF(VLOOKUP($A13,'Annex 2 Designated EHV charges'!$D:$P,COLUMN(E13)+5,FALSE)=0,"",VLOOKUP($A13,'Annex 2 Designated EHV charges'!$D:$P,COLUMN(E13)+5,FALSE)),"") | F13: =IFERROR(IF(VLOOKUP($A13,'Annex 2 Designated EHV charges'!$D:$P,COLUMN(F13)+5,FALSE)=0,"",VLOOKUP($A13,'Annex 2 Designated EHV charges'!$D:$P,COLUMN(F13)+5,FALSE)),"") | G13: =IFERROR(IF(VLOOKUP($A13,'Annex 2 Designated EHV charges'!$D:$P,COLUMN(G13)+5,FALSE)=0,"",VLOOKUP($A13,'Annex 2 Designated EHV charges'!$D:$P,COLUMN(G13)+5,FALSE)),"") | H13: =IFERROR(IF(VLOOKUP($A13,'Annex 2 Designated EHV charges'!$D:$P,COLUMN(H13)+5,FALSE)=0,"",VLOOKUP($A13,'Annex 2 Designated EHV charges'!$D:$P,COLUMN(H13)+5,FALSE)),"")
A14: {=IFERROR(INDEX('Annex 2 Designated EHV charges'!$D$11:$D$400, MATCH(0, IF(ISBLANK('Annex 2 Designated EHV charges'!$D$11:$D$400),1, COUNTIF(A$4:$A13, 'Annex 2 Designated EHV charges'!$D$11:$D$400)), 0)),"")} | B14: =IF($A14="","",VLOOKUP($A14,'Annex 2 Designated EHV charges'!$D:$O,2,0)) | C14: =IF($A14="","",VLOOKUP($A14,'Annex 2 Designated EHV charges'!$D:$O,3,0)) | D14: =IF($A14="","",VLOOKUP($A14,'Annex 2 Designated EHV charges'!$D:$O,4,0)) | E14: =IFERROR(IF(VLOOKUP($A14,'Annex 2 Designated EHV charges'!$D:$P,COLUMN(E14)+5,FALSE)=0,"",VLOOKUP($A14,'Annex 2 Designated EHV charges'!$D:$P,COLUMN(E14)+5,FALSE)),"") | F14: =IFERROR(IF(VLOOKUP($A14,'Annex 2 Designated EHV charges'!$D:$P,COLUMN(F14)+5,FALSE)=0,"",VLOOKUP($A14,'Annex 2 Designated EHV charges'!$D:$P,COLUMN(F14)+5,FALSE)),"") | G14: =IFERROR(IF(VLOOKUP($A14,'Annex 2 Designated EHV charges'!$D:$P,COLUMN(G14)+5,FALSE)=0,"",VLOOKUP($A14,'Annex 2 Designated EHV charges'!$D:$P,COLUMN(G14)+5,FALSE)),"") | H14: =IFERROR(IF(VLOOKUP($A14,'Annex 2 Designated EHV charges'!$D:$P,COLUMN(H14)+5,FALSE)=0,"",VLOOKUP($A14,'Annex 2 Designated EHV charges'!$D:$P,COLUMN(H14)+5,FALSE)),"")
A15: {=IFERROR(INDEX('Annex 2 Designated EHV charges'!$D$11:$D$400, MATCH(0, IF(ISBLANK('Annex 2 Designated EHV charges'!$D$11:$D$400),1, COUNTIF(A$4:$A14, 'Annex 2 Designated EHV charges'!$D$11:$D$400)), 0)),"")} | B15: =IF($A15="","",VLOOKUP($A15,'Annex 2 Designated EHV charges'!$D:$O,2,0)) | C15: =IF($A15="","",VLOOKUP($A15,'Annex 2 Designated EHV charges'!$D:$O,3,0)) | D15: =IF($A15="","",VLOOKUP($A15,'Annex 2 Designated EHV charges'!$D:$O,4,0)) | E15: =IFERROR(IF(VLOOKUP($A15,'Annex 2 Designated EHV charges'!$D:$P,COLUMN(E15)+5,FALSE)=0,"",VLOOKUP($A15,'Annex 2 Designated EHV charges'!$D:$P,COLUMN(E15)+5,FALSE)),"") | F15: =IFERROR(IF(VLOOKUP($A15,'Annex 2 Designated EHV charges'!$D:$P,COLUMN(F15)+5,FALSE)=0,"",VLOOKUP($A15,'Annex 2 Designated EHV charges'!$D:$P,COLUMN(F15)+5,FALSE)),"") | G15: =IFERROR(IF(VLOOKUP($A15,'Annex 2 Designated EHV charges'!$D:$P,COLUMN(G15)+5,FALSE)=0,"",VLOOKUP($A15,'Annex 2 Designated EHV charges'!$D:$P,COLUMN(G15)+5,FALSE)),"") | H15: =IFERROR(IF(VLOOKUP($A15,'Annex 2 Designated EHV charges'!$D:$P,COLUMN(H15)+5,FALSE)=0,"",VLOOKUP($A15,'Annex 2 Designated EHV charges'!$D:$P,COLUMN(H15)+5,FALSE)),"")
A16: {=IFERROR(INDEX('Annex 2 Designated EHV charges'!$D$11:$D$400, MATCH(0, IF(ISBLANK('Annex 2 Designated EHV charges'!$D$11:$D$400),1, COUNTIF(A$4:$A15, 'Annex 2 Designated EHV charges'!$D$11:$D$400)), 0)),"")} | B16: =IF($A16="","",VLOOKUP($A16,'Annex 2 Designated EHV charges'!$D:$O,2,0)) | C16: =IF($A16="","",VLOOKUP($A16,'Annex 2 Designated EHV charges'!$D:$O,3,0)) | D16: =IF($A16="","",VLOOKUP($A16,'Annex 2 Designated EHV charges'!$D:$O,4,0)) | E16: =IFERROR(IF(VLOOKUP($A16,'Annex 2 Designated EHV charges'!$D:$P,COLUMN(E16)+5,FALSE)=0,"",VLOOKUP($A16,'Annex 2 Designated EHV charges'!$D:$P,COLUMN(E16)+5,FALSE)),"") | F16: =IFERROR(IF(VLOOKUP($A16,'Annex 2 Designated EHV charges'!$D:$P,COLUMN(F16)+5,FALSE)=0,"",VLOOKUP($A16,'Annex 2 Designated EHV charges'!$D:$P,COLUMN(F16)+5,FALSE)),"") | G16: =IFERROR(IF(VLOOKUP($A16,'Annex 2 Designated EHV charges'!$D:$P,COLUMN(G16)+5,FALSE)=0,"",VLOOKUP($A16,'Annex 2 Designated EHV charges'!$D:$P,COLUMN(G16)+5,FALSE)),"") | H16: =IFERROR(IF(VLOOKUP($A16,'Annex 2 Designated EHV charges'!$D:$P,COLUMN(H16)+5,FALSE)=0,"",VLOOKUP($A16,'Annex 2 Designated EHV charges'!$D:$P,COLUMN(H16)+5,FALSE)),"")
... A292: {=IFERROR(INDEX('Annex 2 Designated EHV charges'!$D$11:$D$400, MATCH(0, IF(ISBLANK('Annex 2 Designated EHV charges'!$D$11:$D$400),1, COUNTIF(A$4:$A291, 'Annex 2 Designated EHV charges'!$D$11:$D$400)), 0)),"")} | B292: =IF($A292="","",VLOOKUP($A292,'Annex 2 Designated EHV charges'!$D:$O,2,0)) | C292: =IF($A292="","",VLOOKUP($A292,'Annex 2 Designated EHV charges'!$D:$O,3,0)) | D292: =IF($A292="","",VLOOKUP($A292,'Annex 2 Designated EHV charges'!$D:$O,4,0)) | E292: =IFERROR(IF(VLOOKUP($A292,'Annex 2 Designated EHV charges'!$D:$P,COLUMN(E292)+5,FALSE)=0,"",VLOOKUP($A292,'Annex 2 Designated EHV charges'!$D:$P,COLUMN(E292)+5,FALSE)),"") | F292: =IFERROR(IF(VLOOKUP($A292,'Annex 2 Designated EHV charges'!$D:$P,COLUMN(F292)+5,FALSE)=0,"",VLOOKUP($A292,'Annex 2 Designated EHV charges'!$D:$P,COLUMN(F292)+5,FALSE)),"") | G292: =IFERROR(IF(VLOOKUP($A292,'Annex 2 Designated EHV charges'!$D:$P,COLUMN(G292)+5,FALSE)=0,"",VLOOKUP($A292,'Annex 2 Designated EHV charges'!$D:$P,COLUMN(G292)+5,FALSE)),"") | H292: =IFERROR(IF(VLOOKUP($A292,'Annex 2 Designated EHV charges'!$D:$P,COLUMN(H292)+5,FALSE)=0,"",VLOOKUP($A292,'Annex 2 Designated EHV charges'!$D:$P,COLUMN(H292)+5,FALSE)),"")

Sheet Annex 3 Preserved charges
A1: Back to Overview
A2: =Overview!B4& " - Effective from "&Overview!D4&" - "&Overview!E4&" LV and HV tariffs" -> Aidien Limited - GSP_B - Effective from 1 April 2025 - Final LV and HV tariffs
A3: Supercustomer preserved charges/additional LLFCs
B4: Closed LLFCs | C4: PCs | D4: Red/black unit charge p/kWh | E4: Amber/yellow unit charge p/kWh | F4: Green unit charge p/kWh | G4: Fixed charge p/MPAN/day
A6: Notes: | B6: [Add DNO specific notes relevant to charges]
A11: Site Specific preserved charges/additional LLFCs
B12: Closed LLFCs | C12: PCs | D12: Red/black unit charge p/kWh | E12: Amber/yellow unit charge p/kWh | F12: Green unit charge p/kWh | G12: Fixed charge p/MPAN/day | H12: Capacity charge p/kVA/day | I12: Exceeded capacity charge p/kVA/day | J12: Reactive power charge p/kVArh
C13: 0
A14: Notes: | B14: Time periods
B15: [Add DNO specific notes relevant to charges]
B16: Unit charges in the red time band apply – between [xx:xx] and [xx:xx], Monday to Friday including bank holidays.
B17: Unit charges in the amber time band apply – between [xx:xx] and [xx:xx], Monday to Friday including bank holidays.
B18: Unit charges in the green time band apply – between [xx:xx] and [xx:xx], Monday to Friday including bank holidays, and [xx:xx] and [xx:xx] Saturday and Sunday.
B19: All times are UK clock-time.
B21: [Add DNO specific notes]

Sheet Annex 4 LDNO charges
A1: Back to Overview | B1: Copy from CDCM table 3701 "Tariffs!A42:I84" and paste values into A14 | F1: Copy from EDCM table 6005 "LDNORev!B549:G683" and paste values into D57
A2: =Overview!B4& " - Effective from "&Overview!D4&" - "&Overview!E4&" LDNO tariffs" -> Aidien Limited - GSP_B - Effective from 1 April 2025 - Final LDNO tariffs
A4: Time Bands for LV and HV Designated Properties | F4: Time Bands for Unmetered Properties
A5: Time periods | B5: Red Time Band | C5: Amber Time Band | D5: Green Time Band | H5: Black Time Band | I5: Yellow Time Band | J5: Green Time Band
A6: Monday to Friday (Including Bank Holidays) All Year | B6: 16:00 to 19:00 | C6: 07:30 to 16:00 19:00 to 21:00 | D6: 00:00 to 07:30 21:00 to 24:00 | F6: Monday to Friday (Including Bank Holidays) Nov to Feb Inclusive | H6: 16:00 to 19:00 | I6: 07:30 to 16:00 19:00 to 21:00 | J6: 00:00 to 07:30 21:00 to 24:00
A7: Saturday and Sunday All Year | D7: 00:00 to 24:00 | F7: Monday to Friday (Including Bank Holidays) Mar to Oct Inclusive | I7: 07:30 to 21:00 | J7: 00:00 to 07:30 21:00 to 24:00
A8: Notes | B8: All the above times are in UK Clock time | F8: Saturday and Sunday All Year | J8: 00:00 to 24:00
F9: Notes | H9: All the above times are in UK Clock time
A13: Tariff name | B13: Unique billing identifier | C13: PCs | D13: Red/black unit charge p/kWh | E13: Amber/yellow unit charge p/kWh | F13: Green unit charge p/kWh | G13: Fixed charge p/MPAN/day | H13: Capacity charge p/kVA/day | I13: Exceeded capacity charge p/kVA/day | J13: Reactive power charge p/kVArh
A14: LDNO LV: Domestic Aggregated or CT with Residual | B14: B01 | C14: 0, 1, 2 | D14: 7.101 | E14: 1.343 | F14: 0.098 | G14: 5.94 | H14: 0 | I14: 0 | J14: 0
A15: LDNO LV: Domestic Aggregated (related MPAN) | B15: B04 | C15: 2 | D15: 7.101 | E15: 1.343 | F15: 0.098 | G15: 0 | H15: 0 | I15: 0 | J15: 0
A16: LDNO LV: Non-Domestic Aggregated or CT No Residual | B16: B07 | C16: 0, 3, 4, 5-8 | D16: 7.271 | E16: 1.375 | F16: 0.101 | G16: 8.03 | H16: 0 | I16: 0 | J16: 0
A17: LDNO LV: Non-Domestic Aggregated or CT Band 1 | B17: B10 | C17: 0, 3, 4, 5-8 | D17: 7.271 | E17: 1.375 | F17: 0.101 | G17: 9.82 | H17: 0 | I17: 0 | J17: 0
A18: LDNO LV: Non-Domestic Aggregated or CT Band 2 | B18: B13 | C18: 0, 3, 4, 5-8 | D18: 7.271 | E18: 1.375 | F18: 0.101 | G18: 10.99 | H18: 0 | I18: 0 | J18: 0
A19: LDNO LV: Non-Domestic Aggregated or CT Band 3 | B19: B16 | C19: 0, 3, 4, 5-8 | D19: 7.271 | E19: 1.375 | F19: 0.101 | G19: 14.37 | H19: 0 | I19: 0 | J19: 0
A20: LDNO LV: Non-Domestic Aggregated or CT Band 4 | B20: B19 | C20: 0, 3, 4, 5-8 | D20: 7.271 | E20: 1.375 | F20: 0.101 | G20: 25.52 | H20: 0 | I20: 0 | J20: 0
A21: LDNO LV: Non-Domestic Aggregated (related MPAN) | B21: B22 | C21: 4 | D21: 7.271 | E21: 1.375 | F21: 0.101 | G21: 0 | H21: 0 | I21: 0 | J21: 0
A22: LDNO LV: LV Site Specific No Residual | B22: B25 | C22: 0 | D22: 4.577 | E22: 0.839 | F22: 0.06 | G22: 9.81 | H22: 5.34 | I22: 5.34 | J22: 0.127
A23: LDNO LV: LV Site Specific Band 1 | B23: B28 | C23: 0 | D23: 4.577 | E23: 0.839 | F23: 0.06 | G23: 42.3 | H23: 5.34 | I23: 5.34 | J23: 0.127
A24: LDNO LV: LV Site Specific Band 2 | B24: B31 | C24: 0 | D24: 4.577 | E24: 0.839 | F24: 0.06 | G24: 63.83 | H24: 5.34 | I24: 5.34 | J24: 0.127
A25: LDNO LV: LV Site Specific Band 3 | B25: B34 | C25: 0 | D25: 4.577 | E25: 0.839 | F25: 0.06 | G25: 95.15 | H25: 5.34 | I25: 5.34 | J25: 0.127
A26: LDNO LV: LV Site Specific Band 4 | B26: B37 | C26: 0 | D26: 4.577 | E26: 0.839 | F26: 0.06 | G26: 187.33 | H26: 5.34 | I26: 5.34 | J26: 0.127
A27: LDNO LV: Unmetered Supplies | B27: B60 | C27: 0, 1 or 8 | D27: 17.648 | E27: 2.446 | F27: 0.933 | G27: 0 | H27: 0 | I27: 0 | J27: 0
A28: LDNO LV: LV Generation Aggregated | B28: B63 | C28: 0 | D28: -6.744 | E28: -1.276 | F28: -0.094 | G28: 0 | H28: 0 | I28: 0 | J28: 0
A29: LDNO LV: LV Generation Site Specific | B29: B68 | C29: 0 | D29: -6.744 | E29: -1.276 | F29: -0.094 | G29: 0 | H29: 0 | I29: 0 | J29: 0.216
A30: LDNO HV: Domestic Aggregated or CT with Residual | B30: B02 | C30: 0, 1, 2 | D30: 5.668 | E30: 1.072 | F30: 0.079 | G30: 4.74 | H30: 0 | I30: 0 | J30: 0
A31: LDNO HV: Domestic Aggregated (Related MPAN) | B31: B05 | C31: 2 | D31: 5.668 | E31: 1.072 | F31: 0.079 | G31: 0 | H31: 0 | I31: 0 | J31: 0
A32: LDNO HV: Non-Domestic Aggregated or CT No Residual | B32: B08 | C32: 0, 3, 4, 5-8 | D32: 5.803 | E32: 1.098 | F32: 0.08 | G32: 6.41 | H32: 0 | I32: 0 | J32: 0
A33: LDNO HV: Non-Domestic Aggregated or CT Band 1 | B33: B11 | C33: 0, 3, 4, 5-8 | D33: 5.803 | E33: 1.098 | F33: 0.08 | G33: 7.83 | H33: 0 | I33: 0 | J33: 0
A34: LDNO HV: Non-Domestic Aggregated or CT Band 2 | B34: B14 | C34: 0, 3, 4, 5-8 | D34: 5.803 | E34: 1.098 | F34: 0.08 | G34: 8.77 | H34: 0 | I34: 0 | J34: 0
A35: LDNO HV: Non-Domestic Aggregated or CT Band 3 | B35: B17 | C35: 0, 3, 4, 5-8 | D35: 5.803 | E35: 1.098 | F35: 0.08 | G35: 11.46 | H35: 0 | I35: 0 | J35: 0
A36: LDNO HV: Non-Domestic Aggregated or CT Band 4 | B36: B20 | C36: 0, 3, 4, 5-8 | D36: 5.803 | E36: 1.098 | F36: 0.08 | G36: 20.37 | H36: 0 | I36: 0 | J36: 0
A37: LDNO HV: Non-Domestic Aggregated (related MPAN) | B37: B23 | C37: 4 | D37: 5.803 | E37: 1.098 | F37: 0.08 | G37: 0 | H37: 0 | I37: 0 | J37: 0
A38: LDNO HV: LV Site Specific No Residual | B38: B26 | C38: 0 | D38: 3.653 | E38: 0.67 | F38: 0.048 | G38: 7.83 | H38: 4.26 | I38: 4.26 | J38: 0.102
A39: LDNO HV: LV Site Specific Band 1 | B39: B29 | C39: 0 | D39: 3.653 | E39: 0.67 | F39: 0.048 | G39: 33.75 | H39: 4.26 | I39: 4.26 | J39: 0.102
A40: LDNO HV: LV Site Specific Band 2 | B40: B32 | C40: 0 | D40: 3.653 | E40: 0.67 | F40: 0.048 | G40: 50.94 | H40: 4.26 | I40: 4.26 | J40: 0.102
A41: LDNO HV: LV Site Specific Band 3 | B41: B35 | C41: 0 | D41: 3.653 | E41: 0.67 | F41: 0.048 | G41: 75.94 | H41: 4.26 | I41: 4.26 | J41: 0.102
A42: LDNO HV: LV Site Specific Band 4 | B42: B38 | C42: 0 | D42: 3.653 | E42: 0.67 | F42: 0.048 | G42: 149.51 | H42: 4.26 | I42: 4.26 | J42: 0.102
A43: LDNO HV: LV Sub Site Specific No Residual | B43: B40 | C43: 0 | D43: 3.444 | E43: 0.585 | F43: 0.039 | G43: 9.03 | H43: 6.15 | I43: 6.15 | J43: 0.094
A44: LDNO HV: LV Sub Site Specific Band 1 | B44: B42 | C44: 0 | D44: 3.444 | E44: 0.585 | F44: 0.039 | G44: 47.34 | H44: 6.15 | I44: 6.15 | J44: 0.094
...

Sheet Annex 5 LLFs
A1: Back to Overview
A2: This table has intentionally been left blank. The line loss factors that are approved by the BSC Panel for the applicable year and consequently published on the Elexon website will take precedence and be used in Settlement. This annex will be re-published once these values are available.
A3: =Overview!B4& " - Illustrative LLFs for year beginning "&Overview!D4 -> Aidien Limited - GSP_B - Illustrative LLFs for year beginning 1 April 2025
A4: Time periods | B4: Period 1 | C4: Period 2 | D4: Period 3 | E4: Period 4
B5: (Name 1) | C5: (Name 2) | D5: (Name 3) | E5: (Name 4)
A6: Monday to Friday Mar to Oct | D6: 00:30 – 07:30 | E6: 07:30 – 00:30
A7: Monday to Friday Nov to Feb | B7: 16:00 – 19:00 | C7: 07:30 – 16:00 19:00 – 20:00 | D7: 00:30 – 07:30 | E7: 20:00 – 00:30
A8: Saturday and Sunday All Year | D8: 00:30 – 07:30 | E8: 07:30 – 00:30
A9: Notes | B9: All the above times are in UK Clock time
A12: Generic demand and generation LLFs
A13: Metered voltage, respective periods and associated LLFCs
A14: Metered voltage | B14: Period 1 | C14: Period 2 | D14: Period 3 | E14: Period 4 | F14: Associated LLFC
A15: 132kV connected | B15: 1.009 | C15: 1.008 | D15: 1.006 | E15: 1.007
A16: 132/EHV connected | B16: 1.014 | C16: 1.014 | D16: 1.013 | E16: 1.013
A17: 132/HV connected | B17: 1.02 | C17: 1.019 | D17: 1.016 | E17: 1.017
A18: EHV connected | B18: 1.023 | C18: 1.022 | D18: 1.018 | E18: 1.019
A19: High Voltage Substation | B19: 1.034 | C19: 1.032 | D19: 1.028 | E19: 1.029
A20: High Voltage Network | B20: 1.048 | C20: 1.045 | D20: 1.036 | E20: 1.04 | F20: B50,B51,B52,B53,B54,B55,B56,B57,B58,B59,B78,B79,B80,B81
A21: Low Voltage Substation | B21: 1.065 | C21: 1.063 | D21: 1.061 | E21: 1.059 | F21: B40,B41,B42,B43,B44,B45,B46,B47,B48,B49,B66,B67,B74,B75,B76,B77
A22: Low Voltage Network | B22: 1.092 | C22: 1.087 | D22: 1.076 | E22: 1.079 | F22: B01,B02,B03,B04,B05,B06,B07,B08,B09,B10,B11,B12,B13,B14,B15,B16,B17,B18,B19,B20,B21,B22,B23,B24,B25,B26,B27,B28,B29,B30,B31,B32,B33,B34,B35,B36,B37,B38,B39,B60,B61,B62,B63,B64,B65,B68,B69,B70,B71,B72,B73
A24: EHV site specific LLFs
A25: Demand
A26: Site | B26: Period 1 | C26: Period 2 | D26: Period 3 | E26: Period 4 | F26: Associated LLFC
A27: Site 1
A28: Site 2
A29: Site 3
A30: Site 4
A31: Site 5
A33: EHV site specific LLFs
A34: Generation
A35: Site | B35: Period 1 | C35: Period 2 | D35: Period 3 | E35: Period 4 | F35: Associated LLFC
A36: Site 1
A37: Site 2
A38: Site 3
A39: Site 4
A40: Site 5

Sheet Annex 6 New or Amended EHV
A1: Back to Overview | H1: Note: The list of MPANs/MSIDs provided may be incomplete; the DNO reserves the right to apply the listed charges to any other MPANs/MSIDs associated with the site. If sites appear in both Annex 2 and Annex 6, the charges in Annex 6 take precedence. Where an existing Designated EHV Property is modified and energised in the charging year, we may revise the EDCM charges for the modified Designated EHV Property.
A2: Annex 6 - Charges for New or Amended Designated EHV Properties
A4: =Overview!B4& " - Effective from "&Overview!D4&" - "&Overview!E4&" new designated EHV charges" -> Aidien Limited - GSP_B - Effective from 1 April 2025 - Final new designated EHV charges
A5: Effective from date | B5: Import Unique Identifier | C5: LLFC | D5: Import MPANs/MSIDs | E5: Export Unique Identifier | F5: LLFC | G5: Export MPANs/MSIDs | H5: Name | I5: Residual Charging Band | J5: =#REF! -> #REF! | K5: =#REF! -> #REF! | L5: =#REF! -> #REF! | M5: =#REF! -> #REF! | N5: =#REF! -> #REF! | O5: =#REF! -> #REF! | P5: =#REF! -> #REF! | Q5: =#REF! -> #REF!
B6: EDCM import 1 | E6: EDCM export 1
B7: EDCM import 2 | E7: EDCM export 2
B8: EDCM import 3 | E8: EDCM export 3
B9: EDCM import 4 | E9: EDCM export 4
B10: EDCM import 5 | E10: EDCM export 5
B11: EDCM import 6 | E11: EDCM export 6
B12: EDCM import 7 | E12: EDCM export 7
B13: EDCM import 8 | E13: EDCM export 8
B14: EDCM import 9 | E14: EDCM export 9
B15: EDCM import 10 | E15: EDCM export 10
A17: =Overview!B4& " - Effective from "&Overview!D4&" - "&Overview!E4&" new designated EHV line loss factors" -> Aidien Limited - GSP_B - Effective from 1 April 2025 - Final new designated EHV line loss factors
A18: Effective from date | B18: Import Unique Identifier | C18: LLFC | D18: Import MPANs/MSIDs | E18: Export Unique Identifier | F18: LLFC | G18: Export MPANs/MSIDs | H18: Name | I18: Residual Charging Band | J18: Import LLF period 1 | K18: Import LLF period 2 | L18: Import LLF period 3 | M18: Import LLF period 4 | N18: Export LLF period 1 | O18: Export LLF period 2 | P18: Export LLF period 3 | Q18: Export LLF period 4
B19: EDCM Import 1 | E19: EDCM Export 1
B20: EDCM Import 2 | E20: EDCM Export 2
B21: EDCM Import 3 | E21: EDCM Export 3
B22: EDCM Import 4 | E22: EDCM Export 4
B23: EDCM Import 5 | E23: EDCM Export 5
B24: EDCM Import 6 | E24: EDCM Export 6
B25: EDCM Import 7 | E25: EDCM Export 7
B26: EDCM Import 8 | E26: EDCM Export 8
B27: EDCM Import 9 | E27: EDCM Export 9
B28: EDCM Import 10 | E28: EDCM Export 10

Sheet Annex 7 Pass-Through Costs
A1: Back to Overview
A2: =Overview!B4& " - Effective from "&Overview!D4&" - "&Overview!E4&" Supplier of Last Resort and Eligible Bad Debt Pass-Through Costs" -> Aidien Limited - GSP_B - Effective from 1 April 2025 - Final Supplier of Last Resort and Eligible Bad Debt Pass-Through Costs
A4: Tariff name | B4: Open LLFCs / LDNO unique billing identifier | C4: PCs | D4: Supplier of Last Resort Fixed charge adder* p/MPAN/day | E4: Eligible Bad Debt Fixed charge adder*** p/MPAN/day
A5: Domestic Aggregated or CT with Residual | B5: =IF(IFERROR(INDEX('Annex 1 LV, HV and UMS charges'!$B$12:$B$45,MATCH($A5,'Annex 1 LV, HV and UMS charges'!$A$12:$A$310,0)),INDEX('Annex 4 LDNO charges'!$B$14:$B$203,MATCH($A5,'Annex 4 LDNO charges'!$A$14:$A$203,0)))=0,"",IFERROR(INDEX('Annex 1 LV, HV and UMS charges'!$B$12:$B$45,MATCH($A5,'Annex 1 LV, HV and UMS charges'!$A$12:$A$310,0)),INDEX('Annex 4 LDNO charges'!$B$14:$B$203,MATCH($A5,'Annex 4 LDNO charges'!$A$14:$A$203,0)))) -> B01,B02,B03 | C5: 0, 1, 2 | D5: 0 | E5: -0.02
A6: Non-Domestic Aggregated or CT No Residual | B6: =IF(IFERROR(INDEX('Annex 1 LV, HV and UMS charges'!$B$12:$B$45,MATCH($A6,'Annex 1 LV, HV and UMS charges'!$A$12:$A$310,0)),INDEX('Annex 4 LDNO charges'!$B$14:$B$203,MATCH($A6,'Annex 4 LDNO charges'!$A$14:$A$203,0)))=0,"",IFERROR(INDEX('Annex 1 LV, HV and UMS charges'!$B$12:$B$45,MATCH($A6,'Annex 1 LV, HV and UMS charges'!$A$12:$A$310,0)),INDEX('Annex 4 LDNO charges'!$B$14:$B$203,MATCH($A6,'Annex 4 LDNO charges'!$A$14:$A$203,0)))) -> B07,B08,B09 | C6: 0, 3, 4, 5-8 | E6: -0.02
A7: Non-Domestic Aggregated or CT Band 1 | B7: =IF(IFERROR(INDEX('Annex 1 LV, HV and UMS charges'!$B$12:$B$45,MATCH($A7,'Annex 1 LV, HV and UMS charges'!$A$12:$A$310,0)),INDEX('Annex 4 LDNO charges'!$B$14:$B$203,MATCH($A7,'Annex 4 LDNO charges'!$A$14:$A$203,0)))=0,"",IFERROR(INDEX('Annex 1 LV, HV and UMS charges'!$B$12:$B$45,MATCH($A7,'Annex 1 LV, HV and UMS charges'!$A$12:$A$310,0)),INDEX('Annex 4 LDNO charges'!$B$14:$B$203,MATCH($A7,'Annex 4 LDNO charges'!$A$14:$A$203,0)))) -> B10,B11,B12 | C7: 0, 3, 4, 5-8 | E7: -0.02
A8: Non-Domestic Aggregated or CT Band 2 | B8: =IF(IFERROR(INDEX('Annex 1 LV, HV and UMS charges'!$B$12:$B$45,MATCH($A8,'Annex 1 LV, HV and UMS charges'!$A$12:$A$310,0)),INDEX('Annex 4 LDNO charges'!$B$14:$B$203,MATCH($A8,'Annex 4 LDNO charges'!$A$14:$A$203,0)))=0,"",IFERROR(INDEX('Annex 1 LV, HV and UMS charges'!$B$12:$B$45,MATCH($A8,'Annex 1 LV, HV and UMS charges'!$A$12:$A$310,0)),INDEX('Annex 4 LDNO charges'!$B$14:$B$203,MATCH($A8,'Annex 4 LDNO charges'!$A$14:$A$203,0)))) -> B13,B14,B15 | C8: 0, 3, 4, 5-8 | E8: -0.02
A9: Non-Domestic Aggregated or CT Band 3 | B9: =IF(IFERROR(INDEX('Annex 1 LV, HV and UMS charges'!$B$12:$B$45,MATCH($A9,'Annex 1 LV, HV and UMS charges'!$A$12:$A$310,0)),INDEX('Annex 4 LDNO charges'!$B$14:$B$203,MATCH($A9,'Annex 4 LDNO charges'!$A$14:$A$203,0)))=0,"",IFERROR(INDEX('Annex 1 LV, HV and UMS charges'!$B$12:$B$45,MATCH($A9,'Annex 1 LV, HV and UMS charges'!$A$12:$A$310,0)),INDEX('Annex 4 LDNO charges'!$B$14:$B$203,MATCH($A9,'Annex 4 LDNO charges'!$A$14:$A$203,0)))) -> B16,B17,B18 | C9: 0, 3, 4, 5-8 | E9: -0.02
A10: Non-Domestic Aggregated or CT Band 4 | B10: =IF(IFERROR(INDEX('Annex 1 LV, HV and UMS charges'!$B$12:$B$45,MATCH($A10,'Annex 1 LV, HV and UMS charges'!$A$12:$A$310,0)),INDEX('Annex 4 LDNO charges'!$B$14:$B$203,MATCH($A10,'Annex 4 LDNO charges'!$A$14:$A$203,0)))=0,"",IFERROR(INDEX('Annex 1 LV, HV and UMS charges'!$B$12:$B$45,MATCH($A10,'Annex 1 LV, HV and UMS charges'!$A$12:$A$310,0)),INDEX('Annex 4 LDNO charges'!$B$14:$B$203,MATCH($A10,'Annex 4 LDNO charges'!$A$14:$A$203,0)))) -> B19,B20,B21 | C10: 0, 3, 4, 5-8 | E10: -0.02
