Workbook
Name OLE_LINK1: 'Annex 3 Preserved charges'!#REF!

Sheet Overview
A2: Company and Licence name, charging year, effective from, status
B3: Company and Licence name | C3: Year | D3: Effective From | E3: Status
A4: Company and Licence name, charging year, effective from, status | B4: Aidien Limited - GSP_B | C4: 2026/27 | D4: 1 April 2026 | E4: Final
A6: List of data tables in this workbook
A7: Worksheet | B7: Information
A8: Annex 1 LV, HV and Unmetered Supplies charges | B8: Annex 1 contains the charges to LV and HV Designated Properties and Unmetered Supplies.
A9: Annex 2 Designated EHV charges | B9: ="Annex 2 contains the charges to Designated EHV Properties and charges applied to LDNOs with Designated EHV Properties/end-users embedded in networks within the " &B4 &" Licence area." -> Annex 2 contains the charges to Designated EHV Properties and charges applied to LDNOs with Designated EHV Properties/end-users embedded in networks within the Aidien Limited - GSP_B Licence area.
A10: Annex 3 Preserved charges | B10: Annex 3 contains details of any preserved and additional charges that are valid at this time.
A11: Annex 4 LDNO charges | B11: ="Annex 4 contains charges that are levied on the owner of an embedded network within the "&B4&" Licence area. "&"Electricity suppliers and consumers who have properties connected to an embedded network should contact the embedded network owner to determine their distribution charges."&" The charges listed in this table are not payable by domestic consumers, business consumers or electricity suppliers." -> Annex 4 contains charges that are levied on the owner of an embedded network within the Aidien Limited - GSP_B Licence area. Electricity suppliers and consumers who have properties connected to an embedded network should contact the embedded network owner to determine their distribution charges. The charges listed in this table are not payable by domestic consumers, business consumers or electricity suppliers.
A12: Annex 5 LLFs | B12: Annex 5 has been intentionally left blank as this charging statement is published a complete year before the LLFs have been audited. The line loss factors that are approved by the BSC Panel for the applicable year and consequently published on the Elexon website will take precedence and be used in Settlement. This annex will be re-published with these values once they are available.
A13: Annex 6 Charges for New or Amended Designated EHV Properties | B13: ="Annex 6 contains the charges for new or amended Designated EHV Properties and charges applied to LDNOs with new or amended Designated EHV Properties/end-users embedded in networks within the " &B4 &" Licence area." -> Annex 6 contains the charges for new or amended Designated EHV Properties and charges applied to LDNOs with new or amended Designated EHV Properties/end-users embedded in networks within the Aidien Limited - GSP_B Licence area.
A14: Annex 7 Fixed adders for Supplier of Last Resort and Eligible Bad Debt pass-through costs | B14: Annex 7 contains the fixed adders to recover Supplier of Last Resort and Eligible Bad Debt pass-through costs. The Excess Supplier of Last Resort fixed adder relates to an increase to previously published charges only.
A15: Nodal prices | B15: Contains the underlying [nodal/network group] costs used to calculate the current EDCM charges.
A16: SSC unit rate lookup | B16: Contains a mapping of Standard Settlement Configurations to common decodings
A17: Residual Charging Bandings | B17: Contains the four Residual charging band allocation for Customers
A18: TNUoS Mapping | B18: Contains a mapping of DUoS Tariffs to TNUoS Site Charging Bands
A19: Charge calculator | B19: Charge calculator is a tool to help you estimate your distribution charges using current consumption data and forecast consumption data.
A21: Notes to users of this spreadsheet
A23: Please use this spreadsheet with reference to the LC14 use of system charging statement.
A25: Notes to DNOs populating this spreadsheet
A27: DNOs must endeavour to maintain consistency in the structure of this spreadsheet. Any changes to the structure must be noted in the 'Notes to users of this spreadsheet'
A28: The drop down list on the charge calculator can be expanded by unprotecting the charge calculator sheet and selecting 'data', 'data validation...' and then expanding the 'source' data range. The sheet can then be protected.

Sheet Annex 1 LV, HV and UMS charges
A1: Back to Overview | B1: 'DNOs paste value cells A15:J47 from CDCM 3701 into cells A14:J46
A2: =Overview!B4& " - Effective from "&Overview!D4&" - "&Overview!E4&" LV and HV charges" -> Aidien Limited - GSP_B - Effective from 1 April 2026 - Final LV and HV charges
A4: Time Bands for LV and HV Designated Properties | G4: Time Bands for Unmetered Properties
A5: Time periods | B5: Red Time Band | C5: Amber Time Band | E5: Green Time Band | I5: Black Time Band | J5: Yellow Time Band | K5: Green Time Band
A6: Monday to Friday (Including Bank Holidays) All Year | B6: 16:00 - 19:00 | C6: 07:30 to 16:00 19:00 to 21:00 | E6: 00:00 to 07:30 21:00 to 24:00 | G6: Monday to Friday (Including Bank Holidays) Nov to Feb Inclusive | I6: 16:00 to 19:00 | J6: 07:30 to 16:00 19:00 to 21:00 | K6: 00:00 to 07:30 21:00 to 24:00
A7: Saturday and Sunday All Year | E7: 00:00 to 24:00 | G7: Monday to Friday (Including Bank Holidays) Mar to Oct Inclusive | J7: 07:30 to 21:00 | K7: 00:00 to 07:30 21:00 to 24:00
A8: Notes | B8: All the above times are in UK Clock time | G8: Saturday and Sunday All year | K8: 00:00 to 24:00
G9: Notes | I9: All the above times are in UK Clock time
A11: Tariff name | B11: Open LLFCs/ DUoS Tariff IDs | C11: PCs | D11: Red/black unit charge p/kWh | E11: Amber/yellow unit charge p/kWh | F11: Green unit charge p/kWh | G11: Fixed charge p/MPAN/day | H11: Capacity charge p/kVA/day | I11: Exceeded capacity charge p/kVA/day | J11: Reactive power charge p/kVArh | K11: Closed LLFCs
A12: Domestic Aggregated or CT with Residual | B12: B01,B02,B03 | C12: 0, 1, 2 | D12: 11.88 | E12: 1.538 | F12: 0.092 | G12: 8.51 | H12: 0 | I12: 0 | J12: 0
A13: Domestic Aggregated (Related MPAN) | B13: B04,B05,B06 | C13: 2 | D13: 11.88 | E13: 1.538 | F13: 0.092 | G13: 0 | H13: 0 | I13: 0 | J13: 0
A14: Non-Domestic Aggregated or CT No Residual | B14: B07,B08,B09 | C14: 0, 3, 4, 5-8 | D14: 12.031 | E14: 1.557 | F14: 0.093 | G14: 11.53 | H14: 0 | I14: 0 | J14: 0
A15: Non-Domestic Aggregated or CT Band 1 | B15: B10,B11,B12 | C15: 0, 3, 4, 5-8 | D15: 12.031 | E15: 1.557 | F15: 0.093 | G15: 12.6 | H15: 0 | I15: 0 | J15: 0
A16: Non-Domestic Aggregated or CT Band 2 | B16: B13,B14,B15 | C16: 0, 3, 4, 5-8 | D16: 12.031 | E16: 1.557 | F16: 0.093 | G16: 15.58 | H16: 0 | I16: 0 | J16: 0
A17: Non-Domestic Aggregated or CT Band 3 | B17: B16,B17,B18 | C17: 0, 3, 4, 5-8 | D17: 12.031 | E17: 1.557 | F17: 0.093 | G17: 20.43 | H17: 0 | I17: 0 | J17: 0
A18: Non-Domestic Aggregated or CT Band 4 | B18: B19,B20,B21 | C18: 0, 3, 4, 5-8 | D18: 12.031 | E18: 1.557 | F18: 0.093 | G18: 35.01 | H18: 0 | I18: 0 | J18: 0
A19: Non-Domestic Aggregated (related MPAN) | B19: B22,B23,B24 | C19: 4 | D19: 12.031 | E19: 1.557 | F19: 0.093 | G19: 0 | H19: 0 | I19: 0 | J19: 0
A20: LV Site Specific No Residual | B20: B25,B26,B27 | C20: 0 | D20: 7.777 | E20: 0.958 | F20: 0.054 | G20: 13.64 | H20: 7.68 | I20: 7.68 | J20: 0.244
A21: LV Site Specific Band 1 | B21: B28,B29,B30 | C21: 0 | D21: 7.777 | E21: 0.958 | F21: 0.054 | G21: 55.73 | H21: 7.68 | I21: 7.68 | J21: 0.244
A22: LV Site Specific Band 2 | B22: B31,B32,B33 | C22: 0 | D22: 7.777 | E22: 0.958 | F22: 0.054 | G22: 85.08 | H22: 7.68 | I22: 7.68 | J22: 0.244
A23: LV Site Specific Band 3 | B23: B34,B35,B36 | C23: 0 | D23: 7.777 | E23: 0.958 | F23: 0.054 | G23: 129 | H23: 7.68 | I23: 7.68 | J23: 0.244
A24: LV Site Specific Band 4 | B24: B37,B38,B39 | C24: 0 | D24: 7.777 | E24: 0.958 | F24: 0.054 | G24: 239.73 | H24: 7.68 | I24: 7.68 | J24: 0.244
A25: LV Sub Site Specific No Residual | B25: B40,B41 | C25: 0 | D25: 5.147 | E25: 0.56 | F25: 0.027 | G25: 10.65 | H25: 7.4 | I25: 7.4 | J25: 0.155
A26: LV Sub Site Specific Band 1 | B26: B42,B43 | C26: 0 | D26: 5.147 | E26: 0.56 | F26: 0.027 | G26: 52.73 | H26: 7.4 | I26: 7.4 | J26: 0.155
A27: LV Sub Site Specific Band 2 | B27: B44,B45 | C27: 0 | D27: 5.147 | E27: 0.56 | F27: 0.027 | G27: 82.09 | H27: 7.4 | I27: 7.4 | J27: 0.155
A28: LV Sub Site Specific Band 3 | B28: B46,B47 | C28: 0 | D28: 5.147 | E28: 0.56 | F28: 0.027 | G28: 126.01 | H28: 7.4 | I28: 7.4 | J28: 0.155
A29: LV Sub Site Specific Band 4 | B29: B48,B49 | C29: 0 | D29: 5.147 | E29: 0.56 | F29: 0.027 | G29: 236.74 | H29: 7.4 | I29: 7.4 | J29: 0.155
A30: HV Site Specific No Residual | B30: B50,B51 | C30: 0 | D30: 2.837 | E30: 0.257 | F30: 0.009 | G30: 98.28 | H30: 8.57 | I30: 8.57 | J30: 0.076
A31: HV Site Specific Band 1 | B31: B52,B53 | C31: 0 | D31: 2.837 | E31: 0.257 | F31: 0.009 | G31: 360.65 | H31: 8.57 | I31: 8.57 | J31: 0.076
... A34: HV Site Specific Band 4 | B34: B58,B59 | C34: 0 | D34: 2.837 | E34: 0.257 | F34: 0.009 | G34: 3736.24 | H34: 8.57 | I34: 8.57 | J34: 0.076
A35: Unmetered Supplies | B35: B60,B61,B62 | C35: 0, 1 or 8 | D35: 32.874 | E35: 3.018 | F35: 1.229 | G35: 0 | H35: 0 | I35: 0 | J35: 0
A36: LV Generation Aggregated | B36: B63,B64,B65 | C36: 0 | D36: -7.711 | E36: -0.998 | F36: -0.06 | G36: 0 | H36: 0 | I36: 0 | J36: 0
A37: LV Sub Generation Aggregated | B37: B66,B67 | C37: 0 | D37: -6.422 | E37: -0.805 | F37: -0.047 | G37: 0 | H37: 0 | I37: 0 | J37: 0
A38: LV Generation Site Specific | B38: B68,B69,B70 | C38: 0 | D38: -7.711 | E38: -0.998 | F38: -0.06 | G38: 0 | H38: 0 | I38: 0 | J38: 0.279
A39: LV Generation Site Specific no RP charge | B39: B71,B72,B73 | C39: 0 | D39: -7.711 | E39: -0.998 | F39: -0.06 | G39: 0 | H39: 0 | I39: 0 | J39: 0
A40: LV Sub Generation Site Specific | B40: B74,B75 | C40: 0 | D40: -6.422 | E40: -0.805 | F40: -0.047 | G40: 0 | H40: 0 | I40: 0 | J40: 0.207
A41: LV Sub Generation Site Specific no RP charge | B41: B76,B77 | C41: 0 | D41: -6.422 | E41: -0.805 | F41: -0.047 | G41: 0 | H41: 0 | I41: 0 | J41: 0
A42: HV Generation Site Specific | B42: B78,B79 | C42: 0 | D42: -3.958 | E42: -0.431 | F42: -0.021 | G42: 61.51 | H42: 0 | I42: 0 | J42: 0.172
A43: HV Generation Site Specific no RP charge | B43: B80,B81 | C43: 0 | D43: -3.958 | E43: -0.431 | F43: -0.021 | G43: 61.51 | H43: 0 | I43: 0 | J43: 0

Sheet Annex 2 Designated EHV charges
A1: Back to Overview | C1: Copy EDCM table 5001 range starting B101 and paste into G11. Extend or reduce print area as required. | F1: Note: The list of MPANs / MSIDs provided may be incomplete; the DNO reserves the right to apply the listed charges to any other MPANs / MSIDs associated with the site.
A2: =Overview!B4& " - Effective from "&Overview!D4&" - "&Overview!E4&" Designated EHV charges" -> Aidien Limited - GSP_B - Effective from 1 April 2026 - Final Designated EHV charges
A4: Time Periods for Designated EHV Properties
A5: Time periods | D5: Super Red Time Band
A6: Monday to Friday (Including Bank Holidays) November to February Inclusive | D6: 16:00 to 19:00
A7: Notes | D7: All the above times are in UK Clock time
A10: Import Unique Identifier | B10: LLFC/DUoS Tariff Id | C10: Import MPANs/MSIDs | D10: Export Unique Identifier | E10: LLFC/DUoS Tariff Id | F10: Export MPANs/MSIDs | G10: Name | H10: Residual Charging Band | I10: Import Super Red unit charge (p/kWh) | J10: Import fixed charge (p/day) | K10: Import capacity charge (p/kVA/day) | L10: Import exceeded capacity charge (p/kVA/day) | M10: Export Super Red unit charge (p/kWh) | N10: Export fixed charge (p/day) | O10: Export capacity charge (p/kVA/day) | P10: Export exceeded capacity charge (p/kVA/day)

Sheet Annex 2a Import
A1: Note: The list of MPANs / MSIDs provided may be incomplete; the DNO reserves the right to apply the listed charges to any other MPANs / MSIDs associated with the site. Note: This table is automatically populated based on the content of the tab entitled 'Annex 2 EHV Charges'. The timebands are as shown in Annex 2.
A2: =Overview!B4& " - Effective from "&Overview!D4&" - "&Overview!E4&" Designated EHV import charges" -> Aidien Limited - GSP_B - Effective from 1 April 2026 - Final Designated EHV import charges
A4: Import Unique Identifier | B4: LLFC/DUoS Tariff Id | C4: Import MPANs/MSIDs | D4: Name | E4: ='Annex 2 Designated EHV charges'!I10 -> Import Super Red unit charge (p/kWh) | F4: ='Annex 2 Designated EHV charges'!J10 -> Import fixed charge (p/day) | G4: ='Annex 2 Designated EHV charges'!K10 -> Import capacity charge (p/kVA/day) | H4: ='Annex 2 Designated EHV charges'!L10 -> Import exceeded capacity charge (p/kVA/day)

Sheet Annex 2b Export
A1: Note: The list of MPANs / MSIDs provided may be incomplete; the DNO reserves the right to apply the listed charges to any other MPANs / MSIDs associated with the site. Note: This table is automatically populated based on the content of the tab entitled 'Annex 2 EHV Charges'. The timebands are as shown in Annex 2.
A2: =Overview!B4& " - Effective from "&Overview!D4&" - "&Overview!E4&" Designated EHV export charges" -> Aidien Limited - GSP_B - Effective from 1 April 2026 - Final Designated EHV export charges
A4: Export Unique Identifier | B4: LLFC/DUoS Tariff Id | C4: Export MPANs/MSIDs | D4: Name | E4: ='Annex 2 Designated EHV charges'!M10 -> Export Super Red unit charge (p/kWh) | F4: ='Annex 2 Designated EHV charges'!N10 -> Export fixed charge (p/day) | G4: ='Annex 2 Designated EHV charges'!O10 -> Export capacity charge (p/kVA/day) | H4: ='Annex 2 Designated EHV charges'!P10 -> Export exceeded capacity charge (p/kVA/day)
A5: {=IFERROR(INDEX('Annex 2 Designated EHV charges'!$D$11:$D$399, MATCH(0, IF(ISBLANK('Annex 2 Designated EHV charges'!$D$11:$D$399),1, COUNTIF(A$4:$A4, 'Annex 2 Designated EHV charges'!$D$11:$D$399)), 0)),"")} | B5: =IF($A5="","",VLOOKUP($A5,'Annex 2 Designated EHV charges'!$D:$O,2,0)) | C5: =IF($A5="","",VLOOKUP($A5,'Annex 2 Designated EHV charges'!$D:$O,3,0)) | D5: =IF($A5="","",VLOOKUP($A5,'Annex 2 Designated EHV charges'!$D:$O,4,0)) | E5: =IFERROR(IF(VLOOKUP($A5,'Annex 2 Designated EHV charges'!$D:$P,COLUMN(E5)+5,FALSE)=0,"",VLOOKUP($A5,'Annex 2 Designated EHV charges'!$D:$P,COLUMN(E5)+5,FALSE)),"") | F5: =IFERROR(IF(VLOOKUP($A5,'Annex 2 Designated EHV charges'!$D:$P,COLUMN(F5)+5,FALSE)=0,"",VLOOKUP($A5,'Annex 2 Designated EHV charges'!$D:$P,COLUMN(F5)+5,FALSE)),"") | G5: =IFERROR(IF(VLOOKUP($A5,'Annex 2 Designated EHV charges'!$D:$P,COLUMN(G5)+5,FALSE)=0,"",VLOOKUP($A5,'Annex 2 Designated EHV charges'!$D:$P,COLUMN(G5)+5,FALSE)),"") | H5: =IFERROR(IF(VLOOKUP($A5,'Annex 2 Designated EHV charges'!$D:$P,COLUMN(H5)+5,FALSE)=0,"",VLOOKUP($A5,'Annex 2 Designated EHV charges'!$D:$P,COLUMN(H5)+5,FALSE)),"")

Sheet Annex 3 Preserved charges
A1: Back to Overview
A2: =Overview!B4& " - Effective from "&Overview!D4&" - "&Overview!E4&" LV and HV tariffs" -> Aidien Limited - GSP_B - Effective from 1 April 2026 - Final LV and HV tariffs
A3: Supercustomer preserved charges/additional LLFCs
B4: Closed LLFCs | C4: PCs | D4: Red/black unit charge p/kWh | E4: Amber/yellow unit charge p/kWh | F4: Green unit charge p/kWh | G4: Fixed charge p/MPAN/day
A6: Notes: | B6: [Add DNO specific notes relevant to charges]
A11: Site Specific preserved charges/additional LLFCs
B12: Closed LLFCs | C12: PCs | D12: Red/black unit charge p/kWh | E12: Amber/yellow unit charge p/kWh | F12: Green unit charge p/kWh | G12: Fixed charge p/MPAN/day | H12: Capacity charge p/kVA/day | I12: Exceeded capacity charge p/kVA/day | J12: Reactive power charge p/kVArh
C13: 0
A14: Notes: | B14: Time periods
B15: [Add DNO specific notes relevant to charges]
B16: Unit charges in the red time band apply – between [xx:xx] and [xx:xx], Monday to Friday including bank holidays.
B17: Unit charges in the amber time band apply – between [xx:xx] and [xx:xx], Monday to Friday including bank holidays.
B18: Unit charges in the green time band apply – between [xx:xx] and [xx:xx], Monday to Friday including bank holidays, and [xx:xx] and [xx:xx] Saturday and Sunday.
B19: All times are UK clock-time.
B21: [Add DNO specific notes]

Sheet Annex 4 LDNO charges
A1: Back to Overview | B1: Copy from CDCM table 3701 "Tariffs!A42:I84" and paste values into A14 | F1: Copy from EDCM table 6005 "LDNORev!B549:G683" and paste values into D57
A2: =Overview!B4& " - Effective from "&Overview!D4&" - "&Overview!E4&" LDNO tariffs" -> Aidien Limited - GSP_B - Effective from 1 April 2026 - Final LDNO tariffs
A4: Time Bands for LV and HV Designated Properties | F4: Time Bands for Unmetered Properties
A5: Time periods | B5: Red Time Band | C5: Amber Time Band | D5: Green Time Band | H5: Black Time Band | I5: Yellow Time Band | J5: Green Time Band
A6: Monday to Friday (Including Bank Holidays) All Year | B6: 16:00 to 19:00 | C6: 07:30 to 16:00 19:00 to 21:00 | D6: 00:00 to 07:30 21:00 to 24:00 | F6: Monday to Friday (Including Bank Holidays) Nov to Feb Inclusive | H6: 16:00 to 19:00 | I6: 07:30 to 16:00 19:00 to 21:00 | J6: 00:00 to 07:30 21:00 to 24:00
A7: Saturday and Sunday All Year | D7: 00:00 to 24:00 | F7: Monday to Friday (Including Bank Holidays) Mar to Oct Inclusive | I7: 07:30 to 21:00 | J7: 00:00 to 07:30 21:00 to 24:00
A8: Notes | B8: All the above times are in UK Clock time | F8: Saturday and Sunday All Year | J8: 00:00 to 24:00
F9: Notes | H9: All the above times are in UK Clock time
A13: Tariff name | B13: Unique billing identifier | C13: PCs | D13: Red/black unit charge p/kWh | E13: Amber/yellow unit charge p/kWh | F13: Green unit charge p/kWh | G13: Fixed charge p/MPAN/day | H13: Capacity charge p/kVA/day | I13: Exceeded capacity charge p/kVA/day | J13: Reactive power charge p/kVArh
A14: LDNO LV: Domestic Aggregated or CT with Residual | B14: B01 | C14: 0, 1, 2 | D14: 8.171 | E14: 1.057 | F14: 0.063 | G14: 5.86 | H14: 0 | I14: 0 | J14: 0
A15: LDNO LV: Domestic Aggregated (related MPAN) | B15: B04 | C15: 2 | D15: 8.171 | E15: 1.057 | F15: 0.063 | G15: 0 | H15: 0 | I15: 0 | J15: 0
A16: LDNO LV: Non-Domestic Aggregated or CT No Residual | B16: B07 | C16: 0, 3, 4, 5-8 | D16: 8.274 | E16: 1.071 | F16: 0.064 | G16: 7.93 | H16: 0 | I16: 0 | J16: 0
A17: LDNO LV: Non-Domestic Aggregated or CT Band 1 | B17: B10 | C17: 0, 3, 4, 5-8 | D17: 8.274 | E17: 1.071 | F17: 0.064 | G17: 8.66 | H17: 0 | I17: 0 | J17: 0
A18: LDNO LV: Non-Domestic Aggregated or CT Band 2 | B18: B13 | C18: 0, 3, 4, 5-8 | D18: 8.274 | E18: 1.071 | F18: 0.064 | G18: 10.71 | H18: 0 | I18: 0 | J18: 0
A19: LDNO LV: Non-Domestic Aggregated or CT Band 3 | B19: B16 | C19: 0, 3, 4, 5-8 | D19: 8.274 | E19: 1.071 | F19: 0.064 | G19: 14.05 | H19: 0 | I19: 0 | J19: 0
A20: LDNO LV: Non-Domestic Aggregated or CT Band 4 | B20: B19 | C20: 0, 3, 4, 5-8 | D20: 8.274 | E20: 1.071 | F20: 0.064 | G20: 24.08 | H20: 0 | I20: 0 | J20: 0
A21: LDNO LV: Non-Domestic Aggregated (related MPAN) | B21: B22 | C21: 4 | D21: 8.274 | E21: 1.071 | F21: 0.064 | G21: 0 | H21: 0 | I21: 0 | J21: 0
A22: LDNO LV: LV Site Specific No Residual | B22: B25 | C22: 0 | D22: 5.349 | E22: 0.659 | F22: 0.037 | G22: 9.38 | H22: 5.28 | I22: 5.28 | J22: 0.168
A23: LDNO LV: LV Site Specific Band 1 | B23: B28 | C23: 0 | D23: 5.349 | E23: 0.659 | F23: 0.037 | G23: 38.33 | H23: 5.28 | I23: 5.28 | J23: 0.168
A24: LDNO LV: LV Site Specific Band 2 | B24: B31 | C24: 0 | D24: 5.349 | E24: 0.659 | F24: 0.037 | G24: 58.52 | H24: 5.28 | I24: 5.28 | J24: 0.168
A25: LDNO LV: LV Site Specific Band 3 | B25: B34 | C25: 0 | D25: 5.349 | E25: 0.659 | F25: 0.037 | G25: 88.72 | H25: 5.28 | I25: 5.28 | J25: 0.168
A26: LDNO LV: LV Site Specific Band 4 | B26: B37 | C26: 0 | D26: 5.349 | E26: 0.659 | F26: 0.037 | G26: 164.88 | H26: 5.28 | I26: 5.28 | J26: 0.168
A27: LDNO LV: Unmetered Supplies | B27: B60 | C27: 0, 1 or 8 | D27: 22.61 | E27: 2.075 | F27: 0.845 | G27: 0 | H27: 0 | I27: 0 | J27: 0
A28: LDNO LV: LV Generation Aggregated | B28: B63 | C28: 0 | D28: -7.711 | E28: -0.998 | F28: -0.06 | G28: 0 | H28: 0 | I28: 0 | J28: 0
A29: LDNO LV: LV Generation Site Specific | B29: B68 | C29: 0 | D29: -7.711 | E29: -0.998 | F29: -0.06 | G29: 0 | H29: 0 | I29: 0 | J29: 0.279
A30: LDNO HV: Domestic Aggregated or CT with Residual | B30: B02 | C30: 0, 1, 2 | D30: 6.454 | E30: 0.835 | F30: 0.05 | G30: 4.63 | H30: 0 | I30: 0 | J30: 0
A31: LDNO HV: Domestic Aggregated (Related MPAN) | B31: B05 | C31: 2 | D31: 6.454 | E31: 0.835 | F31: 0.05 | G31: 0 | H31: 0 | I31: 0 | J31: 0
A32: LDNO HV: Non-Domestic Aggregated or CT No Residual | B32: B08 | C32: 0, 3, 4, 5-8 | D32: 6.535 | E32: 0.846 | F32: 0.051 | G32: 6.26 | H32: 0 | I32: 0 | J32: 0
A33: LDNO HV: Non-Domestic Aggregated or CT Band 1 | B33: B11 | C33: 0, 3, 4, 5-8 | D33: 6.535 | E33: 0.846 | F33: 0.051 | G33: 6.84 | H33: 0 | I33: 0 | J33: 0
A34: LDNO HV: Non-Domestic Aggregated or CT Band 2 | B34: B14 | C34: 0, 3, 4, 5-8 | D34: 6.535 | E34: 0.846 | F34: 0.051 | G34: 8.46 | H34: 0 | I34: 0 | J34: 0
A35: LDNO HV: Non-Domestic Aggregated or CT Band 3 | B35: B17 | C35: 0, 3, 4, 5-8 | D35: 6.535 | E35: 0.846 | F35: 0.051 | G35: 11.1 | H35: 0 | I35: 0 | J35: 0
A36: LDNO HV: Non-Domestic Aggregated or CT Band 4 | B36: B20 | C36: 0, 3, 4, 5-8 | D36: 6.535 | E36: 0.846 | F36: 0.051 | G36: 19.02 | H36: 0 | I36: 0 | J36: 0
A37: LDNO HV: Non-Domestic Aggregated (related MPAN) | B37: B23 | C37: 4 | D37: 6.535 | E37: 0.846 | F37: 0.051 | G37: 0 | H37: 0 | I37: 0 | J37: 0
A38: LDNO HV: LV Site Specific No Residual | B38: B26 | C38: 0 | D38: 4.225 | E38: 0.52 | F38: 0.029 | G38: 7.41 | H38: 4.17 | I38: 4.17 | J38: 0.132
A39: LDNO HV: LV Site Specific Band 1 | B39: B29 | C39: 0 | D39: 4.225 | E39: 0.52 | F39: 0.029 | G39: 30.27 | H39: 4.17 | I39: 4.17 | J39: 0.132
A40: LDNO HV: LV Site Specific Band 2 | B40: B32 | C40: 0 | D40: 4.225 | E40: 0.52 | F40: 0.029 | G40: 46.22 | H40: 4.17 | I40: 4.17 | J40: 0.132
A41: LDNO HV: LV Site Specific Band 3 | B41: B35 | C41: 0 | D41: 4.225 | E41: 0.52 | F41: 0.029 | G41: 70.08 | H41: 4.17 | I41: 4.17 | J41: 0.132
A42: LDNO HV: LV Site Specific Band 4 | B42: B38 | C42: 0 | D42: 4.225 | E42: 0.52 | F42: 0.029 | G42: 130.23 | H42: 4.17 | I42: 4.17 | J42: 0.132
A43: LDNO HV: LV Sub Site Specific No Residual | B43: B40 | C43: 0 | D43: 4.158 | E43: 0.453 | F43: 0.022 | G43: 8.6 | H43: 5.98 | I43: 5.98 | J43: 0.126
A44: LDNO HV: LV Sub Site Specific Band 1 | B44: B42 | C44: 0 | D44: 4.158 | E44: 0.453 | F44: 0.022 | G44: 42.6 | H44: 5.98 | I44: 5.98 | J44: 0.126
...

Sheet Annex 5 LLFs
A1: Back to Overview
A2: This table has intentionally been left blank. The line loss factors that are approved by the BSC Panel for the applicable year and consequently published on the Elexon website will take precedence and be used in Settlement. This annex will be re-published once these values are available.
A3: =Overview!B4& " - Illustrative LLFs for year beginning "&Overview!D4 -> Aidien Limited - GSP_B - Illustrative LLFs for year beginning 1 April 2026
A4: Time periods | B4: Period 1 | C4: Period 2 | D4: Period 3 | E4: Period 4
B5: (Name 1) | C5: (Name 2) | D5: (Name 3) | E5: (Name 4)
A6: Monday to Friday Mar to Oct | D6: 00:30 – 07:30 | E6: 07:30 – 00:30
A7: Monday to Friday Nov to Feb | B7: 16:00 – 19:00 | C7: 07:30 – 16:00 19:00 – 20:00 | D7: 00:30 – 07:30 | E7: 20:00 – 00:30
A8: Saturday and Sunday All Year | D8: 00:30 – 07:30 | E8: 07:30 – 00:30
A9: Notes | B9: All the above times are in UK Clock time
A12: Generic demand and generation LLFs
A13: Metered voltage, respective periods and associated LLFCs
A14: Metered voltage | B14: Period 1 | C14: Period 2 | D14: Period 3 | E14: Period 4 | F14: Associated LLFC
A15: 132kV connected
A16: 132/EHV connected
A17: 132/HV connected
A18: EHV connected
A19: High Voltage Substation
A20: High Voltage Network
A21: Low Voltage Substation
A22: Low Voltage Network
A24: EHV site specific LLFs
A25: Demand
A26: Site | B26: Period 1 | C26: Period 2 | D26: Period 3 | E26: Period 4 | F26: Associated LLFC
A27: Site 1
A28: Site 2
A29: Site 3
A30: Site 4
A31: Site 5
A33: EHV site specific LLFs
A34: Generation
A35: Site | B35: Period 1 | C35: Period 2 | D35: Period 3 | E35: Period 4 | F35: Associated LLFC
A36: Site 1
A37: Site 2
A38: Site 3
A39: Site 4
A40: Site 5

Sheet Annex 6 New or Amended EHV
A1: Back to Overview | H1: Note: The list of MPANs/MSIDs provided may be incomplete; the DNO reserves the right to apply the listed charges to any other MPANs/MSIDs associated with the site. If sites appear in both Annex 2 and Annex 6, the charges in Annex 6 take precedence. Where an existing Designated EHV Property is modified and energised in the charging year, we may revise the EDCM charges for the modified Designated EHV Property.
A2: Annex 6 - Charges for New or Amended Designated EHV Properties
A4: =Overview!B4& " - Effective from "&Overview!D4&" - "&Overview!E4&" new designated EHV charges" -> Aidien Limited - GSP_B - Effective from 1 April 2026 - Final new designated EHV charges
A5: Effective from date | B5: Import Unique Identifier | C5: LLFC/DUoS Tariff Id | D5: Import MPANs/MSIDs | E5: Export Unique Identifier | F5: LLFC/DUoS Tariff Id | G5: Export MPANs/MSIDs | H5: Name | I5: Residual Charging Band | J5: ='Annex 2 Designated EHV charges'!I10 -> Import Super Red unit charge (p/kWh) | K5: ='Annex 2 Designated EHV charges'!J10 -> Import fixed charge (p/day) | L5: ='Annex 2 Designated EHV charges'!K10 -> Import capacity charge (p/kVA/day) | M5: ='Annex 2 Designated EHV charges'!L10 -> Import exceeded capacity charge (p/kVA/day) | N5: ='Annex 2 Designated EHV charges'!M10 -> Export Super Red unit charge (p/kWh) | O5: ='Annex 2 Designated EHV charges'!N10 -> Export fixed charge (p/day) | P5: ='Annex 2 Designated EHV charges'!O10 -> Export capacity charge (p/kVA/day) | Q5: ='Annex 2 Designated EHV charges'!P10 -> Export exceeded capacity charge (p/kVA/day)
B6: EDCM import 1 | E6: EDCM export 1
B7: EDCM import 2 | E7: EDCM export 2
B8: EDCM import 3 | E8: EDCM export 3
B9: EDCM import 4 | E9: EDCM export 4
B10: EDCM import 5 | E10: EDCM export 5
B11: EDCM import 6 | E11: EDCM export 6
B12: EDCM import 7 | E12: EDCM export 7
B13: EDCM import 8 | E13: EDCM export 8
B14: EDCM import 9 | E14: EDCM export 9
B15: EDCM import 10 | E15: EDCM export 10
A17: =Overview!B4& " - Effective from "&Overview!D4&" - "&Overview!E4&" new designated EHV line loss factors" -> Aidien Limited - GSP_B - Effective from 1 April 2026 - Final new designated EHV line loss factors
A18: Effective from date | B18: Import Unique Identifier | C18: LLFC/DUoS Tariff Id | D18: Import MPANs/MSIDs | E18: Export Unique Identifier | F18: LLFC/DUoS Tariff Id | G18: Export MPANs/MSIDs | H18: Name | I18: Residual Charging Band | J18: Import LLF period 1 | K18: Import LLF period 2 | L18: Import LLF period 3 | M18: Import LLF period 4 | N18: Export LLF period 1 | O18: Export LLF period 2 | P18: Export LLF period 3 | Q18: Export LLF period 4
B19: EDCM Import 1 | E19: EDCM Export 1
B20: EDCM Import 2 | E20: EDCM Export 2
B21: EDCM Import 3 | E21: EDCM Export 3
B22: EDCM Import 4 | E22: EDCM Export 4
B23: EDCM Import 5 | E23: EDCM Export 5
B24: EDCM Import 6 | E24: EDCM Export 6
B25: EDCM Import 7 | E25: EDCM Export 7
B26: EDCM Import 8 | E26: EDCM Export 8
B27: EDCM Import 9 | E27: EDCM Export 9
B28: EDCM Import 10 | E28: EDCM Export 10

Sheet Annex 7 Pass-Through Costs
A1: Back to Overview
A2: =Overview!B4& " - Effective from "&Overview!D4&" - "&Overview!E4&" Supplier of Last Resort and Eligible Bad Debt Pass-Through Costs" -> Aidien Limited - GSP_B - Effective from 1 April 2026 - Final Supplier of Last Resort and Eligible Bad Debt Pass-Through Costs
A4: Tariff name | B4: Open LLFCs / LDNO unique billing identifier | C4: PCs | D4: Supplier of Last Resort Fixed charge adder* p/MPAN/day | E4: Eligible Bad Debt Fixed charge adder*** p/MPAN/day
A5: Domestic Aggregated or CT with Residual | B5: =IF(IFERROR(INDEX('Annex 1 LV, HV and UMS charges'!$B$12:$B$45,MATCH($A5,'Annex 1 LV, HV and UMS charges'!$A$12:$A$310,0)),INDEX('Annex 4 LDNO charges'!$B$14:$B$203,MATCH($A5,'Annex 4 LDNO charges'!$A$14:$A$203,0)))=0,"",IFERROR(INDEX('Annex 1 LV, HV and UMS charges'!$B$12:$B$45,MATCH($A5,'Annex 1 LV, HV and UMS charges'!$A$12:$A$310,0)),INDEX('Annex 4 LDNO charges'!$B$14:$B$203,MATCH($A5,'Annex 4 LDNO charges'!$A$14:$A$203,0)))) -> B01,B02,B03 | C5: 0, 1, 2 | D5: 0 | E5: 0
A6: Non-Domestic Aggregated or CT No Residual | B6: =IF(IFERROR(INDEX('Annex 1 LV, HV and UMS charges'!$B$12:$B$45,MATCH($A6,'Annex 1 LV, HV and UMS charges'!$A$12:$A$310,0)),INDEX('Annex 4 LDNO charges'!$B$14:$B$203,MATCH($A6,'Annex 4 LDNO charges'!$A$14:$A$203,0)))=0,"",IFERROR(INDEX('Annex 1 LV, HV and UMS charges'!$B$12:$B$45,MATCH($A6,'Annex 1 LV, HV and UMS charges'!$A$12:$A$310,0)),INDEX('Annex 4 LDNO charges'!$B$14:$B$203,MATCH($A6,'Annex 4 LDNO charges'!$A$14:$A$203,0)))) -> B07,B08,B09 | C6: 0, 3, 4, 5-8 | E6: 0
A7: Non-Domestic Aggregated or CT Band 1 | B7: =IF(IFERROR(INDEX('Annex 1 LV, HV and UMS charges'!$B$12:$B$45,MATCH($A7,'Annex 1 LV, HV and UMS charges'!$A$12:$A$310,0)),INDEX('Annex 4 LDNO charges'!$B$14:$B$203,MATCH($A7,'Annex 4 LDNO charges'!$A$14:$A$203,0)))=0,"",IFERROR(INDEX('Annex 1 LV, HV and UMS charges'!$B$12:$B$45,MATCH($A7,'Annex 1 LV, HV and UMS charges'!$A$12:$A$310,0)),INDEX('Annex 4 LDNO charges'!$B$14:$B$203,MATCH($A7,'Annex 4 LDNO charges'!$A$14:$A$203,0)))) -> B10,B11,B12 | C7: 0, 3, 4, 5-8 | E7: 0
A8: Non-Domestic Aggregated or CT Band 2 | B8: =IF(IFERROR(INDEX('Annex 1 LV, HV and UMS charges'!$B$12:$B$45,MATCH($A8,'Annex 1 LV, HV and UMS charges'!$A$12:$A$310,0)),INDEX('Annex 4 LDNO charges'!$B$14:$B$203,MATCH($A8,'Annex 4 LDNO charges'!$A$14:$A$203,0)))=0,"",IFERROR(INDEX('Annex 1 LV, HV and UMS charges'!$B$12:$B$45,MATCH($A8,'Annex 1 LV, HV and UMS charges'!$A$12:$A$310,0)),INDEX('Annex 4 LDNO charges'!$B$14:$B$203,MATCH($A8,'Annex 4 LDNO charges'!$A$14:$A$203,0)))) -> B13,B14,B15 | C8: 0, 3, 4, 5-8 | E8: 0
A9: Non-Domestic Aggregated or CT Band 3 | B9: =IF(IFERROR(INDEX('Annex 1 LV, HV and UMS charges'!$B$12:$B$45,MATCH($A9,'Annex 1 LV, HV and UMS charges'!$A$12:$A$310,0)),INDEX('Annex 4 LDNO charges'!$B$14:$B$203,MATCH($A9,'Annex 4 LDNO charges'!$A$14:$A$203,0)))=0,"",IFERROR(INDEX('Annex 1 LV, HV and UMS charges'!$B$12:$B$45,MATCH($A9,'Annex 1 LV, HV and UMS charges'!$A$12:$A$310,0)),INDEX('Annex 4 LDNO charges'!$B$14:$B$203,MATCH($A9,'Annex 4 LDNO charges'!$A$14:$A$203,0)))) -> B16,B17,B18 | C9: 0, 3, 4, 5-8 | E9: 0
A10: Non-Domestic Aggregated or CT Band 4 | B10: =IF(IFERROR(INDEX('Annex 1 LV, HV and UMS charges'!$B$12:$B$45,MATCH($A10,'Annex 1 LV, HV and UMS charges'!$A$12:$A$310,0)),INDEX('Annex 4 LDNO charges'!$B$14:$B$203,MATCH($A10,'Annex 4 LDNO charges'!$A$14:$A$203,0)))=0,"",IFERROR(INDEX('Annex 1 LV, HV and UMS charges'!$B$12:$B$45,MATCH($A10,'Annex 1 LV, HV and UMS charges'!$A$12:$A$310,0)),INDEX('Annex 4 LDNO charges'!$B$14:$B$203,MATCH($A10,'Annex 4 LDNO charges'!$A$14:$A$203,0)))) -> B19,B20,B21 | C10: 0, 3, 4, 5-8 | E10: 0
A11: LV Site Specific No Residual | B11: =IF(IFERROR(INDEX('Annex 1 LV, HV and UMS charges'!$B$12:$B$45,MATCH($A11,'Annex 1 LV, HV and UMS charges'!$A$12:$A$310,0)),INDEX('Annex 4 LDNO charges'!$B$14:$B$203,MATCH($A11,'Annex 4 LDNO charges'!$A$14:$A$203,0)))=0,"",IFERROR(INDEX('Annex 1 LV, HV and UMS charges'!$B$12:$B$45,MATCH($A11,'Annex 1 LV, HV and UMS charges'!$A$12:$A$310,0)),INDEX('Annex 4 LDNO charges'!$B$14:$B$203,MATCH($A11,'Annex 4 LDNO charges'!$A$14:$A$203,0)))) -> B25,B26,B27 | C11: 0 | E11: 0
A12: LV Site Specific Band 1 | B12: =IF(IFERROR(INDEX('Annex 1 LV, HV and UMS charges'!$B$12:$B$45,MATCH($A12,'Annex 1 LV, HV and UMS charges'!$A$12:$A$310,0)),INDEX('Annex 4 LDNO charges'!$B$14:$B$203,MATCH($A12,'Annex 4 LDNO charges'!$A$14:$A$203,0)))=0,"",IFERROR(INDEX('Annex 1 LV, HV and UMS charges'!$B$12:$B$45,MATCH($A12,'Annex 1 LV, HV and UMS charges'!$A$12:$A$310,0)),INDEX('Annex 4 LDNO charges'!$B$14:$B$203,MATCH($A12,'Annex 4 LDNO charges'!$A$14:$A$203,0)))) -> B28,B29,B30 | C12: 0 | E12: 0
A13: LV Site Specific Band 2 | B13: =IF(IFERROR(INDEX('Annex 1 LV, HV and UMS charges'!$B$12:$B$45,MATCH($A13,'Annex 1 LV, HV and UMS charges'!$A$12:$A$310,0)),INDEX('Annex 4 LDNO charges'!$B$14:$B$203,MATCH($A13,'Annex 4 LDNO charges'!$A$14:$A$203,0)))=0,"",IFERROR(INDEX('Annex 1 LV, HV and UMS charges'!$B$12:$B$45,MATCH($A13,'Annex 1 LV, HV and UMS charges'!$A$12:$A$310,0)),INDEX('Annex 4 LDNO charges'!$B$14:$B$203,MATCH($A13,'Annex 4 LDNO charges'!$A$14:$A$203,0)))) -> B31,B32,B33 | C13: 0 | E13: 0
A14: LV Site Specific Band 3 | B14: =IF(IFERROR(INDEX('Annex 1 LV, HV and UMS charges'!$B$12:$B$45,MATCH($A14,'Annex 1 LV, HV and UMS charges'!$A$12:$A$310,0)),INDEX('Annex 4 LDNO charges'!$B$14:$B$203,MATCH($A14,'Annex 4 LDNO charges'!$A$14:$A$203,0)))=0,"",IFERROR(INDEX('Annex 1 LV, HV and UMS charges'!$B$12:$B$45,MATCH($A14,'Annex 1 LV, HV and UMS charges'!$A$12:$A$310,0)),INDEX('Annex 4 LDNO charges'!$B$14:$B$203,MATCH($A14,'Annex 4 LDNO charges'!$A$14:$A$203,0)))) -> B34,B35,B36 | C14: 0 | E14: 0
A15: LV Site Specific Band 4 | B15: =IF(IFERROR(INDEX('Annex 1 LV, HV and UMS charges'!$B$12:$B$45,MATCH($A15,'Annex 1 LV, HV and UMS charges'!$A$12:$A$310,0)),INDEX('Annex 4 LDNO charges'!$B$14:$B$203,MATCH($A15,'Annex 4 LDNO charges'!$A$14:$A$203,0)))=0,"",IFERROR(INDEX('Annex 1 LV, HV and UMS charges'!$B$12:$B$45,MATCH($A15,'Annex 1 LV, HV and UMS charges'!$A$12:$A$310,0)),INDEX('Annex 4 LDNO charges'!$B$14:$B$203,MATCH($A15,'Annex 4 LDNO charges'!$A$14:$A$203,0)))) -> B37,B38,B39 | C15: 0 | E15: 0
A16: LV Sub Site Specific No Residual | B16: =IF(IFERROR(INDEX('Annex 1 LV, HV and UMS charges'!$B$12:$B$45,MATCH($A16,'Annex 1 LV, HV and UMS charges'!$A$12:$A$310,0)),INDEX('Annex 4 LDNO charges'!$B$14:$B$203,MATCH($A16,'Annex 4 LDNO charges'!$A$14:$A$203,0)))=0,"",IFERROR(INDEX('Annex 1 LV, HV and UMS charges'!$B$12:$B$45,MATCH($A16,'Annex 1 LV, HV and UMS charges'!$A$12:$A$310,0)),INDEX('Annex 4 LDNO charges'!$B$14:$B$203,MATCH($A16,'Annex 4 LDNO charges'!$A$14:$A$203,0)))) -> B40,B41 | C16: 0 | E16: 0
A17: LV Sub Site Specific Band 1 | B17: =IF(IFERROR(INDEX('Annex 1 LV, HV and UMS charges'!$B$12:$B$45,MATCH($A17,'Annex 1 LV, HV and UMS charges'!$A$12:$A$310,0)),INDEX('Annex 4 LDNO charges'!$B$14:$B$203,MATCH($A17,'Annex 4 LDNO charges'!$A$14:$A$203,0)))=0,"",IFERROR(INDEX('Annex 1 LV, HV and UMS charges'!$B$12:$B$45,MATCH($A17,'Annex 1 LV, HV and UMS charges'!$A$12:$A$310,0)),INDEX('Annex 4 LDNO charges'!$B$14:$B$203,MATCH($A17,'Annex 4 LDNO charges'!$A$14:$A$203,0)))) -> B42,B43 | C17: 0 | E17: 0
A18: LV Sub Site Specific Band 2 | B18: =IF(IFERROR(INDEX('Annex 1 LV, HV and UMS charges'!$B$12:$B$45,MATCH($A18,'Annex 1 LV, HV and UMS charges'!$A$12:$A$310,0)),INDEX('Annex 4 LDNO charges'!$B$14:$B$203,MATCH($A18,'Annex 4 LDNO charges'!$A$14:$A$203,0)))=0,"",IFERROR(INDEX('Annex 1 LV, HV and UMS charges'!$B$12:$B$45,MATCH($A18,'Annex 1 LV, HV and UMS charges'!$A$12:$A$310,0)),INDEX('Annex 4 LDNO charges'!$B$14:$B$203,MATCH($A18,'Annex 4 LDNO charges'!$A$14:$A$203,0)))) -> B44,B45 | C18: 0 | E18: 0
A19: LV Sub Site Specific Band 3 | B19: =IF(IFERROR(INDEX('Annex 1 LV, HV and UMS charges'!$B$12:$B$45,MATCH($A19,'Annex 1 LV, HV and UMS charges'!$A$12:$A$310,0)),INDEX('Annex 4 LDNO charges'!$B$14:$B$203,MATCH($A19,'Annex 4 LDNO charges'!$A$14:$A$203,0)))=0,"",IFERROR(INDEX('Annex 1 LV, HV and UMS charges'!$B$12:$B$45,MATCH($A19,'Annex 1 LV, HV and UMS charges'!$A$12:$A$310,0)),INDEX('Annex 4 LDNO charges'!$B$14:$B$203,MATCH($A19,'Annex 4 LDNO charges'!$A$14:$A$203,0)))) -> B46,B47 | C19: 0 | E19: 0
A20: LV Sub Site Specific Band 4 | B20: =IF(IFERROR(INDEX('Annex 1 LV, HV and UMS charges'!$B$12:$B$45,MATCH($A20,'Annex 1 LV, HV and UMS charges'!$A$12:$A$310,0)),INDEX('Annex 4 LDNO charges'!$B$14:$B$203,MATCH($A20,'Annex 4 LDNO charges'!$A$14:$A$203,0)))=0,"",IFERROR(INDEX('Annex 1 LV, HV and UMS charges'!$B$12:$B$45,MATCH($A20,'Annex 1 LV, HV and UMS charges'!$A$12:$A$310,0)),INDEX('Annex 4 LDNO charges'!$B$14:$B$203,MATCH($A20,'Annex 4 LDNO charges'!$A$14:$A$203,0)))) -> B48,B49 | C20: 0 | E20: 0
A21: HV Site Specific No Residual | B21: =IF(IFERROR(INDEX('Annex 1 LV, HV and UMS charges'!$B$12:$B$45,MATCH($A21,'Annex 1 LV, HV and UMS charges'!$A$12:$A$310,0)),INDEX('Annex 4 LDNO charges'!$B$14:$B$203,MATCH($A21,'Annex 4 LDNO charges'!$A$14:$A$203,0)))=0,"",IFERROR(INDEX('Annex 1 LV, HV and UMS charges'!$B$12:$B$45,MATCH($A21,'Annex 1 LV, HV and UMS charges'!$A$12:$A$310,0)),INDEX('Annex 4 LDNO charges'!$B$14:$B$203,MATCH($A21,'Annex 4 LDNO charges'!$A$14:$A$203,0)))) -> B50,B51 | C21: 0 | E21: 0
A22: HV Site Specific Band 1 | B22: =IF(IFERROR(INDEX('Annex 1 LV, HV and UMS charges'!$B$12:$B$45,MATCH($A22,'Annex 1 LV, HV and UMS charges'!$A$12:$A$310,0)),INDEX('Annex 4 LDNO charges'!$B$14:$B$203,MATCH($A22,'Annex 4 LDNO charges'!$A$14:$A$203,0)))=0,"",IFERROR(INDEX('Annex 1 LV, HV and UMS charges'!$B$12:$B$45,MATCH($A22,'Annex 1 LV, HV and UMS charges'!$A$12:$A$310,0)),INDEX('Annex 4 LDNO charges'!$B$14:$B$203,MATCH($A22,'Annex 4 LDNO charges'!$A$14:$A$203,0)))) -> B52,B53 | C22: 0 | E22: 0
... A25: HV Site Specific Band 4 | B25: =IF(IFERROR(INDEX('Annex 1 LV, HV and UMS charges'!$B$12:$B$45,MATCH($A25,'Annex 1 LV, HV and UMS charges'!$A$12:$A$310,0)),INDEX('Annex 4 LDNO charges'!$B$14:$B$203,MATCH($A25,'Annex 4 LDNO charges'!$A$14:$A$203,0)))=0,"",IFERROR(INDEX('Annex 1 LV, HV and UMS charges'!$B$12:$B$45,MATCH($A25,'Annex 1 LV, HV and UMS charges'!$A$12:$A$310,0)),INDEX('Annex 4 LDNO charges'!$B$14:$B$203,MATCH($A25,'Annex 4 LDNO charges'!$A$14:$A$203,0)))) -> B58,B59 | C25: 0 | E25: 0
A26: LDNO LV: Domestic Aggregated or CT with Residual | B26: =IF(IFERROR(INDEX('Annex 1 LV, HV and UMS charges'!$B$12:$B$45,MATCH($A26,'Annex 1 LV, HV and UMS charges'!$A$12:$A$310,0)),INDEX('Annex 4 LDNO charges'!$B$14:$B$203,MATCH($A26,'Annex 4 LDNO charges'!$A$14:$A$203,0)))=0,"",IFERROR(INDEX('Annex 1 LV, HV and UMS charges'!$B$12:$B$45,MATCH($A26,'Annex 1 LV, HV and UMS charges'!$A$12:$A$310,0)),INDEX('Annex 4 LDNO charges'!$B$14:$B$203,MATCH($A26,'Annex 4 LDNO charges'!$A$14:$A$203,0)))) -> B01 | C26: 0, 1, 2 | D26: 0 | E26: 0
A27: LDNO LV: Non-Domestic Aggregated or CT No Residual | B27: =IF(IFERROR(INDEX('Annex 1 LV, HV and UMS charges'!$B$12:$B$45,MATCH($A27,'Annex 1 LV, HV and UMS charges'!$A$12:$A$310,0)),INDEX('Annex 4 LDNO charges'!$B$14:$B$203,MATCH($A27,'Annex 4 LDNO charges'!$A$14:$A$203,0)))=0,"",IFERROR(INDEX('Annex 1 LV, HV and UMS charges'!$B$12:$B$45,MATCH($A27,'Annex 1 LV, HV and UMS charges'!$A$12:$A$310,0)),INDEX('Annex 4 LDNO charges'!$B$14:$B$203,MATCH($A27,'Annex 4 LDNO charges'!$A$14:$A$203,0)))) -> B07 | C27: 0, 3, 4, 5-8 | E27: 0
A28: LDNO LV: Non-Domestic Aggregated or CT Band 1 | B28: =IF(IFERROR(INDEX('Annex 1 LV, HV and UMS charges'!$B$12:$B$45,MATCH($A28,'Annex 1 LV, HV and UMS charges'!$A$12:$A$310,0)),INDEX('Annex 4 LDNO charges'!$B$14:$B$203,MATCH($A28,'Annex 4 LDNO charges'!$A$14:$A$203,0)))=0,"",IFERROR(INDEX('Annex 1 LV, HV and UMS charges'!$B$12:$B$45,MATCH($A28,'Annex 1 LV, HV and UMS charges'!$A$12:$A$310,0)),INDEX('Annex 4 LDNO charges'!$B$14:$B$203,MATCH($A28,'Annex 4 LDNO charges'!$A$14:$A$203,0)))) -> B10 | C28: 0, 3, 4, 5-8 | E28: 0
A29: LDNO LV: Non-Domestic Aggregated or CT Band 2 | B29: =IF(IFERROR(INDEX('Annex 1 LV, HV and UMS charges'!$B$12:$B$45,MATCH($A29,'Annex 1 LV, HV and UMS charges'!$A$12:$A$310,0)),INDEX('Annex 4 LDNO charges'!$B$14:$B$203,MATCH($A29,'Annex 4 LDNO charges'!$A$14:$A$203,0)))=0,"",IFERROR(INDEX('Annex 1 LV, HV and UMS charges'!$B$12:$B$45,MATCH($A29,'Annex 1 LV, HV and UMS charges'!$A$12:$A$310,0)),INDEX('Annex 4 LDNO charges'!$B$14:$B$203,MATCH($A29,'Annex 4 LDNO charges'!$A$14:$A$203,0)))) -> B13 | C29: 0, 3, 4, 5-8 | E29: 0
A30: LDNO LV: Non-Domestic Aggregated or CT Band 3 | B30: =IF(IFERROR(INDEX('Annex 1 LV, HV and UMS charges'!$B$12:$B$45,MATCH($A30,'Annex 1 LV, HV and UMS charges'!$A$12:$A$310,0)),INDEX('Annex 4 LDNO charges'!$B$14:$B$203,MATCH($A30,'Annex 4 LDNO charges'!$A$14:$A$203,0)))=0,"",IFERROR(INDEX('Annex 1 LV, HV and UMS charges'!$B$12:$B$45,MATCH($A30,'Annex 1 LV, HV and UMS charges'!$A$12:$A$310,0)),INDEX('Annex 4 LDNO charges'!$B$14:$B$203,MATCH($A30,'Annex 4 LDNO charges'!$A$14:$A$203,0)))) -> B16 | C30: 0, 3, 4, 5-8 | E30: 0
A31: LDNO LV: Non-Domestic Aggregated or CT Band 4 | B31: =IF(IFERROR(INDEX('Annex 1 LV, HV and UMS charges'!$B$12:$B$45,MATCH($A31,'Annex 1 LV, HV and UMS charges'!$A$12:$A$310,0)),INDEX('Annex 4 LDNO charges'!$B$14:$B$203,MATCH($A31,'Annex 4 LDNO charges'!$A$14:$A$203,0)))=0,"",IFERROR(INDEX('Annex 1 LV, HV and UMS charges'!$B$12:$B$45,MATCH($A31,'Annex 1 LV, HV and UMS charges'!$A$12:$A$310,0)),INDEX('Annex 4 LDNO charges'!$B$14:$B$203,MATCH($A31,'Annex 4 LDNO charges'!$A$14:$A$203,0)))) -> B19 | C31: 0, 3, 4, 5-8 | E31: 0
A32: LDNO LV: LV Site Specific No Residual | B32: =IF(IFERROR(INDEX('Annex 1 LV, HV and UMS charges'!$B$12:$B$45,MATCH($A32,'Annex 1 LV, HV and UMS charges'!$A$12:$A$310,0)),INDEX('Annex 4 LDNO charges'!$B$14:$B$203,MATCH($A32,'Annex 4 LDNO charges'!$A$14:$A$203,0)))=0,"",IFERROR(INDEX('Annex 1 LV, HV and UMS charges'!$B$12:$B$45,MATCH($A32,'Annex 1 LV, HV and UMS charges'!$A$12:$A$310,0)),INDEX('Annex 4 LDNO charges'!$B$14:$B$203,MATCH($A32,'Annex 4 LDNO charges'!$A$14:$A$203,0)))) -> B25 | C32: 0 | E32: 0
A33: LDNO LV: LV Site Specific Band 1 | B33: =IF(IFERROR(INDEX('Annex 1 LV, HV and UMS charges'!$B$12:$B$45,MATCH($A33,'Annex 1 LV, HV and UMS charges'!$A$12:$A$310,0)),INDEX('Annex 4 LDNO charges'!$B$14:$B$203,MATCH($A33,'Annex 4 LDNO charges'!$A$14:$A$203,0)))=0,"",IFERROR(INDEX('Annex 1 LV, HV and UMS charges'!$B$12:$B$45,MATCH($A33,'Annex 1 LV, HV and UMS charges'!$A$12:$A$310,0)),INDEX('Annex 4 LDNO charges'!$B$14:$B$203,MATCH($A33,'Annex 4 LDNO charges'!$A$14:$A$203,0)))) -> B28 | C33: 0 | E33: 0
A34: LDNO LV: LV Site Specific Band 2 | B34: =IF(IFERROR(INDEX('Annex 1 LV, HV and UMS charges'!$B$12:$B$45,MATCH($A34,'Annex 1 LV, HV and UMS charges'!$A$12:$A$310,0)),INDEX('Annex 4 LDNO charges'!$B$14:$B$203,MATCH($A34,'Annex 4 LDNO charges'!$A$14:$A$203,0)))=0,"",IFERROR(INDEX('Annex 1 LV, HV and UMS charges'!$B$12:$B$45,MATCH($A34,'Annex 1 LV, HV and UMS charges'!$A$12:$A$310,0)),INDEX('Annex 4 LDNO charges'!$B$14:$B$203,MATCH($A34,'Annex 4 LDNO charges'!$A$14:$A$203,0)))) -> B31 | C34: 0 | E34: 0
A35: LDNO LV: LV Site Specific Band 3 | B35: =IF(IFERROR(INDEX('Annex 1 LV, HV and UMS charges'!$B$12:$B$45,MATCH($A35,'Annex 1 LV, HV and UMS charges'!$A$12:$A$310,0)),INDEX('Annex 4 LDNO charges'!$B$14:$B$203,MATCH($A35,'Annex 4 LDNO charges'!$A$14:$A$203,0)))=0,"",IFERROR(INDEX('Annex 1 LV, HV and UMS charges'!$B$12:$B$45,MATCH($A35,'Annex 1 LV, HV and UMS charges'!$A$12:$A$310,0)),INDEX('Annex 4 LDNO charges'!$B$14:$B$203,MATCH($A35,'Annex 4 LDNO charges'!$A$14:$A$203,0)))) -> B34 | C35: 0 | E35: 0
A36: LDNO LV: LV Site Specific Band 4 | B36: =IF(IFERROR(INDEX('Annex 1 LV, HV and UMS charges'!$B$12:$B$45,MATCH($A36,'Annex 1 LV, HV and UMS charges'!$A$12:$A$310,0)),INDEX('Annex 4 LDNO charges'!$B$14:$B$203,MATCH($A36,'Annex 4 LDNO charges'!$A$14:$A$203,0)))=0,"",IFERROR(INDEX('Annex 1 LV, HV and UMS charges'!$B$12:$B$45,MATCH($A36,'Annex 1 LV, HV and UMS charges'!$A$12:$A$310,0)),INDEX('Annex 4 LDNO charges'!$B$14:$B$203,MATCH($A36,'Annex 4 LDNO charges'!$A$14:$A$203,0)))) -> B37 | C36: 0 | E36: 0
A37: LDNO HV: Domestic Aggregated or CT with Residual | B37: =IF(IFERROR(INDEX('Annex 1 LV, HV and UMS charges'!$B$12:$B$45,MATCH($A37,'Annex 1 LV, HV and UMS charges'!$A$12:$A$310,0)),INDEX('Annex 4 LDNO charges'!$B$14:$B$203,MATCH($A37,'Annex 4 LDNO charges'!$A$14:$A$203,0)))=0,"",IFERROR(INDEX('Annex 1 LV, HV and UMS charges'!$B$12:$B$45,MATCH($A37,'Annex 1 LV, HV and UMS charges'!$A$12:$A$310,0)),INDEX('Annex 4 LDNO charges'!$B$14:$B$203,MATCH($A37,'Annex 4 LDNO charges'!$A$14:$A$203,0)))) -> B02 | C37: 0, 1, 2 | D37: 0 | E37: 0
A38: LDNO HV: Non-Domestic Aggregated or CT No Residual | B38: =IF(IFERROR(INDEX('Annex 1 LV, HV and UMS charges'!$B$12:$B$45,MATCH($A38,'Annex 1 LV, HV and UMS charges'!$A$12:$A$310,0)),INDEX('Annex 4 LDNO charges'!$B$14:$B$203,MATCH($A38,'Annex 4 LDNO charges'!$A$14:$A$203,0)))=0,"",IFERROR(INDEX('Annex 1 LV, HV and UMS charges'!$B$12:$B$45,MATCH($A38,'Annex 1 LV, HV and UMS charges'!$A$12:$A$310,0)),INDEX('Annex 4 LDNO charges'!$B$14:$B$203,MATCH($A38,'Annex 4 LDNO charges'!$A$14:$A$203,0)))) -> B08 | C38: 0, 3, 4, 5-8 | E38: 0
A39: LDNO HV: Non-Domestic Aggregated or CT Band 1 | B39: =IF(IFERROR(INDEX('Annex 1 LV, HV and UMS charges'!$B$12:$B$45,MATCH($A39,'Annex 1 LV, HV and UMS charges'!$A$12:$A$310,0)),INDEX('Annex 4 LDNO charges'!$B$14:$B$203,MATCH($A39,'Annex 4 LDNO charges'!$A$14:$A$203,0)))=0,"",IFERROR(INDEX('Annex 1 LV, HV and UMS charges'!$B$12:$B$45,MATCH($A39,'Annex 1 LV, HV and UMS charges'!$A$12:$A$310,0)),INDEX('Annex 4 LDNO charges'!$B$14:$B$203,MATCH($A39,'Annex 4 LDNO charges'!$A$14:$A$203,0)))) -> B11 | C39: 0, 3, 4, 5-8 | E39: 0
A40: LDNO HV: Non-Domestic Aggregated or CT Band 2 | B40: =IF(IFERROR(INDEX('Annex 1 LV, HV and UMS charges'!$B$12:$B$45,MATCH($A40,'Annex 1 LV, HV and UMS charges'!$A$12:$A$310,0)),INDEX('Annex 4 LDNO charges'!$B$14:$B$203,MATCH($A40,'Annex 4 LDNO charges'!$A$14:$A$203,0)))=0,"",IFERROR(INDEX('Annex 1 LV, HV and UMS charges'!$B$12:$B$45,MATCH($A40,'Annex 1 LV, HV and UMS charges'!$A$12:$A$310,0)),INDEX('Annex 4 LDNO charges'!$B$14:$B$203,MATCH($A40,'Annex 4 LDNO charges'!$A$14:$A$203,0)))) -> B14 | C40: 0, 3, 4, 5-8 | E40: 0
A41: LDNO HV: Non-Domestic Aggregated or CT Band 3 | B41: =IF(IFERROR(INDEX('Annex 1 LV, HV and UMS charges'!$B$12:$B$45,MATCH($A41,'Annex 1 LV, HV and UMS charges'!$A$12:$A$310,0)),INDEX('Annex 4 LDNO charges'!$B$14:$B$203,MATCH($A41,'Annex 4 LDNO charges'!$A$14:$A$203,0)))=0,"",IFERROR(INDEX('Annex 1 LV, HV and UMS charges'!$B$12:$B$45,MATCH($A41,'Annex 1 LV, HV and UMS charges'!$A$12:$A$310,0)),INDEX('Annex 4 LDNO charges'!$B$14:$B$203,MATCH($A41,'Annex 4 LDNO charges'!$A$14:$A$203,0)))) -> B17 | C41: 0, 3, 4, 5-8 | E41: 0
A42: LDNO HV: Non-Domestic Aggregated or CT Band 4 | B42: =IF(IFERROR(INDEX('Annex 1 LV, HV and UMS charges'!$B$12:$B$45,MATCH($A42,'Annex 1 LV, HV and UMS charges'!$A$12:$A$310,0)),INDEX('Annex 4 LDNO charges'!$B$14:$B$203,MATCH($A42,'Annex 4 LDNO charges'!$A$14:$A$203,0)))=0,"",IFERROR(INDEX('Annex 1 LV, HV and UMS charges'!$B$12:$B$45,MATCH($A42,'Annex 1 LV, HV and UMS charges'!$A$12:$A$310,0)),INDEX('Annex 4 LDNO charges'!$B$14:$B$203,MATCH($A42,'Annex 4 LDNO charges'!$A$14:$A$203,0)))) -> B20 | C42: 0, 3, 4, 5-8 | E42: 0
A43: LDNO HV: LV Site Specific No Residual | B43: =IF(IFERROR(INDEX('Annex 1 LV, HV and UMS charges'!$B$12:$B$45,MATCH($A43,'Annex 1 LV, HV and UMS charges'!$A$12:$A$310,0)),INDEX('Annex 4 LDNO charges'!$B$14:$B$203,MATCH($A43,'Annex 4 LDNO charges'!$A$14:$A$203,0)))=0,"",IFERROR(INDEX('Annex 1 LV, HV and UMS charges'!$B$12:$B$45,MATCH($A43,'Annex 1 LV, HV and UMS charges'!$A$12:$A$310,0)),INDEX('Annex 4 LDNO charges'!$B$14:$B$203,MATCH($A43,'Annex 4 LDNO charges'!$A$14:$A$203,0)))) -> B26 | C43: 0 | E43: 0
...

Sheet Nodal prices
A1: Back to Overview
A2: =Overview!B4& " - Effective from "&Overview!D4&" - "&Overview!E4&" Nodal/Zonal charges" -> Aidien Limited - GSP_B - Effective from 1 April 2026 - Final Nodal/Zonal charges
A3: Location name/ID | B3: Parent location | C3: Local charge 1 £/kVA/year | D3: Remote charge 1 £/kVA/year

Sheet SSC unit rate lookup
A1: Back to Overview
A28: Standard Settlement Configuration Id | B28: Standard Settlement Configuration Desc | C28: Common Decode | F28: Change implemented | G28: Date | H28: Comments
A29: 3 | B29: 10-hour OP | C29: A/R | F29: Notes updated | G29: 43626 | H29: Updated to reflect DCP 268 which delinks all tariffs from the TPR bands
A30: 4 | B30: 10-hour OP | C30: A/R | F30: Code 1 & 2 changed to A | G30: 43626 | H30: Updated to reflect DCP 268 which delinks all tariffs from the TPR bands
A31: 5 | B31: 10-hour OP + w/e | C31: A/R | F31: Code O changed to A/R | G31: 43626 | H31: Updated to reflect DCP 268 which delinks all tariffs from the TPR bands
A32: 6 | B32: 10.5-hour OP | C32: A/R | F32: Removed TPR | G32: 43626 | H32: Removed TPR lookup element as this no longer effects which rate to apply
A33: 7 | B33: 10.5-hour OP | C33: A/R
A34: 8 | B34: 10.5-hour OP | C34: A/R
A35: 9 | B35: 10.5-hour OP | C35: A/R
A36: 10 | B36: 10.5-hour OP | C36: A/R
A37: 11 | B37: 10.5-hour OP | C37: A/R
A38: 12 | B38: 10.5-hour OP | C38: A/R
A39: 13 | B39: 11 Hour OP | C39: A/R
A40: 15 | B40: 11 Hour OP | C40: A/R
A41: 16 | B41: 11.5-hour OP | C41: A/R
A42: 17 | B42: 11.5-hour OP | C42: A/R
A43: 18 | B43: 11.5-hour OP | C43: A/R
A44: 19 | B44: 11.5-hour OP | C44: A/R
... A764: 997 | B764: Evening/Weekend - BST | C764: A

Sheet Residual Charging Bands
A1: Back to Overview
A2: =Overview!B4& " - Effective from "&Overview!C4&" - "&Overview!E4&" Residual Charging Bands" -> Aidien Limited - GSP_B - Effective from 2026/27 - Final Residual Charging Bands
A4: Voltage of Connection | B4: Band | C4: Units | D4: Lower Threshold* | E4: Upper Threshold* | F4: Residual Charge per MPAN (£)
A5: Domestic Aggregated | B5: Single band | C5: - | D5: - | E5: -
A6: Designated Properties connected at LV, billing with no MIC | B6: 1 | C6: kWh | D6: 0 | E6: 3571
B7: 2 | C7: kWh | D7: 3571 | E7: 12553
B8: 3 | C8: kWh | D8: 12553 | E8: 25279
B9: 4 | C9: kWh | D9: 25279 | E9: ∞
A10: Designated Properties connected at LV, billing with MIC | B10: 1 | C10: kVA | D10: 0 | E10: 80
B11: 2 | C11: kVA | D11: 80 | E11: 150
B12: 3 | C12: kVA | D12: 150 | E12: 231
B13: 4 | C13: kVA | D13: 231 | E13: ∞
A14: Designated Properties connected at HV | B14: 1 | C14: kVA | D14: 0 | E14: 422
B15: 2 | C15: kVA | D15: 422 | E15: 1000
B16: 3 | C16: kVA | D16: 1000 | E16: 1800
B17: 4 | C17: kVA | D17: 1800 | E17: ∞
A18: Designated EHV Properties | B18: 1 | C18: kVA | D18: 0 | E18: 5000
B19: 2 | C19: kVA | D19: 5000 | E19: 12000
B20: 3 | C20: kVA | D20: 12000 | E20: 21500
B21: 4 | C21: kVA | D21: 21500 | E21: ∞
A22: * All boundaries are inclusive of the upper threshold and exclusive of the lower threshold i.e. Lower < x ≤ Upper.

Sheet TNUoS Mapping
A1: Back to Overview
A2: =Overview!C4&" - Effective from "&Overview!D4&" - "&Overview!F4&" TNUoS Mapping" -> 2026/27 - Effective from 1 April 2026 - TNUoS Mapping
A3: DUoS Tariff name | B3: TNUoS Site Charging Band
A4: Domestic Aggregated or CT with Residual | B4: Domestic
A5: Domestic Aggregated (Related MPAN) | B5: n/a (Non-Final Demand Site)
A6: Non-Domestic Aggregated or CT No Residual | B6: =$B$5 -> n/a (Non-Final Demand Site)
A7: Non-Domestic Aggregated or CT Band 1 | B7: LV_NoMIC_1
A8: Non-Domestic Aggregated or CT Band 2 | B8: LV_NoMIC_2
A9: Non-Domestic Aggregated or CT Band 3 | B9: LV_NoMIC_3
A10: Non-Domestic Aggregated or CT Band 4 | B10: LV_NoMIC_4
A11: Non-Domestic Aggregated (related MPAN) | B11: =$B$5 -> n/a (Non-Final Demand Site)
A12: LV Site Specific No Residual | B12: =$B$5 -> n/a (Non-Final Demand Site)
A13: LV Site Specific Band 1 | B13: LV1
A14: LV Site Specific Band 2 | B14: LV2
A15: LV Site Specific Band 3 | B15: LV3
A16: LV Site Specific Band 4 | B16: LV4
A17: LV Sub Site Specific No Residual | B17: =$B$5 -> n/a (Non-Final Demand Site)
A18: LV Sub Site Specific Band 1 | B18: LV1
A19: LV Sub Site Specific Band 2 | B19: LV2
A20: LV Sub Site Specific Band 3 | B20: LV3
A21: LV Sub Site Specific Band 4 | B21: LV4
A22: HV Site Specific No Residual | B22: =$B$5 -> n/a (Non-Final Demand Site)
A23: HV Site Specific Band 1 | B23: HV1
A24: HV Site Specific Band 2 | B24: HV2
A25: HV Site Specific Band 3 | B25: HV3
A26: HV Site Specific Band 4 | B26: HV4
A27: Unmetered Supplies | B27: n/a (p/kWh charge)
A28: LV Generation Aggregated | B28: =$B$5 -> n/a (Non-Final Demand Site)
A29: LV Sub Generation Aggregated | B29: =$B$5 -> n/a (Non-Final Demand Site)
A30: LV Generation Site Specific | B30: =$B$5 -> n/a (Non-Final Demand Site)
A31: LV Generation Site Specific no RP charge | B31: =$B$5 -> n/a (Non-Final Demand Site)
A32: LV Sub Generation Site Specific | B32: =$B$5 -> n/a (Non-Final Demand Site)
A33: LV Sub Generation Site Specific no RP charge | B33: =$B$5 -> n/a (Non-Final Demand Site)
A34: HV Generation Site Specific | B34: =$B$5 -> n/a (Non-Final Demand Site)
A35: HV Generation Site Specific no RP charge | B35: =$B$5 -> n/a (Non-Final Demand Site)
A36: Designated EHV Site Specific No Residual | B36: =$B$5 -> n/a (Non-Final Demand Site)
A37: Designated EHV Site Specific Band 1 | B37: EHV1
A38: Designated EHV Site Specific Band 2 | B38: EHV2
A39: Designated EHV Site Specific Band 3 | B39: EHV3
A40: Designated EHV Site Specific Band 4 | B40: EHV4

Sheet Charge Calculator
B1: Back to Overview
B2: =Overview!B4& " - Effective from "&Overview!D4&" - "&Overview!E4 -> Aidien Limited - GSP_B - Effective from 1 April 2026 - Final | AC2: Red/black unit charge p/kWh | AD2: Amber/yellow unit charge p/kWh | AE2: Green unit charge p/kWh | AF2: Fixed charge p/MPAN/day | AG2: Capacity charge p/kVA/day | AH2: Exceeded capacity charge p/kVA/day | AI2: Reactive power charge p/kVArh
AB3: Domestic Aggregated | AC3: Red unit charge p/kWh | AD3: Amber unit charge p/kWh | AE3: Green unit charge p/kWh | AF3: Fixed charge p/MPAN/day | AG3: n/a | AH3: n/a | AI3: n/a
B4: LV and HV designated properties and Unmetered Supplies tariff calculator | L4: EHV designated property calculator | AB4: Domestic Aggregated (related MPAN) | AC4: Red unit charge p/kWh | AD4: Amber unit charge p/kWh | AE4: Green unit charge p/kWh | AF4: n/a | AG4: n/a | AH4: n/a | AI4: n/a
B5: Step 1, Choose your tariff using the drop down list in cell B10 | L5: Step 1, Choose your tariff using the drop down list in cell L10 | AB5: Non-Domestic Aggregated | AC5: Red unit charge p/kWh | AD5: Amber unit charge p/kWh | AE5: Green unit charge p/kWh | AF5: Fixed charge p/MPAN/day | AG5: n/a | AH5: n/a | AI5: n/a
B6: Step 2, After selecting a tariff in step 1, Cells C12-I12 will generate headings, please enter your consumption in cells C13:I13 underneath each heading generated (if no heading leave cell blank) | L6: Step 2, After selecting a tariff in step 1, Cells M12-T12 will generate headings, please enter your consumption in cells M13:T13 underneath each heading generated (if no heading leave cell blank) | AB6: Non-Domestic Aggregated (related MPAN) | AC6: Red unit charge p/kWh | AD6: Amber unit charge p/kWh | AE6: Green unit charge p/kWh | AF6: n/a | AG6: n/a | AH6: n/a | AI6: n/a
B7: Step 3, Enter a forecast of consumption if required in cells C14:I14 | L7: Step 3, Enter a forecast of consumption if required in cells M14:T14 | AB7: LV Site Specific | AC7: Red unit charge p/kWh | AD7: Amber unit charge p/kWh | AE7: Green unit charge p/kWh | AF7: Fixed charge p/MPAN/day | AG7: Capacity charge p/kVA/day | AH7: Exceeded Capacity charge p/kVA/day | AI7: Reactive power charge p/kVArh
AB8: LV Sub Site Specific | AC8: Red unit charge p/kWh | AD8: Amber unit charge p/kWh | AE8: Green unit charge p/kWh | AF8: Fixed charge p/MPAN/day | AG8: Capacity charge p/kVA/day | AH8: Exceeded Capacity charge p/kVA/day | AI8: Reactive power charge p/kVArh
B9: Tariff details Choose tariff name from drop down box below | C9: =IFERROR(VLOOKUP($B$10,$AB$2:$AI$18,2,FALSE),AC2) -> Red unit charge p/kWh | D9: =IFERROR(VLOOKUP($B$10,$AB$2:$AI$18,3,FALSE),AD2) -> Amber unit charge p/kWh | E9: =IFERROR(VLOOKUP($B$10,$AB$2:$AI$18,4,FALSE),AE2) -> Green unit charge p/kWh | F9: =IFERROR(VLOOKUP($B$10,$AB$2:$AI$18,5,FALSE),AF2) -> Fixed charge p/MPAN/day | G9: =IFERROR(VLOOKUP($B$10,$AB$2:$AI$18,6,FALSE),AG2) -> Capacity charge p/kVA/day | H9: =IFERROR(VLOOKUP($B$10,$AB$2:$AI$18,7,FALSE),AH2) -> Exceeded Capacity charge p/kVA/day | I9: =IFERROR(VLOOKUP($B$10,$AB$2:$AI$18,8,FALSE),AI2) -> Reactive power charge p/kVArh | L9: Site details Choose the site name from the drop down box below | M9: ='Annex 2 Designated EHV charges'!I10 -> Import Super Red unit charge (p/kWh) | N9: ='Annex 2 Designated EHV charges'!J10 -> Import fixed charge (p/day) | O9: ='Annex 2 Designated EHV charges'!K10 -> Import capacity charge (p/kVA/day) | P9: ='Annex 2 Designated EHV charges'!L10 -> Import exceeded capacity charge (p/kVA/day) | Q9: ='Annex 2 Designated EHV charges'!M10 -> Export Super Red unit charge (p/kWh) | R9: ='Annex 2 Designated EHV charges'!N10 -> Export fixed charge (p/day) | S9: ='Annex 2 Designated EHV charges'!O10 -> Export capacity charge (p/kVA/day) | T9: ='Annex 2 Designated EHV charges'!P10 -> Export exceeded capacity charge (p/kVA/day) | AB9: HV Site Specific | AC9: Red unit charge p/kWh | AD9: Amber unit charge p/kWh | AE9: Green unit charge p/kWh | AF9: Fixed charge p/MPAN/day | AG9: Capacity charge p/kVA/day | AH9: Exceeded Capacity charge p/kVA/day | AI9: Reactive power charge p/kVArh
B10: LV Site Specific | C10: =IFERROR(VLOOKUP($B$10,'Annex 1 LV, HV and UMS charges'!$A:$K,4,FALSE),"") | D10: =IFERROR(VLOOKUP($B$10,'Annex 1 LV, HV and UMS charges'!$A:$K,5,FALSE),"") | E10: =IFERROR(VLOOKUP($B$10,'Annex 1 LV, HV and UMS charges'!$A:$K,6,FALSE),"") | F10: =IFERROR(VLOOKUP($B$10,'Annex 1 LV, HV and UMS charges'!$A:$K,7,FALSE),"") | G10: =IFERROR(VLOOKUP($B$10,'Annex 1 LV, HV and UMS charges'!$A:$K,8,FALSE),"") | H10: =IFERROR(VLOOKUP($B$10,'Annex 1 LV, HV and UMS charges'!$A:$K,9,FALSE),"") | I10: =IFERROR(VLOOKUP($B$10,'Annex 1 LV, HV and UMS charges'!$A:$K,10,FALSE),"") | M10: =IFERROR(VLOOKUP($L$10,'Annex 2 Designated EHV charges'!$G:$O,2,FALSE),"") | N10: =IFERROR(VLOOKUP($L$10,'Annex 2 Designated EHV charges'!$G:$O,3,FALSE),"") | O10: =IFERROR(VLOOKUP($L$10,'Annex 2 Designated EHV charges'!$G:$O,4,FALSE),"") | P10: =IFERROR(VLOOKUP($L$10,'Annex 2 Designated EHV charges'!$G:$O,5,FALSE),"") | Q10: =IFERROR(VLOOKUP($L$10,'Annex 2 Designated EHV charges'!$G:$O,6,FALSE),"") | R10: =IFERROR(VLOOKUP($L$10,'Annex 2 Designated EHV charges'!$G:$O,7,FALSE),"") | S10: =IFERROR(VLOOKUP($L$10,'Annex 2 Designated EHV charges'!$G:$O,8,FALSE),"") | T10: =IFERROR(VLOOKUP($L$10,'Annex 2 Designated EHV charges'!$G:$O,9,FALSE),"") | AB10: Unmetered Supplies | AC10: Black unit charge p/kWh | AD10: Yellow unit charge p/kWh | AE10: Green unit charge p/kWh | AF10: n/a | AG10: n/a | AH10: n/a | AI10: n/a
AB11: LV Generation Aggregated | AC11: Red unit charge p/kWh | AD11: Amber unit charge p/kWh | AE11: Green unit charge p/kWh | AF11: Fixed charge p/MPAN/day | AG11: n/a | AH11: n/a | AI11: n/a
B12: Tariff components | C12: =C9 -> Red unit charge p/kWh | D12: =D9 -> Amber unit charge p/kWh | E12: =E9 -> Green unit charge p/kWh | F12: Number of days in consumption period i.e. 365 if one year | G12: Maximum import or export capacity kVA | H12: Average daily exceeded capacity kVA | I12: Excess reactive units kVArh | L12: Tariff components | M12: Import super red kWh | N12: Number of days in consumption period i.e. 365 if one year | O12: Maximum import capacity kVA | P12: Average daily exceeded capacity kVA | Q12: Export Super Red kWh | R12: Number of days in consumption period i.e. 365 if one year | S12: Maximum export capacity kVA | T12: Average daily exceeded capacity kVA | AB12: LV Sub Generation Aggregated | AC12: Red unit charge p/kWh | AD12: Amber unit charge p/kWh | AE12: Green unit charge p/kWh | AF12: Fixed charge p/MPAN/day | AG12: n/a | AH12: n/a | AI12: n/a
B13: Enter current consumption details | L13: Enter current consumption details | R13: =N13 -> 0 | AB13: LV Generation Site Specific | AC13: Red unit charge p/kWh | AD13: Amber unit charge p/kWh | AE13: Green unit charge p/kWh | AF13: Fixed charge p/MPAN/day | AG13: n/a | AH13: n/a | AI13: Reactive power charge p/kVArh
