Workbook
Name OLE_LINK1: 'Annex 3 Preserved charges'!#REF!

Sheet Overview
A2: Company and Licence name, charging year, effective from, status
B3: Company and Licence name | C3: Year | D3: Effective From | E3: Status
A4: Company and Licence name, charging year, effective from, status | B4: Aidien Limited - GSP_D | C4: 2025/26 | D4: 1 April 2025 | E4: Final
A6: List of data tables in this workbook
A7: Worksheet | B7: Information
A8: Annex 1 LV, HV and Unmetered Supplies charges | B8: Annex 1 contains the charges to LV and HV Designated Properties and Unmetered Supplies.
A9: Annex 2 Designated EHV charges | B9: ="Annex 2 contains the charges to Designated EHV Properties and charges applied to LDNOs with Designated EHV Properties/end-users embedded in networks within the " &B4 &" Licence area." -> Annex 2 contains the charges to Designated EHV Properties and charges applied to LDNOs with Designated EHV Properties/end-users embedded in networks within the Aidien Limited - GSP_D Licence area.
A10: Annex 3 Preserved charges | B10: Annex 3 contains details of any preserved and additional charges that are valid at this time.
A11: Annex 4 LDNO charges | B11: ="Annex 4 contains charges that are levied on the owner of an embedded network within the "&B4&" Licence area. "&"Electricity suppliers and consumers who have properties connected to an embedded network should contact the embedded network owner to determine their distribution charges."&" The charges listed in this table are not payable by domestic consumers, business consumers or electricity suppliers." -> Annex 4 contains charges that are levied on the owner of an embedded network within the Aidien Limited - GSP_D Licence area. Electricity suppliers and consumers who have properties connected to an embedded network should contact the embedded network owner to determine their distribution charges. The charges listed in this table are not payable by domestic consumers, business consumers or electricity suppliers.
A12: Annex 5 LLFs | B12: Annex 5 has been intentionally left blank as this charging statement is published a complete year before the LLFs have been audited. The line loss factors that are approved by the BSC Panel for the applicable year and consequently published on the Elexon website will take precedence and be used in Settlement. This annex will be re-published with these values once they are available.
A13: Annex 6 Charges for New or Amended Designated EHV Properties | B13: ="Annex 6 contains the charges for new or amended Designated EHV Properties and charges applied to LDNOs with new or amended Designated EHV Properties/end-users embedded in networks within the " &B4 &" Licence area." -> Annex 6 contains the charges for new or amended Designated EHV Properties and charges applied to LDNOs with new or amended Designated EHV Properties/end-users embedded in networks within the Aidien Limited - GSP_D Licence area.
A14: Annex 7 Fixed adders for Supplier of Last Resort and Eligible Bad Debt pass-through costs | B14: Annex 7 contains the fixed adders to recover Supplier of Last Resort and Eligible Bad Debt pass-through costs. The Excess Supplier of Last Resort fixed adder relates to an increase to previously published charges only.
A15: Nodal prices | B15: Contains the underlying [nodal/network group] costs used to calculate the current EDCM charges.
A16: SSC unit rate lookup | B16: Contains a mapping of Standard Settlement Configurations to common decodings
A17: Residual Charging Bandings | B17: Contains the four Residual charging band allocation for Customers
A18: TNUoS Mapping | B18: Contains a mapping of DUoS Tariffs to TNUoS Site Charging Bands
A19: Charge calculator | B19: Charge calculator is a tool to help you estimate your distribution charges using current consumption data and forecast consumption data.
A21: Notes to users of this spreadsheet
A23: Please use this spreadsheet with reference to the LC14 use of system charging statement.
A25: Notes to DNOs populating this spreadsheet
A27: DNOs must endeavour to maintain consistency in the structure of this spreadsheet. Any changes to the structure must be noted in the 'Notes to users of this spreadsheet'
A28: The drop down list on the charge calculator can be expanded by unprotecting the charge calculator sheet and selecting 'data', 'data validation...' and then expanding the 'source' data range. The sheet can then be protected.

Sheet Annex 1 LV, HV and UMS charges
A1: Back to Overview | B1: 'DNOs paste value cells A15:J47 from CDCM 3701 into cells A14:J46
A2: =Overview!B4& " - Effective from "&Overview!D4&" - "&Overview!E4&" LV and HV charges" -> Aidien Limited - GSP_D - Effective from 1 April 2025 - Final LV and HV charges
A4: Time Bands for LV and HV Designated Properties | G4: Time Bands for Unmetered Properties
A5: Time periods | B5: Red Time Band | C5: Amber Time Band | E5: Green Time Band | I5: Black Time Band | J5: Yellow Time Band | K5: Green Time Band
A6: Monday to Friday (Including Bank Holidays) All Year | B6: 16.30 - 19.30 | C6: 08.00 - 16.30 19.30 - 22.30 | E6: 00.00 - 08.00 22.30 - 00.00 | G6: Monday to Friday (Including Bank Holidays) June to August Inclusive | J6: 08.00 - 22.30 | K6: 00.00 - 08.00 22.30 - 00.00
A7: Saturday and Sunday All Year | C7: 16.00 - 20.00 | E7: 00.00 - 16.00 20.00 - 00.00 | G7: Monday to Friday (Including Bank Holidays) November to February Inclusive | I7: 16.30 - 19.30 | J7: 08.00 - 16.30 19.30 - 22.30 | K7: 00.00 - 08.00 22.30 - 00.00
A8: Notes | B8: All the above times are in UK Clock time | G8: Monday to Friday (Including Bank Holidays) March, April, May and September, October | I8: ` | J8: 08.00 - 22.30 | K8: 00.00 - 08.00 22.30 - 00.00
G9: Saturday and Sunday All year | J9: 16.00 - 20.00 | K9: 00:00-16:00 20:00-00:00
G10: Notes | I10: All the above times are in UK Clock time
A12: Tariff name | B12: Open LLFCs | C12: PCs | D12: Red/black unit charge p/kWh | E12: Amber/yellow unit charge p/kWh | F12: Green unit charge p/kWh | G12: Fixed charge p/MPAN/day | H12: Capacity charge p/kVA/day | I12: Exceeded capacity charge p/kVA/day | J12: Reactive power charge p/kVArh | K12: Closed LLFCs
A13: Domestic Aggregated or CT with Residual | B13: D01,D02,D03 | C13: 0, 1, 2 | D13: 13.575 | E13: 3.608 | F13: 0.402 | G13: 26.88
A14: Domestic Aggregated (Related MPAN) | B14: D04,D05,D06 | C14: 2 | D14: 13.575 | E14: 3.608 | F14: 0.402
A15: Non-Domestic Aggregated or CT No Residual | B15: D07,D08,D09 | C15: 0, 3, 4, 5-8 | D15: 15.333 | E15: 4.076 | F15: 0.454 | G15: 7.67
A16: Non-Domestic Aggregated or CT Band 1 | B16: D10,D11,D12 | C16: 0, 3, 4, 5-8 | D16: 15.333 | E16: 4.076 | F16: 0.454 | G16: 32.54
A17: Non-Domestic Aggregated or CT Band 2 | B17: D13,D14,D15 | C17: 0, 3, 4, 5-8 | D17: 15.333 | E17: 4.076 | F17: 0.454 | G17: 60.04
A18: Non-Domestic Aggregated or CT Band 3 | B18: D16,D17,D18 | C18: 0, 3, 4, 5-8 | D18: 15.333 | E18: 4.076 | F18: 0.454 | G18: 119.95
A19: Non-Domestic Aggregated or CT Band 4 | B19: D19,D20,D21 | C19: 0, 3, 4, 5-8 | D19: 15.333 | E19: 4.076 | F19: 0.454 | G19: 348.75
A20: Non-Domestic Aggregated (related MPAN) | B20: D22,D23,D24 | C20: 4 | D20: 15.333 | E20: 4.076 | F20: 0.454
A21: LV Site Specific No Residual | B21: D25,D26,D27 | C21: 0 | D21: 11.208 | E21: 2.701 | F21: 0.28 | G21: 25.88 | H21: 6.88 | I21: 6.88 | J21: 0.694
A22: LV Site Specific Band 1 | B22: D28,D29,D30 | C22: 0 | D22: 11.208 | E22: 2.701 | F22: 0.28 | G22: 692.97 | H22: 6.88 | I22: 6.88 | J22: 0.694
A23: LV Site Specific Band 2 | B23: D31,D32,D33 | C23: 0 | D23: 11.208 | E23: 2.701 | F23: 0.28 | G23: 1307.66 | H23: 6.88 | I23: 6.88 | J23: 0.694
A24: LV Site Specific Band 3 | B24: D34,D35,D36 | C24: 0 | D24: 11.208 | E24: 2.701 | F24: 0.28 | G24: 2021.28 | H24: 6.88 | I24: 6.88 | J24: 0.694
A25: LV Site Specific Band 4 | B25: D37,D38,D39 | C25: 0 | D25: 11.208 | E25: 2.701 | F25: 0.28 | G25: 4556.96 | H25: 6.88 | I25: 6.88 | J25: 0.694
A26: LV Sub Site Specific No Residual | B26: D40,D41 | C26: 0 | D26: 8.679 | E26: 1.681 | F26: 0.141 | G26: 9.17 | H26: 10.88 | I26: 10.88 | J26: 0.399
A27: LV Sub Site Specific Band 1 | B27: D42,D43 | C27: 0 | D27: 8.679 | E27: 1.681 | F27: 0.141 | G27: 676.25 | H27: 10.88 | I27: 10.88 | J27: 0.399
A28: LV Sub Site Specific Band 2 | B28: D44,D45 | C28: 0 | D28: 8.679 | E28: 1.681 | F28: 0.141 | G28: 1290.94 | H28: 10.88 | I28: 10.88 | J28: 0.399
A29: LV Sub Site Specific Band 3 | B29: D46,D47 | C29: 0 | D29: 8.679 | E29: 1.681 | F29: 0.141 | G29: 2004.56 | H29: 10.88 | I29: 10.88 | J29: 0.399
A30: LV Sub Site Specific Band 4 | B30: D48,D49 | C30: 0 | D30: 8.679 | E30: 1.681 | F30: 0.141 | G30: 4540.24 | H30: 10.88 | I30: 10.88 | J30: 0.399
A31: HV Site Specific No Residual | B31: D50,D51 | C31: 0 | D31: 6.613 | E31: 1.166 | F31: 0.083 | G31: 138.1 | H31: 10.12 | I31: 10.12 | J31: 0.272
A32: HV Site Specific Band 1 | B32: D52,D53 | C32: 0 | D32: 6.613 | E32: 1.166 | F32: 0.083 | G32: 3477.99 | H32: 10.12 | I32: 10.12 | J32: 0.272
... A35: HV Site Specific Band 4 | B35: D58,D59 | C35: 0 | D35: 6.613 | E35: 1.166 | F35: 0.083 | G35: 42295.18 | H35: 10.12 | I35: 10.12 | J35: 0.272
A36: Unmetered Supplies | B36: D60,D61,D62 | C36: 0, 1 or 8 | D36: 29.056 | E36: 6.091 | F36: 3.249
A37: LV Generation Aggregated | B37: D63,D64,D65 | C37: 0 | D37: -10.032 | E37: -2.667 | F37: -0.297 | G37: 0
A38: LV Sub Generation Aggregated | B38: D66,D67 | C38: 0 | D38: -8.779 | E38: -2.196 | F38: -0.234 | G38: 0
A39: LV Generation Site Specific | B39: D68,D69,D70 | C39: 0 | D39: -10.032 | E39: -2.667 | F39: -0.297 | G39: 0 | J39: 0.648
A40: LV Generation Site Specific no RP charge | B40: D71,D72,D73 | C40: 0 | D40: -10.032 | E40: -2.667 | F40: -0.297 | G40: 0
A41: LV Sub Generation Site Specific | B41: D74,D75 | C41: 0 | D41: -8.779 | E41: -2.196 | F41: -0.234 | G41: 0 | J41: 0.569
A42: LV Sub Generation Site Specific no RP charge | B42: D76,D77 | C42: 0 | D42: -8.779 | E42: -2.196 | F42: -0.234 | G42: 0
A43: HV Generation Site Specific | B43: D78,D79 | C43: 0 | D43: -6.649 | E43: -1.288 | F43: -0.108 | G43: 100.81 | J43: 0.479
A44: HV Generation Site Specific no RP charge | B44: D80,D81 | C44: 0 | D44: -6.649 | E44: -1.288 | F44: -0.108 | G44: 100.81

Sheet Annex 2 Designated EHV charges
A1: Back to Overview | C1: Copy EDCM table 5001 range starting B101 and paste into G11. Extend or reduce print area as required. | F1: Note: The list of MPANs / MSIDs provided may be incomplete; the DNO reserves the right to apply the listed charges to any other MPANs / MSIDs associated with the site.
A2: =Overview!B4& " - Effective from "&Overview!D4&" - "&Overview!E4&" Designated EHV charges" -> Aidien Limited - GSP_D - Effective from 1 April 2025 - Final Designated EHV charges
A4: Time Periods for Designated EHV Properties
A5: Time periods | D5: Super Red Time Band
A6: Monday to Friday (Including Bank Holidays) June to August Inclusive
A7: Monday to Friday (Including Bank Holidays) November to February Inclusive | D7: 16:30 - 19:30
A8: Notes | D8: All the above times are in UK Clock time
A10: Import Unique Identifier | B10: LLFC | C10: Import MPANs/MSIDs | D10: Export Unique Identifier | E10: LLFC | F10: Export MPANs/MSIDs | G10: Name | H10: Residual Charging Band | I10: Import Super Red unit charge (p/kWh) | J10: Import fixed charge (p/day) | K10: Import capacity charge (p/kVA/day) | L10: Import exceeded capacity charge (p/kVA/day) | M10: Export Super Red unit charge (p/kWh) | N10: Export fixed charge (p/day) | O10: Export capacity charge (p/kVA/day) | P10: Export exceeded capacity charge (p/kVA/day)

Sheet Annex 2a Import
A1: Note: The list of MPANs / MSIDs provided may be incomplete; the DNO reserves the right to apply the listed charges to any other MPANs / MSIDs associated with the site. Note: This table is automatically populated based on the content of the tab entitled 'Annex 2 EHV Charges'. The timebands are as shown in Annex 2.
A2: =Overview!B4& " - Effective from "&Overview!D4&" - "&Overview!E4&" Designated EHV import charges" -> Aidien Limited - GSP_D - Effective from 1 April 2025 - Final Designated EHV import charges
A4: Import Unique Identifier | B4: LLFC | C4: Import MPANs/MSIDs | D4: Name | E4: ='Annex 2 Designated EHV charges'!I10 -> Import Super Red unit charge (p/kWh) | F4: ='Annex 2 Designated EHV charges'!J10 -> Import fixed charge (p/day) | G4: ='Annex 2 Designated EHV charges'!K10 -> Import capacity charge (p/kVA/day) | H4: ='Annex 2 Designated EHV charges'!L10 -> Import exceeded capacity charge (p/kVA/day)
A5: {=IFERROR(INDEX('Annex 2 Designated EHV charges'!$A$11:$A$259, MATCH(0, IF(ISBLANK('Annex 2 Designated EHV charges'!$A$11:$A$259),1, COUNTIF(A$4:$A4, 'Annex 2 Designated EHV charges'!$A$11:$A$259)), 0)),"")} | B5: =IF($A5="","",VLOOKUP($A5,'Annex 2 Designated EHV charges'!$A:$O,2,0)) | C5: =IF($A5="","",VLOOKUP($A5,'Annex 2 Designated EHV charges'!$A:$O,3,0)) | D5: =IF($A5="","",VLOOKUP($A5,'Annex 2 Designated EHV charges'!$A:$O,7,0)) | E5: =IFERROR(IF(VLOOKUP($A5,'Annex 2 Designated EHV charges'!$A:$O,9,FALSE)=0,"",VLOOKUP($A5,'Annex 2 Designated EHV charges'!$A:$O,9,FALSE)),"") | F5: =IFERROR(IF(VLOOKUP($A5,'Annex 2 Designated EHV charges'!$A:$O,10,FALSE)=0,"",VLOOKUP($A5,'Annex 2 Designated EHV charges'!$A:$O,10,FALSE)),"") | G5: =IFERROR(IF(VLOOKUP($A5,'Annex 2 Designated EHV charges'!$A:$O,11,FALSE)=0,"",VLOOKUP($A5,'Annex 2 Designated EHV charges'!$A:$O,11,FALSE)),"") | H5: =IFERROR(IF(VLOOKUP($A5,'Annex 2 Designated EHV charges'!$A:$O,12,FALSE)=0,"",VLOOKUP($A5,'Annex 2 Designated EHV charges'!$A:$O,12,FALSE)),"")
A6: {=IFERROR(INDEX('Annex 2 Designated EHV charges'!$A$11:$A$259, MATCH(0, IF(ISBLANK('Annex 2 Designated EHV charges'!$A$11:$A$259),1, COUNTIF(A$4:$A5, 'Annex 2 Designated EHV charges'!$A$11:$A$259)), 0)),"")} | B6: =IF($A6="","",VLOOKUP($A6,'Annex 2 Designated EHV charges'!$A:$O,2,0)) | C6: =IF($A6="","",VLOOKUP($A6,'Annex 2 Designated EHV charges'!$A:$O,3,0)) | D6: =IF($A6="","",VLOOKUP($A6,'Annex 2 Designated EHV charges'!$A:$O,7,0)) | E6: =IFERROR(IF(VLOOKUP($A6,'Annex 2 Designated EHV charges'!$A:$O,9,FALSE)=0,"",VLOOKUP($A6,'Annex 2 Designated EHV charges'!$A:$O,9,FALSE)),"") | F6: =IFERROR(IF(VLOOKUP($A6,'Annex 2 Designated EHV charges'!$A:$O,10,FALSE)=0,"",VLOOKUP($A6,'Annex 2 Designated EHV charges'!$A:$O,10,FALSE)),"") | G6: =IFERROR(IF(VLOOKUP($A6,'Annex 2 Designated EHV charges'!$A:$O,11,FALSE)=0,"",VLOOKUP($A6,'Annex 2 Designated EHV charges'!$A:$O,11,FALSE)),"") | H6: =IFERROR(IF(VLOOKUP($A6,'Annex 2 Designated EHV charges'!$A:$O,12,FALSE)=0,"",VLOOKUP($A6,'Annex 2 Designated EHV charges'!$A:$O,12,FALSE)),"")
A7: {=IFERROR(INDEX('Annex 2 Designated EHV charges'!$A$11:$A$259, MATCH(0, IF(ISBLANK('Annex 2 Designated EHV charges'!$A$11:$A$259),1, COUNTIF(A$4:$A6, 'Annex 2 Designated EHV charges'!$A$11:$A$259)), 0)),"")} | B7: =IF($A7="","",VLOOKUP($A7,'Annex 2 Designated EHV charges'!$A:$O,2,0)) | C7: =IF($A7="","",VLOOKUP($A7,'Annex 2 Designated EHV charges'!$A:$O,3,0)) | D7: =IF($A7="","",VLOOKUP($A7,'Annex 2 Designated EHV charges'!$A:$O,7,0)) | E7: =IFERROR(IF(VLOOKUP($A7,'Annex 2 Designated EHV charges'!$A:$O,9,FALSE)=0,"",VLOOKUP($A7,'Annex 2 Designated EHV charges'!$A:$O,9,FALSE)),"") | F7: =IFERROR(IF(VLOOKUP($A7,'Annex 2 Designated EHV charges'!$A:$O,10,FALSE)=0,"",VLOOKUP($A7,'Annex 2 Designated EHV charges'!$A:$O,10,FALSE)),"") | G7: =IFERROR(IF(VLOOKUP($A7,'Annex 2 Designated EHV charges'!$A:$O,11,FALSE)=0,"",VLOOKUP($A7,'Annex 2 Designated EHV charges'!$A:$O,11,FALSE)),"") | H7: =IFERROR(IF(VLOOKUP($A7,'Annex 2 Designated EHV charges'!$A:$O,12,FALSE)=0,"",VLOOKUP($A7,'Annex 2 Designated EHV charges'!$A:$O,12,FALSE)),"")
A8: {=IFERROR(INDEX('Annex 2 Designated EHV charges'!$A$11:$A$259, MATCH(0, IF(ISBLANK('Annex 2 Designated EHV charges'!$A$11:$A$259),1, COUNTIF(A$4:$A7, 'Annex 2 Designated EHV charges'!$A$11:$A$259)), 0)),"")} | B8: =IF($A8="","",VLOOKUP($A8,'Annex 2 Designated EHV charges'!$A:$O,2,0)) | C8: =IF($A8="","",VLOOKUP($A8,'Annex 2 Designated EHV charges'!$A:$O,3,0)) | D8: =IF($A8="","",VLOOKUP($A8,'Annex 2 Designated EHV charges'!$A:$O,7,0)) | E8: =IFERROR(IF(VLOOKUP($A8,'Annex 2 Designated EHV charges'!$A:$O,9,FALSE)=0,"",VLOOKUP($A8,'Annex 2 Designated EHV charges'!$A:$O,9,FALSE)),"") | F8: =IFERROR(IF(VLOOKUP($A8,'Annex 2 Designated EHV charges'!$A:$O,10,FALSE)=0,"",VLOOKUP($A8,'Annex 2 Designated EHV charges'!$A:$O,10,FALSE)),"") | G8: =IFERROR(IF(VLOOKUP($A8,'Annex 2 Designated EHV charges'!$A:$O,11,FALSE)=0,"",VLOOKUP($A8,'Annex 2 Designated EHV charges'!$A:$O,11,FALSE)),"") | H8: =IFERROR(IF(VLOOKUP($A8,'Annex 2 Designated EHV charges'!$A:$O,12,FALSE)=0,"",VLOOKUP($A8,'Annex 2 Designated EHV charges'!$A:$O,12,FALSE)),"")
A9: {=IFERROR(INDEX('Annex 2 Designated EHV charges'!$A$11:$A$259, MATCH(0, IF(ISBLANK('Annex 2 Designated EHV charges'!$A$11:$A$259),1, COUNTIF(A$4:$A8, 'Annex 2 Designated EHV charges'!$A$11:$A$259)), 0)),"")} | B9: =IF($A9="","",VLOOKUP($A9,'Annex 2 Designated EHV charges'!$A:$O,2,0)) | C9: =IF($A9="","",VLOOKUP($A9,'Annex 2 Designated EHV charges'!$A:$O,3,0)) | D9: =IF($A9="","",VLOOKUP($A9,'Annex 2 Designated EHV charges'!$A:$O,7,0)) | E9: =IFERROR(IF(VLOOKUP($A9,'Annex 2 Designated EHV charges'!$A:$O,9,FALSE)=0,"",VLOOKUP($A9,'Annex 2 Designated EHV charges'!$A:$O,9,FALSE)),"") | F9: =IFERROR(IF(VLOOKUP($A9,'Annex 2 Designated EHV charges'!$A:$O,10,FALSE)=0,"",VLOOKUP($A9,'Annex 2 Designated EHV charges'!$A:$O,10,FALSE)),"") | G9: =IFERROR(IF(VLOOKUP($A9,'Annex 2 Designated EHV charges'!$A:$O,11,FALSE)=0,"",VLOOKUP($A9,'Annex 2 Designated EHV charges'!$A:$O,11,FALSE)),"") | H9: =IFERROR(IF(VLOOKUP($A9,'Annex 2 Designated EHV charges'!$A:$O,12,FALSE)=0,"",VLOOKUP($A9,'Annex 2 Designated EHV charges'!$A:$O,12,FALSE)),"")
A10: {=IFERROR(INDEX('Annex 2 Designated EHV charges'!$A$11:$A$259, MATCH(0, IF(ISBLANK('Annex 2 Designated EHV charges'!$A$11:$A$259),1, COUNTIF(A$4:$A9, 'Annex 2 Designated EHV charges'!$A$11:$A$259)), 0)),"")} | B10: =IF($A10="","",VLOOKUP($A10,'Annex 2 Designated EHV charges'!$A:$O,2,0)) | C10: =IF($A10="","",VLOOKUP($A10,'Annex 2 Designated EHV charges'!$A:$O,3,0)) | D10: =IF($A10="","",VLOOKUP($A10,'Annex 2 Designated EHV charges'!$A:$O,7,0)) | E10: =IFERROR(IF(VLOOKUP($A10,'Annex 2 Designated EHV charges'!$A:$O,9,FALSE)=0,"",VLOOKUP($A10,'Annex 2 Designated EHV charges'!$A:$O,9,FALSE)),"") | F10: =IFERROR(IF(VLOOKUP($A10,'Annex 2 Designated EHV charges'!$A:$O,10,FALSE)=0,"",VLOOKUP($A10,'Annex 2 Designated EHV charges'!$A:$O,10,FALSE)),"") | G10: =IFERROR(IF(VLOOKUP($A10,'Annex 2 Designated EHV charges'!$A:$O,11,FALSE)=0,"",VLOOKUP($A10,'Annex 2 Designated EHV charges'!$A:$O,11,FALSE)),"") | H10: =IFERROR(IF(VLOOKUP($A10,'Annex 2 Designated EHV charges'!$A:$O,12,FALSE)=0,"",VLOOKUP($A10,'Annex 2 Designated EHV charges'!$A:$O,12,FALSE)),"")
A11: {=IFERROR(INDEX('Annex 2 Designated EHV charges'!$A$11:$A$259, MATCH(0, IF(ISBLANK('Annex 2 Designated EHV charges'!$A$11:$A$259),1, COUNTIF(A$4:$A10, 'Annex 2 Designated EHV charges'!$A$11:$A$259)), 0)),"")} | B11: =IF($A11="","",VLOOKUP($A11,'Annex 2 Designated EHV charges'!$A:$O,2,0)) | C11: =IF($A11="","",VLOOKUP($A11,'Annex 2 Designated EHV charges'!$A:$O,3,0)) | D11: =IF($A11="","",VLOOKUP($A11,'Annex 2 Designated EHV charges'!$A:$O,7,0)) | E11: =IFERROR(IF(VLOOKUP($A11,'Annex 2 Designated EHV charges'!$A:$O,9,FALSE)=0,"",VLOOKUP($A11,'Annex 2 Designated EHV charges'!$A:$O,9,FALSE)),"") | F11: =IFERROR(IF(VLOOKUP($A11,'Annex 2 Designated EHV charges'!$A:$O,10,FALSE)=0,"",VLOOKUP($A11,'Annex 2 Designated EHV charges'!$A:$O,10,FALSE)),"") | G11: =IFERROR(IF(VLOOKUP($A11,'Annex 2 Designated EHV charges'!$A:$O,11,FALSE)=0,"",VLOOKUP($A11,'Annex 2 Designated EHV charges'!$A:$O,11,FALSE)),"") | H11: =IFERROR(IF(VLOOKUP($A11,'Annex 2 Designated EHV charges'!$A:$O,12,FALSE)=0,"",VLOOKUP($A11,'Annex 2 Designated EHV charges'!$A:$O,12,FALSE)),"")
A12: {=IFERROR(INDEX('Annex 2 Designated EHV charges'!$A$11:$A$259, MATCH(0, IF(ISBLANK('Annex 2 Designated EHV charges'!$A$11:$A$259),1, COUNTIF(A$4:$A11, 'Annex 2 Designated EHV charges'!$A$11:$A$259)), 0)),"")} | B12: =IF($A12="","",VLOOKUP($A12,'Annex 2 Designated EHV charges'!$A:$O,2,0)) | C12: =IF($A12="","",VLOOKUP($A12,'Annex 2 Designated EHV charges'!$A:$O,3,0)) | D12: =IF($A12="","",VLOOKUP($A12,'Annex 2 Designated EHV charges'!$A:$O,7,0)) | E12: =IFERROR(IF(VLOOKUP($A12,'Annex 2 Designated EHV charges'!$A:$O,9,FALSE)=0,"",VLOOKUP($A12,'Annex 2 Designated EHV charges'!$A:$O,9,FALSE)),"") | F12: =IFERROR(IF(VLOOKUP($A12,'Annex 2 Designated EHV charges'!$A:$O,10,FALSE)=0,"",VLOOKUP($A12,'Annex 2 Designated EHV charges'!$A:$O,10,FALSE)),"") | G12: =IFERROR(IF(VLOOKUP($A12,'Annex 2 Designated EHV charges'!$A:$O,11,FALSE)=0,"",VLOOKUP($A12,'Annex 2 Designated EHV charges'!$A:$O,11,FALSE)),"") | H12: =IFERROR(IF(VLOOKUP($A12,'Annex 2 Designated EHV charges'!$A:$O,12,FALSE)=0,"",VLOOKUP($A12,'Annex 2 Designated EHV charges'!$A:$O,12,FALSE)),"")
A13: {=IFERROR(INDEX('Annex 2 Designated EHV charges'!$A$11:$A$259, MATCH(0, IF(ISBLANK('Annex 2 Designated EHV charges'!$A$11:$A$259),1, COUNTIF(A$4:$A12, 'Annex 2 Designated EHV charges'!$A$11:$A$259)), 0)),"")} | B13: =IF($A13="","",VLOOKUP($A13,'Annex 2 Designated EHV charges'!$A:$O,2,0)) | C13: =IF($A13="","",VLOOKUP($A13,'Annex 2 Designated EHV charges'!$A:$O,3,0)) | D13: =IF($A13="","",VLOOKUP($A13,'Annex 2 Designated EHV charges'!$A:$O,7,0)) | E13: =IFERROR(IF(VLOOKUP($A13,'Annex 2 Designated EHV charges'!$A:$O,9,FALSE)=0,"",VLOOKUP($A13,'Annex 2 Designated EHV charges'!$A:$O,9,FALSE)),"") | F13: =IFERROR(IF(VLOOKUP($A13,'Annex 2 Designated EHV charges'!$A:$O,10,FALSE)=0,"",VLOOKUP($A13,'Annex 2 Designated EHV charges'!$A:$O,10,FALSE)),"") | G13: =IFERROR(IF(VLOOKUP($A13,'Annex 2 Designated EHV charges'!$A:$O,11,FALSE)=0,"",VLOOKUP($A13,'Annex 2 Designated EHV charges'!$A:$O,11,FALSE)),"") | H13: =IFERROR(IF(VLOOKUP($A13,'Annex 2 Designated EHV charges'!$A:$O,12,FALSE)=0,"",VLOOKUP($A13,'Annex 2 Designated EHV charges'!$A:$O,12,FALSE)),"")
A14: {=IFERROR(INDEX('Annex 2 Designated EHV charges'!$A$11:$A$259, MATCH(0, IF(ISBLANK('Annex 2 Designated EHV charges'!$A$11:$A$259),1, COUNTIF(A$4:$A13, 'Annex 2 Designated EHV charges'!$A$11:$A$259)), 0)),"")} | B14: =IF($A14="","",VLOOKUP($A14,'Annex 2 Designated EHV charges'!$A:$O,2,0)) | C14: =IF($A14="","",VLOOKUP($A14,'Annex 2 Designated EHV charges'!$A:$O,3,0)) | D14: =IF($A14="","",VLOOKUP($A14,'Annex 2 Designated EHV charges'!$A:$O,7,0)) | E14: =IFERROR(IF(VLOOKUP($A14,'Annex 2 Designated EHV charges'!$A:$O,9,FALSE)=0,"",VLOOKUP($A14,'Annex 2 Designated EHV charges'!$A:$O,9,FALSE)),"") | F14: =IFERROR(IF(VLOOKUP($A14,'Annex 2 Designated EHV charges'!$A:$O,10,FALSE)=0,"",VLOOKUP($A14,'Annex 2 Designated EHV charges'!$A:$O,10,FALSE)),"") | G14: =IFERROR(IF(VLOOKUP($A14,'Annex 2 Designated EHV charges'!$A:$O,11,FALSE)=0,"",VLOOKUP($A14,'Annex 2 Designated EHV charges'!$A:$O,11,FALSE)),"") | H14: =IFERROR(IF(VLOOKUP($A14,'Annex 2 Designated EHV charges'!$A:$O,12,FALSE)=0,"",VLOOKUP($A14,'Annex 2 Designated EHV charges'!$A:$O,12,FALSE)),"")
A15: {=IFERROR(INDEX('Annex 2 Designated EHV charges'!$A$11:$A$259, MATCH(0, IF(ISBLANK('Annex 2 Designated EHV charges'!$A$11:$A$259),1, COUNTIF(A$4:$A14, 'Annex 2 Designated EHV charges'!$A$11:$A$259)), 0)),"")} | B15: =IF($A15="","",VLOOKUP($A15,'Annex 2 Designated EHV charges'!$A:$O,2,0)) | C15: =IF($A15="","",VLOOKUP($A15,'Annex 2 Designated EHV charges'!$A:$O,3,0)) | D15: =IF($A15="","",VLOOKUP($A15,'Annex 2 Designated EHV charges'!$A:$O,7,0)) | E15: =IFERROR(IF(VLOOKUP($A15,'Annex 2 Designated EHV charges'!$A:$O,9,FALSE)=0,"",VLOOKUP($A15,'Annex 2 Designated EHV charges'!$A:$O,9,FALSE)),"") | F15: =IFERROR(IF(VLOOKUP($A15,'Annex 2 Designated EHV charges'!$A:$O,10,FALSE)=0,"",VLOOKUP($A15,'Annex 2 Designated EHV charges'!$A:$O,10,FALSE)),"") | G15: =IFERROR(IF(VLOOKUP($A15,'Annex 2 Designated EHV charges'!$A:$O,11,FALSE)=0,"",VLOOKUP($A15,'Annex 2 Designated EHV charges'!$A:$O,11,FALSE)),"") | H15: =IFERROR(IF(VLOOKUP($A15,'Annex 2 Designated EHV charges'!$A:$O,12,FALSE)=0,"",VLOOKUP($A15,'Annex 2 Designated EHV charges'!$A:$O,12,FALSE)),"")
A16: {=IFERROR(INDEX('Annex 2 Designated EHV charges'!$A$11:$A$259, MATCH(0, IF(ISBLANK('Annex 2 Designated EHV charges'!$A$11:$A$259),1, COUNTIF(A$4:$A15, 'Annex 2 Designated EHV charges'!$A$11:$A$259)), 0)),"")} | B16: =IF($A16="","",VLOOKUP($A16,'Annex 2 Designated EHV charges'!$A:$O,2,0)) | C16: =IF($A16="","",VLOOKUP($A16,'Annex 2 Designated EHV charges'!$A:$O,3,0)) | D16: =IF($A16="","",VLOOKUP($A16,'Annex 2 Designated EHV charges'!$A:$O,7,0)) | E16: =IFERROR(IF(VLOOKUP($A16,'Annex 2 Designated EHV charges'!$A:$O,9,FALSE)=0,"",VLOOKUP($A16,'Annex 2 Designated EHV charges'!$A:$O,9,FALSE)),"") | F16: =IFERROR(IF(VLOOKUP($A16,'Annex 2 Designated EHV charges'!$A:$O,10,FALSE)=0,"",VLOOKUP($A16,'Annex 2 Designated EHV charges'!$A:$O,10,FALSE)),"") | G16: =IFERROR(IF(VLOOKUP($A16,'Annex 2 Designated EHV charges'!$A:$O,11,FALSE)=0,"",VLOOKUP($A16,'Annex 2 Designated EHV charges'!$A:$O,11,FALSE)),"") | H16: =IFERROR(IF(VLOOKUP($A16,'Annex 2 Designated EHV charges'!$A:$O,12,FALSE)=0,"",VLOOKUP($A16,'Annex 2 Designated EHV charges'!$A:$O,12,FALSE)),"")
... A254: {=IFERROR(INDEX('Annex 2 Designated EHV charges'!$A$11:$A$259, MATCH(0, IF(ISBLANK('Annex 2 Designated EHV charges'!$A$11:$A$259),1, COUNTIF(A$4:$A253, 'Annex 2 Designated EHV charges'!$A$11:$A$259)), 0)),"")} | B254: =IF($A254="","",VLOOKUP($A254,'Annex 2 Designated EHV charges'!$A:$O,2,0)) | C254: =IF($A254="","",VLOOKUP($A254,'Annex 2 Designated EHV charges'!$A:$O,3,0)) | D254: =IF($A254="","",VLOOKUP($A254,'Annex 2 Designated EHV charges'!$A:$O,7,0)) | E254: =IFERROR(IF(VLOOKUP($A254,'Annex 2 Designated EHV charges'!$A:$O,9,FALSE)=0,"",VLOOKUP($A254,'Annex 2 Designated EHV charges'!$A:$O,9,FALSE)),"") | F254: =IFERROR(IF(VLOOKUP($A254,'Annex 2 Designated EHV charges'!$A:$O,10,FALSE)=0,"",VLOOKUP($A254,'Annex 2 Designated EHV charges'!$A:$O,10,FALSE)),"") | G254: =IFERROR(IF(VLOOKUP($A254,'Annex 2 Designated EHV charges'!$A:$O,11,FALSE)=0,"",VLOOKUP($A254,'Annex 2 Designated EHV charges'!$A:$O,11,FALSE)),"") | H254: =IFERROR(IF(VLOOKUP($A254,'Annex 2 Designated EHV charges'!$A:$O,12,FALSE)=0,"",VLOOKUP($A254,'Annex 2 Designated EHV charges'!$A:$O,12,FALSE)),"")

Sheet Annex 2b Export
A1: Note: The list of MPANs / MSIDs provided may be incomplete; the DNO reserves the right to apply the listed charges to any other MPANs / MSIDs associated with the site. Note: This table is automatically populated based on the content of the tab entitled 'Annex 2 EHV Charges'. The timebands are as shown in Annex 2.
A2: =Overview!B4& " - Effective from "&Overview!D4&" - "&Overview!E4&" Designated EHV export charges" -> Aidien Limited - GSP_D - Effective from 1 April 2025 - Final Designated EHV export charges
A4: Export Unique Identifier | B4: LLFC | C4: Export MPANs/MSIDs | D4: Name | E4: ='Annex 2 Designated EHV charges'!M10 -> Export Super Red unit charge (p/kWh) | F4: ='Annex 2 Designated EHV charges'!N10 -> Export fixed charge (p/day) | G4: ='Annex 2 Designated EHV charges'!O10 -> Export capacity charge (p/kVA/day) | H4: ='Annex 2 Designated EHV charges'!P10 -> Export exceeded capacity charge (p/kVA/day)
A5: {=IFERROR(INDEX('Annex 2 Designated EHV charges'!$D$11:$D$259, MATCH(0, IF(ISBLANK('Annex 2 Designated EHV charges'!$D$11:$D$259),1, COUNTIF(A$4:$A4, 'Annex 2 Designated EHV charges'!$D$11:$D$259)), 0)),"")} | B5: =IF($A5="","",VLOOKUP($A5,'Annex 2 Designated EHV charges'!$D:$O,2,0)) | C5: =IF($A5="","",VLOOKUP($A5,'Annex 2 Designated EHV charges'!$D:$O,3,0)) | D5: =IF($A5="","",VLOOKUP($A5,'Annex 2 Designated EHV charges'!$D:$O,4,0)) | E5: =IFERROR(IF(VLOOKUP($A5,'Annex 2 Designated EHV charges'!$D:$O,10,FALSE)=0,"",VLOOKUP($A5,'Annex 2 Designated EHV charges'!$D:$O,10,FALSE)),"") | F5: =IFERROR(IF(VLOOKUP($A5,'Annex 2 Designated EHV charges'!$D:$O,11,FALSE)=0,"",VLOOKUP($A5,'Annex 2 Designated EHV charges'!$D:$O,11,FALSE)),"") | G5: =IFERROR(IF(VLOOKUP($A5,'Annex 2 Designated EHV charges'!$D:$O,12,FALSE)=0,"",VLOOKUP($A5,'Annex 2 Designated EHV charges'!$D:$O,12,FALSE)),"") | H5: =IFERROR(IF(VLOOKUP($A5,'Annex 2 Designated EHV charges'!$D:$P,13,FALSE)=0,"",VLOOKUP($A5,'Annex 2 Designated EHV charges'!$D:$P,13,FALSE)),"")
A6: {=IFERROR(INDEX('Annex 2 Designated EHV charges'!$D$11:$D$259, MATCH(0, IF(ISBLANK('Annex 2 Designated EHV charges'!$D$11:$D$259),1, COUNTIF(A$4:$A5, 'Annex 2 Designated EHV charges'!$D$11:$D$259)), 0)),"")} | B6: =IF($A6="","",VLOOKUP($A6,'Annex 2 Designated EHV charges'!$D:$O,2,0)) | C6: =IF($A6="","",VLOOKUP($A6,'Annex 2 Designated EHV charges'!$D:$O,3,0)) | D6: =IF($A6="","",VLOOKUP($A6,'Annex 2 Designated EHV charges'!$D:$O,4,0)) | E6: =IFERROR(IF(VLOOKUP($A6,'Annex 2 Designated EHV charges'!$D:$O,10,FALSE)=0,"",VLOOKUP($A6,'Annex 2 Designated EHV charges'!$D:$O,10,FALSE)),"") | F6: =IFERROR(IF(VLOOKUP($A6,'Annex 2 Designated EHV charges'!$D:$O,11,FALSE)=0,"",VLOOKUP($A6,'Annex 2 Designated EHV charges'!$D:$O,11,FALSE)),"") | G6: =IFERROR(IF(VLOOKUP($A6,'Annex 2 Designated EHV charges'!$D:$O,12,FALSE)=0,"",VLOOKUP($A6,'Annex 2 Designated EHV charges'!$D:$O,12,FALSE)),"") | H6: =IFERROR(IF(VLOOKUP($A6,'Annex 2 Designated EHV charges'!$D:$P,13,FALSE)=0,"",VLOOKUP($A6,'Annex 2 Designated EHV charges'!$D:$P,13,FALSE)),"")
A7: {=IFERROR(INDEX('Annex 2 Designated EHV charges'!$D$11:$D$259, MATCH(0, IF(ISBLANK('Annex 2 Designated EHV charges'!$D$11:$D$259),1, COUNTIF(A$4:$A6, 'Annex 2 Designated EHV charges'!$D$11:$D$259)), 0)),"")} | B7: =IF($A7="","",VLOOKUP($A7,'Annex 2 Designated EHV charges'!$D:$O,2,0)) | C7: =IF($A7="","",VLOOKUP($A7,'Annex 2 Designated EHV charges'!$D:$O,3,0)) | D7: =IF($A7="","",VLOOKUP($A7,'Annex 2 Designated EHV charges'!$D:$O,4,0)) | E7: =IFERROR(IF(VLOOKUP($A7,'Annex 2 Designated EHV charges'!$D:$O,10,FALSE)=0,"",VLOOKUP($A7,'Annex 2 Designated EHV charges'!$D:$O,10,FALSE)),"") | F7: =IFERROR(IF(VLOOKUP($A7,'Annex 2 Designated EHV charges'!$D:$O,11,FALSE)=0,"",VLOOKUP($A7,'Annex 2 Designated EHV charges'!$D:$O,11,FALSE)),"") | G7: =IFERROR(IF(VLOOKUP($A7,'Annex 2 Designated EHV charges'!$D:$O,12,FALSE)=0,"",VLOOKUP($A7,'Annex 2 Designated EHV charges'!$D:$O,12,FALSE)),"") | H7: =IFERROR(IF(VLOOKUP($A7,'Annex 2 Designated EHV charges'!$D:$P,13,FALSE)=0,"",VLOOKUP($A7,'Annex 2 Designated EHV charges'!$D:$P,13,FALSE)),"")
A8: {=IFERROR(INDEX('Annex 2 Designated EHV charges'!$D$11:$D$259, MATCH(0, IF(ISBLANK('Annex 2 Designated EHV charges'!$D$11:$D$259),1, COUNTIF(A$4:$A7, 'Annex 2 Designated EHV charges'!$D$11:$D$259)), 0)),"")} | B8: =IF($A8="","",VLOOKUP($A8,'Annex 2 Designated EHV charges'!$D:$O,2,0)) | C8: =IF($A8="","",VLOOKUP($A8,'Annex 2 Designated EHV charges'!$D:$O,3,0)) | D8: =IF($A8="","",VLOOKUP($A8,'Annex 2 Designated EHV charges'!$D:$O,4,0)) | E8: =IFERROR(IF(VLOOKUP($A8,'Annex 2 Designated EHV charges'!$D:$O,10,FALSE)=0,"",VLOOKUP($A8,'Annex 2 Designated EHV charges'!$D:$O,10,FALSE)),"") | F8: =IFERROR(IF(VLOOKUP($A8,'Annex 2 Designated EHV charges'!$D:$O,11,FALSE)=0,"",VLOOKUP($A8,'Annex 2 Designated EHV charges'!$D:$O,11,FALSE)),"") | G8: =IFERROR(IF(VLOOKUP($A8,'Annex 2 Designated EHV charges'!$D:$O,12,FALSE)=0,"",VLOOKUP($A8,'Annex 2 Designated EHV charges'!$D:$O,12,FALSE)),"") | H8: =IFERROR(IF(VLOOKUP($A8,'Annex 2 Designated EHV charges'!$D:$P,13,FALSE)=0,"",VLOOKUP($A8,'Annex 2 Designated EHV charges'!$D:$P,13,FALSE)),"")
A9: {=IFERROR(INDEX('Annex 2 Designated EHV charges'!$D$11:$D$259, MATCH(0, IF(ISBLANK('Annex 2 Designated EHV charges'!$D$11:$D$259),1, COUNTIF(A$4:$A8, 'Annex 2 Designated EHV charges'!$D$11:$D$259)), 0)),"")} | B9: =IF($A9="","",VLOOKUP($A9,'Annex 2 Designated EHV charges'!$D:$O,2,0)) | C9: =IF($A9="","",VLOOKUP($A9,'Annex 2 Designated EHV charges'!$D:$O,3,0)) | D9: =IF($A9="","",VLOOKUP($A9,'Annex 2 Designated EHV charges'!$D:$O,4,0)) | E9: =IFERROR(IF(VLOOKUP($A9,'Annex 2 Designated EHV charges'!$D:$O,10,FALSE)=0,"",VLOOKUP($A9,'Annex 2 Designated EHV charges'!$D:$O,10,FALSE)),"") | F9: =IFERROR(IF(VLOOKUP($A9,'Annex 2 Designated EHV charges'!$D:$O,11,FALSE)=0,"",VLOOKUP($A9,'Annex 2 Designated EHV charges'!$D:$O,11,FALSE)),"") | G9: =IFERROR(IF(VLOOKUP($A9,'Annex 2 Designated EHV charges'!$D:$O,12,FALSE)=0,"",VLOOKUP($A9,'Annex 2 Designated EHV charges'!$D:$O,12,FALSE)),"") | H9: =IFERROR(IF(VLOOKUP($A9,'Annex 2 Designated EHV charges'!$D:$P,13,FALSE)=0,"",VLOOKUP($A9,'Annex 2 Designated EHV charges'!$D:$P,13,FALSE)),"")
A10: {=IFERROR(INDEX('Annex 2 Designated EHV charges'!$D$11:$D$259, MATCH(0, IF(ISBLANK('Annex 2 Designated EHV charges'!$D$11:$D$259),1, COUNTIF(A$4:$A9, 'Annex 2 Designated EHV charges'!$D$11:$D$259)), 0)),"")} | B10: =IF($A10="","",VLOOKUP($A10,'Annex 2 Designated EHV charges'!$D:$O,2,0)) | C10: =IF($A10="","",VLOOKUP($A10,'Annex 2 Designated EHV charges'!$D:$O,3,0)) | D10: =IF($A10="","",VLOOKUP($A10,'Annex 2 Designated EHV charges'!$D:$O,4,0)) | E10: =IFERROR(IF(VLOOKUP($A10,'Annex 2 Designated EHV charges'!$D:$O,10,FALSE)=0,"",VLOOKUP($A10,'Annex 2 Designated EHV charges'!$D:$O,10,FALSE)),"") | F10: =IFERROR(IF(VLOOKUP($A10,'Annex 2 Designated EHV charges'!$D:$O,11,FALSE)=0,"",VLOOKUP($A10,'Annex 2 Designated EHV charges'!$D:$O,11,FALSE)),"") | G10: =IFERROR(IF(VLOOKUP($A10,'Annex 2 Designated EHV charges'!$D:$O,12,FALSE)=0,"",VLOOKUP($A10,'Annex 2 Designated EHV charges'!$D:$O,12,FALSE)),"") | H10: =IFERROR(IF(VLOOKUP($A10,'Annex 2 Designated EHV charges'!$D:$P,13,FALSE)=0,"",VLOOKUP($A10,'Annex 2 Designated EHV charges'!$D:$P,13,FALSE)),"")
A11: {=IFERROR(INDEX('Annex 2 Designated EHV charges'!$D$11:$D$259, MATCH(0, IF(ISBLANK('Annex 2 Designated EHV charges'!$D$11:$D$259),1, COUNTIF(A$4:$A10, 'Annex 2 Designated EHV charges'!$D$11:$D$259)), 0)),"")} | B11: =IF($A11="","",VLOOKUP($A11,'Annex 2 Designated EHV charges'!$D:$O,2,0)) | C11: =IF($A11="","",VLOOKUP($A11,'Annex 2 Designated EHV charges'!$D:$O,3,0)) | D11: =IF($A11="","",VLOOKUP($A11,'Annex 2 Designated EHV charges'!$D:$O,4,0)) | E11: =IFERROR(IF(VLOOKUP($A11,'Annex 2 Designated EHV charges'!$D:$O,10,FALSE)=0,"",VLOOKUP($A11,'Annex 2 Designated EHV charges'!$D:$O,10,FALSE)),"") | F11: =IFERROR(IF(VLOOKUP($A11,'Annex 2 Designated EHV charges'!$D:$O,11,FALSE)=0,"",VLOOKUP($A11,'Annex 2 Designated EHV charges'!$D:$O,11,FALSE)),"") | G11: =IFERROR(IF(VLOOKUP($A11,'Annex 2 Designated EHV charges'!$D:$O,12,FALSE)=0,"",VLOOKUP($A11,'Annex 2 Designated EHV charges'!$D:$O,12,FALSE)),"") | H11: =IFERROR(IF(VLOOKUP($A11,'Annex 2 Designated EHV charges'!$D:$P,13,FALSE)=0,"",VLOOKUP($A11,'Annex 2 Designated EHV charges'!$D:$P,13,FALSE)),"")
A12: {=IFERROR(INDEX('Annex 2 Designated EHV charges'!$D$11:$D$259, MATCH(0, IF(ISBLANK('Annex 2 Designated EHV charges'!$D$11:$D$259),1, COUNTIF(A$4:$A11, 'Annex 2 Designated EHV charges'!$D$11:$D$259)), 0)),"")} | B12: =IF($A12="","",VLOOKUP($A12,'Annex 2 Designated EHV charges'!$D:$O,2,0)) | C12: =IF($A12="","",VLOOKUP($A12,'Annex 2 Designated EHV charges'!$D:$O,3,0)) | D12: =IF($A12="","",VLOOKUP($A12,'Annex 2 Designated EHV charges'!$D:$O,4,0)) | E12: =IFERROR(IF(VLOOKUP($A12,'Annex 2 Designated EHV charges'!$D:$O,10,FALSE)=0,"",VLOOKUP($A12,'Annex 2 Designated EHV charges'!$D:$O,10,FALSE)),"") | F12: =IFERROR(IF(VLOOKUP($A12,'Annex 2 Designated EHV charges'!$D:$O,11,FALSE)=0,"",VLOOKUP($A12,'Annex 2 Designated EHV charges'!$D:$O,11,FALSE)),"") | G12: =IFERROR(IF(VLOOKUP($A12,'Annex 2 Designated EHV charges'!$D:$O,12,FALSE)=0,"",VLOOKUP($A12,'Annex 2 Designated EHV charges'!$D:$O,12,FALSE)),"") | H12: =IFERROR(IF(VLOOKUP($A12,'Annex 2 Designated EHV charges'!$D:$P,13,FALSE)=0,"",VLOOKUP($A12,'Annex 2 Designated EHV charges'!$D:$P,13,FALSE)),"")
A13: {=IFERROR(INDEX('Annex 2 Designated EHV charges'!$D$11:$D$259, MATCH(0, IF(ISBLANK('Annex 2 Designated EHV charges'!$D$11:$D$259),1, COUNTIF(A$4:$A12, 'Annex 2 Designated EHV charges'!$D$11:$D$259)), 0)),"")} | B13: =IF($A13="","",VLOOKUP($A13,'Annex 2 Designated EHV charges'!$D:$O,2,0)) | C13: =IF($A13="","",VLOOKUP($A13,'Annex 2 Designated EHV charges'!$D:$O,3,0)) | D13: =IF($A13="","",VLOOKUP($A13,'Annex 2 Designated EHV charges'!$D:$O,4,0)) | E13: =IFERROR(IF(VLOOKUP($A13,'Annex 2 Designated EHV charges'!$D:$O,10,FALSE)=0,"",VLOOKUP($A13,'Annex 2 Designated EHV charges'!$D:$O,10,FALSE)),"") | F13: =IFERROR(IF(VLOOKUP($A13,'Annex 2 Designated EHV charges'!$D:$O,11,FALSE)=0,"",VLOOKUP($A13,'Annex 2 Designated EHV charges'!$D:$O,11,FALSE)),"") | G13: =IFERROR(IF(VLOOKUP($A13,'Annex 2 Designated EHV charges'!$D:$O,12,FALSE)=0,"",VLOOKUP($A13,'Annex 2 Designated EHV charges'!$D:$O,12,FALSE)),"") | H13: =IFERROR(IF(VLOOKUP($A13,'Annex 2 Designated EHV charges'!$D:$P,13,FALSE)=0,"",VLOOKUP($A13,'Annex 2 Designated EHV charges'!$D:$P,13,FALSE)),"")
A14: {=IFERROR(INDEX('Annex 2 Designated EHV charges'!$D$11:$D$259, MATCH(0, IF(ISBLANK('Annex 2 Designated EHV charges'!$D$11:$D$259),1, COUNTIF(A$4:$A13, 'Annex 2 Designated EHV charges'!$D$11:$D$259)), 0)),"")} | B14: =IF($A14="","",VLOOKUP($A14,'Annex 2 Designated EHV charges'!$D:$O,2,0)) | C14: =IF($A14="","",VLOOKUP($A14,'Annex 2 Designated EHV charges'!$D:$O,3,0)) | D14: =IF($A14="","",VLOOKUP($A14,'Annex 2 Designated EHV charges'!$D:$O,4,0)) | E14: =IFERROR(IF(VLOOKUP($A14,'Annex 2 Designated EHV charges'!$D:$O,10,FALSE)=0,"",VLOOKUP($A14,'Annex 2 Designated EHV charges'!$D:$O,10,FALSE)),"") | F14: =IFERROR(IF(VLOOKUP($A14,'Annex 2 Designated EHV charges'!$D:$O,11,FALSE)=0,"",VLOOKUP($A14,'Annex 2 Designated EHV charges'!$D:$O,11,FALSE)),"") | G14: =IFERROR(IF(VLOOKUP($A14,'Annex 2 Designated EHV charges'!$D:$O,12,FALSE)=0,"",VLOOKUP($A14,'Annex 2 Designated EHV charges'!$D:$O,12,FALSE)),"") | H14: =IFERROR(IF(VLOOKUP($A14,'Annex 2 Designated EHV charges'!$D:$P,13,FALSE)=0,"",VLOOKUP($A14,'Annex 2 Designated EHV charges'!$D:$P,13,FALSE)),"")
A15: {=IFERROR(INDEX('Annex 2 Designated EHV charges'!$D$11:$D$259, MATCH(0, IF(ISBLANK('Annex 2 Designated EHV charges'!$D$11:$D$259),1, COUNTIF(A$4:$A14, 'Annex 2 Designated EHV charges'!$D$11:$D$259)), 0)),"")} | B15: =IF($A15="","",VLOOKUP($A15,'Annex 2 Designated EHV charges'!$D:$O,2,0)) | C15: =IF($A15="","",VLOOKUP($A15,'Annex 2 Designated EHV charges'!$D:$O,3,0)) | D15: =IF($A15="","",VLOOKUP($A15,'Annex 2 Designated EHV charges'!$D:$O,4,0)) | E15: =IFERROR(IF(VLOOKUP($A15,'Annex 2 Designated EHV charges'!$D:$O,10,FALSE)=0,"",VLOOKUP($A15,'Annex 2 Designated EHV charges'!$D:$O,10,FALSE)),"") | F15: =IFERROR(IF(VLOOKUP($A15,'Annex 2 Designated EHV charges'!$D:$O,11,FALSE)=0,"",VLOOKUP($A15,'Annex 2 Designated EHV charges'!$D:$O,11,FALSE)),"") | G15: =IFERROR(IF(VLOOKUP($A15,'Annex 2 Designated EHV charges'!$D:$O,12,FALSE)=0,"",VLOOKUP($A15,'Annex 2 Designated EHV charges'!$D:$O,12,FALSE)),"") | H15: =IFERROR(IF(VLOOKUP($A15,'Annex 2 Designated EHV charges'!$D:$P,13,FALSE)=0,"",VLOOKUP($A15,'Annex 2 Designated EHV charges'!$D:$P,13,FALSE)),"")
A16: {=IFERROR(INDEX('Annex 2 Designated EHV charges'!$D$11:$D$259, MATCH(0, IF(ISBLANK('Annex 2 Designated EHV charges'!$D$11:$D$259),1, COUNTIF(A$4:$A15, 'Annex 2 Designated EHV charges'!$D$11:$D$259)), 0)),"")} | B16: =IF($A16="","",VLOOKUP($A16,'Annex 2 Designated EHV charges'!$D:$O,2,0)) | C16: =IF($A16="","",VLOOKUP($A16,'Annex 2 Designated EHV charges'!$D:$O,3,0)) | D16: =IF($A16="","",VLOOKUP($A16,'Annex 2 Designated EHV charges'!$D:$O,4,0)) | E16: =IFERROR(IF(VLOOKUP($A16,'Annex 2 Designated EHV charges'!$D:$O,10,FALSE)=0,"",VLOOKUP($A16,'Annex 2 Designated EHV charges'!$D:$O,10,FALSE)),"") | F16: =IFERROR(IF(VLOOKUP($A16,'Annex 2 Designated EHV charges'!$D:$O,11,FALSE)=0,"",VLOOKUP($A16,'Annex 2 Designated EHV charges'!$D:$O,11,FALSE)),"") | G16: =IFERROR(IF(VLOOKUP($A16,'Annex 2 Designated EHV charges'!$D:$O,12,FALSE)=0,"",VLOOKUP($A16,'Annex 2 Designated EHV charges'!$D:$O,12,FALSE)),"") | H16: =IFERROR(IF(VLOOKUP($A16,'Annex 2 Designated EHV charges'!$D:$P,13,FALSE)=0,"",VLOOKUP($A16,'Annex 2 Designated EHV charges'!$D:$P,13,FALSE)),"")
... A254: {=IFERROR(INDEX('Annex 2 Designated EHV charges'!$D$11:$D$259, MATCH(0, IF(ISBLANK('Annex 2 Designated EHV charges'!$D$11:$D$259),1, COUNTIF(A$4:$A253, 'Annex 2 Designated EHV charges'!$D$11:$D$259)), 0)),"")} | B254: =IF($A254="","",VLOOKUP($A254,'Annex 2 Designated EHV charges'!$D:$O,2,0)) | C254: =IF($A254="","",VLOOKUP($A254,'Annex 2 Designated EHV charges'!$D:$O,3,0)) | D254: =IF($A254="","",VLOOKUP($A254,'Annex 2 Designated EHV charges'!$D:$O,4,0)) | E254: =IFERROR(IF(VLOOKUP($A254,'Annex 2 Designated EHV charges'!$D:$O,10,FALSE)=0,"",VLOOKUP($A254,'Annex 2 Designated EHV charges'!$D:$O,10,FALSE)),"") | F254: =IFERROR(IF(VLOOKUP($A254,'Annex 2 Designated EHV charges'!$D:$O,11,FALSE)=0,"",VLOOKUP($A254,'Annex 2 Designated EHV charges'!$D:$O,11,FALSE)),"") | G254: =IFERROR(IF(VLOOKUP($A254,'Annex 2 Designated EHV charges'!$D:$O,12,FALSE)=0,"",VLOOKUP($A254,'Annex 2 Designated EHV charges'!$D:$O,12,FALSE)),"") | H254: =IFERROR(IF(VLOOKUP($A254,'Annex 2 Designated EHV charges'!$D:$P,13,FALSE)=0,"",VLOOKUP($A254,'Annex 2 Designated EHV charges'!$D:$P,13,FALSE)),"")

Sheet Annex 3 Preserved charges
A1: Back to Overview
A2: =Overview!B4& " - Effective from "&Overview!D4&" - "&Overview!E4&" LV and HV tariffs" -> Aidien Limited - GSP_D - Effective from 1 April 2025 - Final LV and HV tariffs
A3: Supercustomer preserved charges/additional LLFCs
B4: Closed LLFCs | C4: PCs | D4: Red/black unit charge p/kWh | E4: Amber/yellow unit charge p/kWh | F4: Green unit charge p/kWh | G4: Fixed charge p/MPAN/day
A9: Notes: | B9: Unit time periods are as specified in the SSC.
B10: SP Manweb uses a default tariff for invalid settlement combinations these will be charged at the Domestic Aggregated Unrestricted Rates. The Domestic and Non-Domestic Aggregated (related MPAN) tariffs are supplementary to a standard published tariff and therefore only available under these conditions. Preserved tariffs are only available to existing supplies, subject to certain conditions: a) Suppliers may not normally transfer a meter point from one preserved tariff to another preserved tariff; b) If a supply under a preserved tariff should cease, other than on change of tenancy, the preserved tariff may not normally be restored; c) Any additional load required to be supplied on the preserved tariff must be within the existing supply capacity.
A14: Site Specific preserved charges/additional LLFCs
B15: Closed LLFCs | C15: PCs | D15: Red/black unit charge p/kWh | E15: Amber/yellow unit charge p/kWh | F15: Green unit charge p/kWh | G15: Fixed charge p/MPAN/day | H15: Capacity charge p/kVA/day | I15: Exceeded capacity charge p/kVA/day | J15: Reactive power charge p/kVArh
C16: 0
A17: Notes: | B17: Time periods
B18: [Add DNO specific notes relevant to charges]
B19: Unit charges in the red time band apply – between [xx:xx] and [xx:xx], Monday to Friday including bank holidays.
B20: Unit charges in the amber time band apply – between [xx:xx] and [xx:xx], Monday to Friday including bank holidays.
B21: Unit charges in the green time band apply – between [xx:xx] and [xx:xx], Monday to Friday including bank holidays, and [xx:xx] and [xx:xx] Saturday and Sunday.
B22: All times are UK clock-time.
B24: [Add DNO specific notes]

Sheet Annex 4 LDNO charges
A1: Back to Overview | B1: Copy from CDCM table 3701 "Tariffs!A42:I84" and paste values into A14 | F1: Copy from EDCM table 6005 "LDNORev!B549:G683" and paste values into D57
A2: =Overview!B4& " - Effective from "&Overview!D4&" - "&Overview!E4&" LDNO tariffs" -> Aidien Limited - GSP_D - Effective from 1 April 2025 - Final LDNO tariffs
A4: Time Bands for LV and HV Designated Properties | F4: Time Bands for Unmetered Properties
A5: Time periods | B5: Red Time Band | C5: Amber Time Band | D5: Green Time Band | H5: Black Time Band | I5: Yellow Time Band | J5: Green Time Band
A6: Monday to Friday (Including Bank Holidays) All Year | B6: 16.30 - 19.30 | C6: 08.00 - 16.30 19.30 - 22.30 | D6: 00.00 - 08.00 22.30 - 00.00 | F6: Monday to Friday (Including Bank Holidays) June to August Inclusive | I6: 08.00 - 22.30 | J6: 00.00 - 08.00 22.30 - 00.00
A7: Saturday and Sunday All Year | C7: 16.00 - 20.00 | D7: 00.00 - 16.00 20.00 - 00.00 | F7: Monday to Friday (Including Bank Holidays) November to February Inclusive | H7: 16.30 - 19.30 | I7: 08.00 - 16.30 19.30 - 22.30 | J7: 00.00 - 08.00 22.30 - 00.00
A8: Notes | B8: All the above times are in UK Clock time | F8: Monday to Friday (Including Bank Holidays) March to May, & September to October, Inclusive | I8: 08.00 - 22.30 | J8: 00.00 - 08.00 22.30 - 00.00
F9: Saturday and Sunday All year | I9: 16.00 - 20.00 | J9: 00:00-16:00 20:00-00:00
F10: Notes | H10: All the above times are in UK Clock time
A13: Tariff name | B13: Unique billing identifier | C13: PCs | D13: Red/black unit charge p/kWh | E13: Amber/yellow unit charge p/kWh | F13: Green unit charge p/kWh | G13: Fixed charge p/MPAN/day | H13: Capacity charge p/kVA/day | I13: Exceeded capacity charge p/kVA/day | J13: Reactive power charge p/kVArh
A14: LDNO LV: Domestic Aggregated or CT with Residual | B14: D01 | D14: 8.324 | E14: 2.213 | F14: 0.247 | G14: 16.53 | K14: 1
A15: LDNO LV: Domestic Aggregated (related MPAN) | B15: D04 | D15: 8.324 | E15: 2.213 | F15: 0.247 | K15: 1
A16: LDNO LV: Non-Domestic Aggregated or CT No Residual | B16: D07 | D16: 9.402 | E16: 2.499 | F16: 0.279 | G16: 4.72 | K16: 1
A17: LDNO LV: Non-Domestic Aggregated or CT Band 1 | B17: D10 | D17: 9.402 | E17: 2.499 | F17: 0.279 | G17: 19.97 | K17: 1
A18: LDNO LV: Non-Domestic Aggregated or CT Band 2 | B18: D13 | D18: 9.402 | E18: 2.499 | F18: 0.279 | G18: 36.83 | K18: 1
A19: LDNO LV: Non-Domestic Aggregated or CT Band 3 | B19: D16 | D19: 9.402 | E19: 2.499 | F19: 0.279 | G19: 73.57 | K19: 1
A20: LDNO LV: Non-Domestic Aggregated or CT Band 4 | B20: D19 | D20: 9.402 | E20: 2.499 | F20: 0.279 | G20: 213.87 | K20: 1
A21: LDNO LV: Non-Domestic Aggregated (related MPAN) | B21: D22 | D21: 9.402 | E21: 2.499 | F21: 0.279 | K21: 1
A22: LDNO LV: LV Site Specific No Residual | B22: D25 | D22: 6.873 | E22: 1.656 | F22: 0.172 | G22: 15.89 | H22: 4.22 | I22: 4.22 | J22: 0.426 | K22: 1
A23: LDNO LV: LV Site Specific Band 1 | B23: D28 | D23: 6.873 | E23: 1.656 | F23: 0.172 | G23: 424.95 | H23: 4.22 | I23: 4.22 | J23: 0.426 | K23: 1
A24: LDNO LV: LV Site Specific Band 2 | B24: D31 | D24: 6.873 | E24: 1.656 | F24: 0.172 | G24: 801.87 | H24: 4.22 | I24: 4.22 | J24: 0.426 | K24: 1
A25: LDNO LV: LV Site Specific Band 3 | B25: D34 | D25: 6.873 | E25: 1.656 | F25: 0.172 | G25: 1239.46 | H25: 4.22 | I25: 4.22 | J25: 0.426 | K25: 1
A26: LDNO LV: LV Site Specific Band 4 | B26: D37 | D26: 6.873 | E26: 1.656 | F26: 0.172 | G26: 2794.34 | H26: 4.22 | I26: 4.22 | J26: 0.426 | K26: 1
A27: LDNO LV: Unmetered Supplies | B27: D60 | D27: 17.817 | E27: 3.735 | F27: 1.992 | K27: 1
A28: LDNO LV: LV Generation Aggregated | B28: D63 | D28: -10.032 | E28: -2.667 | F28: -0.297 | G28: 0 | K28: 1
A29: LDNO LV: LV Generation Site Specific | B29: D68 | D29: -10.032 | E29: -2.667 | F29: -0.297 | G29: 0 | J29: 0.648 | K29: 1
A30: LDNO HV: Domestic Aggregated or CT with Residual | B30: D02 | D30: 6.047 | E30: 1.607 | F30: 0.179 | G30: 12.05 | K30: 1
A31: LDNO HV: Domestic Aggregated (Related MPAN) | B31: D05 | D31: 6.047 | E31: 1.607 | F31: 0.179 | K31: 1
A32: LDNO HV: Non-Domestic Aggregated or CT No Residual | B32: D08 | D32: 6.83 | E32: 1.815 | F32: 0.202 | G32: 3.44 | K32: 1
A33: LDNO HV: Non-Domestic Aggregated or CT Band 1 | B33: D11 | D33: 6.83 | E33: 1.815 | F33: 0.202 | G33: 14.52 | K33: 1
A34: LDNO HV: Non-Domestic Aggregated or CT Band 2 | B34: D14 | D34: 6.83 | E34: 1.815 | F34: 0.202 | G34: 26.77 | K34: 1
A35: LDNO HV: Non-Domestic Aggregated or CT Band 3 | B35: D17 | D35: 6.83 | E35: 1.815 | F35: 0.202 | G35: 53.46 | K35: 1
A36: LDNO HV: Non-Domestic Aggregated or CT Band 4 | B36: D20 | D36: 6.83 | E36: 1.815 | F36: 0.202 | G36: 155.37 | K36: 1
A37: LDNO HV: Non-Domestic Aggregated (related MPAN) | B37: D23 | D37: 6.83 | E37: 1.815 | F37: 0.202 | K37: 1
A38: LDNO HV: LV Site Specific No Residual | B38: D26 | D38: 4.992 | E38: 1.203 | F38: 0.125 | G38: 11.56 | H38: 3.06 | I38: 3.06 | J38: 0.309 | K38: 1
A39: LDNO HV: LV Site Specific Band 1 | B39: D29 | D39: 4.992 | E39: 1.203 | F39: 0.125 | G39: 308.7 | H39: 3.06 | I39: 3.06 | J39: 0.309 | K39: 1
A40: LDNO HV: LV Site Specific Band 2 | B40: D32 | D40: 4.992 | E40: 1.203 | F40: 0.125 | G40: 582.5 | H40: 3.06 | I40: 3.06 | J40: 0.309 | K40: 1
A41: LDNO HV: LV Site Specific Band 3 | B41: D35 | D41: 4.992 | E41: 1.203 | F41: 0.125 | G41: 900.37 | H41: 3.06 | I41: 3.06 | J41: 0.309 | K41: 1
A42: LDNO HV: LV Site Specific Band 4 | B42: D38 | D42: 4.992 | E42: 1.203 | F42: 0.125 | G42: 2029.84 | H42: 3.06 | I42: 3.06 | J42: 0.309 | K42: 1
A43: LDNO HV: LV Sub Site Specific No Residual | B43: D40 | D43: 6.32 | E43: 1.224 | F43: 0.102 | G43: 6.69 | H43: 7.93 | I43: 7.93 | J43: 0.291 | K43: 1
...

Sheet Annex 5 LLFs
A1: Back to Overview
A2: This table has intentionally been left blank. The line loss factors that are approved by the BSC Panel for the applicable year and consequently published on the Elexon website will take precedence and be used in Settlement. This annex will be re-published once these values are available.
A3: =Overview!B4& " - Illustrative LLFs for year beginning "&Overview!D4 -> Aidien Limited - GSP_D - Illustrative LLFs for year beginning 1 April 2025
A4: Time periods | B4: Period 1 | C4: Period 2 | D4: Period 3 | E4: Period 4
B5: (Name 1) | C5: (Name 2) | D5: (Name 3) | E5: (Name 4)
A6: Monday to Friday March to October | B6: 23:30 – 07:30 | C6: 07:30 – 23:30
A7: Monday to Friday November to February | B7: 23:30 – 07:30 | C7: 20:00 – 23:30 | D7: 07:30 – 16:00 19:00 – 20:00 | E7: 16:00 – 19:00
A8: Saturday and Sunday All Year | B8: 23:30 – 07:30 | C8: 07:30 – 23:30
A9: Notes | B9: All the above times are in UK Clock time
A12: Generic demand and generation LLFs
A13: Metered voltage, respective periods and associated LLFCs
A14: Metered voltage | B14: Period 1 | C14: Period 2 | D14: Period 3 | E14: Period 4 | F14: Associated LLFC
A15: Low-voltage network | B15: 1.1 | C15: 1.122 | D15: 1.14 | E15: 1.162 | F15: D01,D02,D03,D04,D05,D06,D07,D08,D09,D10,D11,D12,D13,D14,D15,D16,D17,D18,D19,D20,D21,D22,D23,D24,D25,D26,D27,D28,D29,D30,D31,D32,D33,D34,D35,D36,D37,D38,D39,D60,D61,D62,D63,D64,D65,D68,D69,D70,D71,D72,D73
A16: Low-voltage substation | B16: 1.059 | C16: 1.059 | D16: 1.063 | E16: 1.066 | F16: D40,D41,D42,D43,D44,D45,D46,D47,D48,D49,D66,D67,D74,D75,D76,D77
A17: High-voltage network | B17: 1.032 | C17: 1.036 | D17: 1.04 | E17: 1.043 | F17: D50,D51,D52,D53,D54,D55,D56,D57,D58,D59,D78,D79,D80,D81
A18: High-voltage substation | B18: 1.024 | C18: 1.025 | D18: 1.027 | E18: 1.029
A19: 33kV generic import | B19: 1.016 | C19: 1.017 | D19: 1.019 | E19: 1.02
A20: 33kV generic export | B20: 1.012 | C20: 1.012 | D20: 1.012 | E20: 1.013
A21: 132kV generic | B21: 1.003 | C21: 1.004 | D21: 1.005 | E21: 1.005
A22: 132kV generic | B22: 1 | C22: 1 | D22: 1 | E22: 1
A24: EHV site specific LLFs
A25: Demand
A26: Site | B26: Period 1 | C26: Period 2 | D26: Period 3 | E26: Period 4 | F26: Associated LLFC
A138: EHV site specific LLFs
A139: Generation
A140: Site | B140: Period 1 | C140: Period 2 | D140: Period 3 | E140: Period 4 | F140: Associated LLFC

Sheet Annex 6 New or Amended EHV
A1: Back to Overview | H1: Note: The list of MPANs/MSIDs provided may be incomplete; the DNO reserves the right to apply the listed charges to any other MPANs/MSIDs associated with the site. If sites appear in both Annex 2 and Annex 6, the charges in Annex 6 take precedence. Where an existing Designated EHV Property is modified and energised in the charging year, we may revise the EDCM charges for the modified Designated EHV Property.
A2: Annex 6 - Charges for New or Amended Designated EHV Properties
A4: =Overview!B4& " - Effective from "&Overview!D4&" - "&Overview!E4&" new designated EHV charges" -> Aidien Limited - GSP_D - Effective from 1 April 2025 - Final new designated EHV charges
A5: Effective from date | B5: Import Unique Identifier | C5: LLFC | D5: Import MPANs/MSIDs | E5: Export Unique Identifier | F5: LLFC | G5: Export MPANs/MSIDs | H5: Name | I5: Residual Charging Band | J5: ='Annex 2 Designated EHV charges'!I10 -> Import Super Red unit charge (p/kWh) | K5: ='Annex 2 Designated EHV charges'!J10 -> Import fixed charge (p/day) | L5: ='Annex 2 Designated EHV charges'!K10 -> Import capacity charge (p/kVA/day) | M5: ='Annex 2 Designated EHV charges'!L10 -> Import exceeded capacity charge (p/kVA/day) | N5: ='Annex 2 Designated EHV charges'!M10 -> Export Super Red unit charge (p/kWh) | O5: ='Annex 2 Designated EHV charges'!N10 -> Export fixed charge (p/day) | P5: ='Annex 2 Designated EHV charges'!O10 -> Export capacity charge (p/kVA/day) | Q5: ='Annex 2 Designated EHV charges'!P10 -> Export exceeded capacity charge (p/kVA/day)
A17: =Overview!B4& " - Effective from "&Overview!D4&" - "&Overview!E4&" new designated EHV line loss factors" -> Aidien Limited - GSP_D - Effective from 1 April 2025 - Final new designated EHV line loss factors
A18: Effective from date | B18: Import Unique Identifier | C18: LLFC | D18: Import MPANs/MSIDs | E18: Export Unique Identifier | F18: LLFC | G18: Export MPANs/MSIDs | H18: Name | I18: Residual Charging Band | J18: Import LLF period 1 | K18: Import LLF period 2 | L18: Import LLF period 3 | M18: Import LLF period 4 | N18: Export LLF period 1 | O18: Export LLF period 2 | P18: Export LLF period 3 | Q18: Export LLF period 4

Sheet Annex 7 Pass-Through Costs
A1: Back to Overview
A2: =Overview!B4& " - Effective from "&Overview!D4&" - "&Overview!E4&" Supplier of Last Resort and Eligible Bad Debt Pass-Through Costs" -> Aidien Limited - GSP_D - Effective from 1 April 2025 - Final Supplier of Last Resort and Eligible Bad Debt Pass-Through Costs
A4: Tariff name | B4: Open LLFCs / LDNO unique billing identifier | C4: PCs | D4: Supplier of Last Resort Fixed charge adder* p/MPAN/day | E4: Eligible Bad Debt Fixed charge adder*** p/MPAN/day
A5: Domestic Aggregated or CT | C5: 0, 1, 2 | D5: 0.083811002 | E5: 0.04891844 | F5: 1
A6: Non-Domestic Aggregated or CT No Residual | C6: 0, 3, 4, 5-8 | E6: 0.04891844 | F6: 1
A7: Non-Domestic Aggregated or CT Band 1 | C7: 0, 3, 4, 5-8 | E7: 0.04891844 | F7: 1
A8: Non-Domestic Aggregated or CT Band 2 | C8: 0, 3, 4, 5-8 | E8: 0.04891844 | F8: 1
A9: Non-Domestic Aggregated or CT Band 3 | C9: 0, 3, 4, 5-8 | E9: 0.04891844 | F9: 1
A10: Non-Domestic Aggregated or CT Band 4 | C10: 0, 3, 4, 5-8 | E10: 0.04891844 | F10: 1
A11: LV Site Specific No Residual | C11: 0 | E11: 0.04891844 | F11: 1
A12: LV Site Specific Band 1 | C12: 0 | E12: 0.04891844 | F12: 1
A13: LV Site Specific Band 2 | C13: 0 | E13: 0.04891844 | F13: 1
A14: LV Site Specific Band 3 | C14: 0 | E14: 0.04891844 | F14: 1
A15: LV Site Specific Band 4 | C15: 0 | E15: 0.04891844 | F15: 1
A16: LV Sub Site Specific No Residual | C16: 0 | E16: 0.04891844 | F16: 1
A17: LV Sub Site Specific Band 1 | C17: 0 | E17: 0.04891844 | F17: 1
A18: LV Sub Site Specific Band 2 | C18: 0 | E18: 0.04891844 | F18: 1
A19: LV Sub Site Specific Band 3 | C19: 0 | E19: 0.04891844 | F19: 1
A20: LV Sub Site Specific Band 4 | C20: 0 | E20: 0.04891844 | F20: 1
A21: HV Site Specific No Residual | C21: 0 | E21: 0.04891844 | F21: 1
A22: HV Site Specific Band 1 | C22: 0 | E22: 0.04891844 | F22: 1
... A25: HV Site Specific Band 4 | C25: 0 | E25: 0.04891844 | F25: 1
A26: LDNO LV: Domestic Aggregated or CT | C26: 0, 1, 2 | D26: 0.083811002 | E26: 0.04891844 | F26: 1
A27: LDNO LV: Non-Domestic Aggregated or CT No Residual | C27: 0, 3, 4, 5-8 | E27: 0.04891844 | F27: 1
A28: LDNO LV: Non-Domestic Aggregated or CT Band 1 | C28: 0, 3, 4, 5-8 | E28: 0.04891844 | F28: 1
A29: LDNO LV: Non-Domestic Aggregated or CT Band 2 | C29: 0, 3, 4, 5-8 | E29: 0.04891844 | F29: 1
A30: LDNO LV: Non-Domestic Aggregated or CT Band 3 | C30: 0, 3, 4, 5-8 | E30: 0.04891844 | F30: 1
A31: LDNO LV: Non-Domestic Aggregated or CT Band 4 | C31: 0, 3, 4, 5-8 | E31: 0.04891844 | F31: 1
A32: LDNO LV: LV Site Specific No Residual | C32: 0 | E32: 0.04891844 | F32: 1
A33: LDNO LV: LV Site Specific Band 1 | C33: 0 | E33: 0.04891844 | F33: 1
A34: LDNO LV: LV Site Specific Band 2 | C34: 0 | E34: 0.04891844 | F34: 1
A35: LDNO LV: LV Site Specific Band 3 | C35: 0 | E35: 0.04891844 | F35: 1
A36: LDNO LV: LV Site Specific Band 4 | C36: 0 | E36: 0.04891844 | F36: 1
A37: LDNO HV: Domestic Aggregated or CT | C37: 0, 1, 2 | D37: 0.083811002 | E37: 0.04891844 | F37: 1
A38: LDNO HV: Non-Domestic Aggregated or CT No Residual | C38: 0, 3, 4, 5-8 | E38: 0.04891844 | F38: 2
A39: LDNO HV: Non-Domestic Aggregated or CT Band 1 | C39: 0, 3, 4, 5-8 | E39: 0.04891844 | F39: 2
A40: LDNO HV: Non-Domestic Aggregated or CT Band 2 | C40: 0, 3, 4, 5-8 | E40: 0.04891844 | F40: 2
A41: LDNO HV: Non-Domestic Aggregated or CT Band 3 | C41: 0, 3, 4, 5-8 | E41: 0.04891844 | F41: 2
A42: LDNO HV: Non-Domestic Aggregated or CT Band 4 | C42: 0, 3, 4, 5-8 | E42: 0.04891844 | F42: 2
A43: LDNO HV: LV Site Specific No Residual | C43: 0 | E43: 0.04891844 | F43: 2
...

Sheet Nodal prices
A1: Back to Overview
A2: =Overview!B4& " - Effective from "&Overview!D4&" - "&Overview!E4&" Nodal/Zonal charges" -> Aidien Limited - GSP_D - Effective from 1 April 2025 - Final Nodal/Zonal charges
A3: Node/Zone ID | B3: Geographical name | C3: Local charge 1 £/kVA | D3: Remote charge 1 £/kVA

Sheet SSC unit rate lookup
A1: Back to Overview
A28: Standard Settlement Configuration Id | B28: Standard Settlement Configuration Desc | C28: Common Decode | F28: Change implemented | G28: Date | H28: Comments
A29: 3 | B29: 10-hour OP | C29: A/R | F29: Notes updated | G29: 43626 | H29: Updated to reflect DCP 268 which delinks all tariffs from the TPR bands
A30: 4 | B30: 10-hour OP | C30: A/R | F30: Code 1 & 2 changed to A | G30: 43626 | H30: Updated to reflect DCP 268 which delinks all tariffs from the TPR bands
A31: 5 | B31: 10-hour OP + w/e | C31: A/R | F31: Code O changed to A/R | G31: 43626 | H31: Updated to reflect DCP 268 which delinks all tariffs from the TPR bands
A32: 6 | B32: 10.5-hour OP | C32: A/R | F32: Removed TPR | G32: 43626 | H32: Removed TPR lookup element as this no longer effects which rate to apply
A33: 7 | B33: 10.5-hour OP | C33: A/R
A34: 8 | B34: 10.5-hour OP | C34: A/R
A35: 9 | B35: 10.5-hour OP | C35: A/R
A36: 10 | B36: 10.5-hour OP | C36: A/R
A37: 11 | B37: 10.5-hour OP | C37: A/R
A38: 12 | B38: 10.5-hour OP | C38: A/R
A39: 13 | B39: 11 Hour OP | C39: A/R
A40: 15 | B40: 11 Hour OP | C40: A/R
A41: 16 | B41: 11.5-hour OP | C41: A/R
A42: 17 | B42: 11.5-hour OP | C42: A/R
A43: 18 | B43: 11.5-hour OP | C43: A/R
A44: 19 | B44: 11.5-hour OP | C44: A/R
... A764: 997 | B764: Evening/Weekend - BST | C764: A

Sheet Residual Charging Bands
A1: Back to Overview
A2: =Overview!B4& " - Effective from "&Overview!C4&" - "&Overview!E4&" Residual Charging Bands" -> Aidien Limited - GSP_D - Effective from 2025/26 - Final Residual Charging Bands
A4: Voltage of Connection | B4: Band | C4: Units | D4: Lower Threshold* | E4: Upper Threshold* | F4: Residual Charge per MPAN (£)
A5: Domestic Aggregated | B5: Single band | C5: - | D5: - | E5: - | F5: 74.987382
A6: Designated Properties connected at LV, billing with no MIC | B6: 1 | C6: kWh | D6: 0 | E6: 3571 | F6: 90.752074
B7: 2 | C7: kWh | D7: 3571 | E7: 12553 | F7: 191.13159
B8: 3 | C8: kWh | D8: 12553 | E8: 25279 | F8: 409.81504
B9: 4 | C9: kWh | D9: 25279 | E9: ∞ | F9: 1244.9316
A10: Designated Properties connected at LV, billing with MIC | B10: 1 | C10: kVA | D10: 0 | E10: 80 | F10: 2434.8671
B11: 2 | C11: kVA | D11: 80 | E11: 150 | F11: 4678.4791
B12: 3 | C12: kVA | D12: 150 | E12: 231 | F12: 7283.18
B13: 4 | C13: kVA | D13: 231 | E13: ∞ | F13: 16538.414
A14: Designated Properties connected at HV | B14: 1 | C14: kVA | D14: 0 | E14: 422 | F14: 12190.591
B15: 2 | C15: kVA | D15: 422 | E15: 1000 | F15: 38060.105
B16: 3 | C16: kVA | D16: 1000 | E16: 1800 | F16: 82522.318
B17: 4 | C17: kVA | D17: 1800 | E17: ∞ | F17: 153873.32
